Felt | Verdi |
AlreadyApplied | True |
Aperture | 13.0 |
ApertureValue | 13.0 |
AutoLateralCA | 1 |
BitsPerSample | 8 |
Blacks2012 | 0 |
BlueHue | 0 |
BlueSaturation | 0 |
CameraProfile | Adobe Standard |
CameraProfilesApertureValue | 7.400879 |
CameraProfilesAuthor | Adobe |
CameraProfilesAutoScale | False |
CameraProfilesCameraPrettyName | Nikon Z 9 |
CameraProfilesCameraRawProfile | True |
CameraProfilesFocalLength | 800 |
CameraProfilesFocusDistance | 10000 |
CameraProfilesLens | NIKKOR Z 800mm f/6.3 VR S |
CameraProfilesLensPrettyName | NIKKOR Z 800mm f/6.3 VR S |
CameraProfilesMake | NIKON CORPORATION |
CameraProfilesModel | NIKON Z 9 |
CameraProfilesPerspectiveModelImageXCenter | 0.514007 |
CameraProfilesPerspectiveModelImageYCenter | 0.499857 |
CameraProfilesPerspectiveModelRadialDistortParam1 | 24.072514 |
CameraProfilesPerspectiveModelRadialDistortParam2 | 124.807363 |
CameraProfilesPerspectiveModelRadialDistortParam3 | -1062723.139025 |
CameraProfilesPerspectiveModelScaleFactor | 0.981359 |
CameraProfilesPerspectiveModelVersion | 2 |
CameraProfilesPerspectiveModelVignetteModelImageXCenter | 0.514007 |
CameraProfilesPerspectiveModelVignetteModelImageYCenter | 0.499857 |
CameraProfilesPerspectiveModelVignetteModelVignetteModelParam1 | 1 |
CameraProfilesProfileName | Camera Settings |
CameraProfilesSensorFormatFactor | 1.003485 |
CameraProfilesUniqueCameraModel | Nikon Z 9 |
CFAPattern | [Red,Green][Green,Blue] |
CircleOfConfusion | 0.030 mm |
Clarity2012 | +5 |
ColorComponents | 3 |
ColorGradeBlending | 50 |
ColorGradeGlobalHue | 0 |
ColorGradeGlobalLum | 0 |
ColorGradeGlobalSat | 0 |
ColorGradeHighlightLum | 0 |
ColorGradeMidtoneHue | 0 |
ColorGradeMidtoneLum | 0 |
ColorGradeMidtoneSat | 0 |
ColorGradeShadowLum | 0 |
ColorNoiseReduction | 50 |
ColorNoiseReductionDetail | 50 |
ColorNoiseReductionSmoothness | 50 |
ColorSpace | sRGB |
ColorTemperature | 4900 |
CompatibleVersion | 234881024 |
Contrast | Normal |
Contrast2012 | +5 |
CreateDate (1) | 2023:06:25 13:30:25.80+02:00 |
CreateDate | 2023:06:25 13:30:25 |
CreatorTool | Adobe Photoshop Lightroom Classic 12.4 (Windows) |
CropAngle | 0 |
CropBottom | 0.761701 |
CropConstrainToWarp | 0 |
CropLeft | 0.068066 |
CropRight | 0.760635 |
CropTop | 0.074894 |
CustomRendered | Custom |
DateCreated (1) | 2023:06:25 |
DateCreated | 2023:06:25 13:30:25.80+02:00 |
DateTimeOriginal | 2023:06:25 13:30:25 |
DefringeGreenAmount | 0 |
DefringeGreenHueHi | 60 |
DefringeGreenHueLo | 40 |
DefringePurpleAmount | 0 |
DefringePurpleHueHi | 70 |
DefringePurpleHueLo | 30 |
Dehaze | +5 |
DistortionCorrectionAlreadyApplied | True |
Exposure2012 | 0.00 |
ExposureCompensation | 0 |
ExposureMode | Manual |
ExposureProgram | Manual |
ExposureTime | 1/400 |
Flash | No Flash |
FNumber | 13.0 |
FocalLength | 800.0 mm |
FocalLength35efl | 800.0 mm (35 mm equivalent: 800.0 mm) |
FocalLengthIn35mmFormat | 800 mm |
Format | image/jpeg |
FOV | 2.6 deg |
GainControl | None |
GrainAmount | 0 |
GreenHue | 0 |
GreenSaturation | 0 |
HasCrop | True |
HasSettings | True |
Highlights2012 | -21 |
HueAdjustmentAqua | 0 |
HueAdjustmentBlue | 0 |
HueAdjustmentGreen | 0 |
HueAdjustmentMagenta | 0 |
HueAdjustmentOrange | 0 |
HueAdjustmentPurple | 0 |
HueAdjustmentRed | 0 |
HueAdjustmentYellow | 0 |
HyperfocalDistance | 1638.50 m |
ImageHeight | 2560 |
ImageNumber | 20166 |
ImageSize | 3872x2560 |
ImageWidth | 3872 |
ISO | 400 |
LateralChromaticAberrationCorrectionAlreadyApplied | True |
Lens | NIKKOR Z 800mm f/6.3 VR S |
LensInfo | 800mm f/6.3 |
LensMake | NIKON |
LensManualDistortionAmount | 0 |
LensModel | NIKKOR Z 800mm f/6.3 VR S |
LensProfileDistortionScale | 100 |
LensProfileEnable | 1 |
LensProfileIsEmbedded | True |
LensProfileName | Camera Settings |
LensProfileSetup | LensDefaults |
LensProfileVignettingScale | 100 |
LensSerialNumber | 20006875 |
LightSource | Unknown |
LightValue | 14.0 |
LookAmount | 1 |
LookGroup | Profiles |
LookName | Adobe Color |
LookParametersCameraProfile | Adobe Standard |
LookParametersConvertToGrayscale | False |
LookParametersLookTable | E1095149FDB39D7A057BAB208837E2E1 |
LookParametersProcessVersion | 15.4 |
LookParametersToneCurvePV2012 | 0, 0, 22, 16, 40, 35, 127, 127, 224, 230, 240, 246, 255, 255 |
LookParametersToneCurvePV2012Blue | 0, 0, 255, 255 |
LookParametersToneCurvePV2012Green | 0, 0, 255, 255 |
LookParametersToneCurvePV2012Red | 0, 0, 255, 255 |
LookParametersVersion | 15.4 |
LookSupportsAmount | false |
LookSupportsMonochrome | false |
LookSupportsOutputReferred | false |
LuminanceAdjustmentAqua | 0 |
LuminanceAdjustmentBlue | 0 |
LuminanceAdjustmentGreen | 0 |
LuminanceAdjustmentMagenta | 0 |
LuminanceAdjustmentOrange | 0 |
LuminanceAdjustmentPurple | 0 |
LuminanceAdjustmentRed | 0 |
LuminanceAdjustmentYellow | 0 |
LuminanceNoiseReductionContrast | 0 |
LuminanceNoiseReductionDetail | 55 |
LuminanceSmoothing | 10 |
Make | NIKON CORPORATION |
Megapixels | 9.9 |
MeteringMode | Center-weighted average |
Model | NIKON Z 9 |
ModifyDate (1) | 2023:06:28 19:43:23+02:00 |
ModifyDate | 2023:06:28 19:43:23 |
Orientation | Horizontal (normal) |
OverrideLookVignette | False |
ParametricDarks | 0 |
ParametricHighlights | -43 |
ParametricHighlightSplit | 75 |
ParametricLights | +15 |
ParametricMidtoneSplit | 50 |
ParametricShadows | 0 |
ParametricShadowSplit | 25 |
PerspectiveAspect | 0 |
PerspectiveHorizontal | 0 |
PerspectiveRotate | 0.0 |
PerspectiveScale | 113 |
PerspectiveUpright | 0 |
PerspectiveVertical | 0 |
PerspectiveX | 0.00 |
PerspectiveY | 0.00 |
PostCropVignetteAmount | 0 |
PreservedFileName | DSC_0183.NEF |
ProcessVersion | 15.4 |
ProfileDescription | sRGB IEC61966-2.1 |
RawFileName | DSC_0183.NEF |
RecommendedExposureIndex | 400 |
RedHue | 0 |
RedSaturation | 0 |
Saturation (1) | +10 |
Saturation | Normal |
SaturationAdjustmentAqua | 0 |
SaturationAdjustmentBlue | 0 |
SaturationAdjustmentGreen | 0 |
SaturationAdjustmentMagenta | 0 |
SaturationAdjustmentOrange | 0 |
SaturationAdjustmentPurple | 0 |
SaturationAdjustmentRed | 0 |
SaturationAdjustmentYellow | 0 |
ScaleFactor35efl | 1.0 |
SceneCaptureType | Standard |
SceneType | Directly photographed |
SensingMethod | One-chip color area |
SensitivityType | Recommended Exposure Index |
SerialNumber | 6025745 |
Shadows2012 | +24 |
ShadowTint | 0 |
SharpenDetail | 25 |
SharpenEdgeMasking | 91 |
SharpenRadius | +1.0 |
Sharpness (1) | 50 |
Sharpness | Normal |
ShutterSpeed | 1/400 |
ShutterSpeedValue | 1/400 |
Software | Adobe Photoshop Lightroom Classic 12.4 (Windows) |
SplitToningBalance | 0 |
SplitToningHighlightHue | 0 |
SplitToningHighlightSaturation | 0 |
SplitToningShadowHue | 0 |
SplitToningShadowSaturation | 0 |
SubjectDistanceRange | Unknown |
Texture | +10 |
Tint | +22 |
ToneCurveName2012 | Linear |
ToneCurvePV2012 | 0, 0, 255, 255 |
ToneCurvePV2012Blue | 0, 0, 255, 255 |
ToneCurvePV2012Green | 0, 0, 255, 255 |
ToneCurvePV2012Red | 0, 0, 255, 255 |
Version | 15.4 |
Vibrance | +10 |
VignetteAmount | 0 |
VignetteCorrectionAlreadyApplied | True |
WhiteBalance (1) | As Shot |
WhiteBalance | Auto |
Whites2012 | 0 |