Felt | Verdi |
AlreadyApplied | True |
Aperture | 4.5 |
ApertureValue | 4.5 |
ApproximateFocusDistance | 4294967295 |
Artist | Alexander Skanke |
AutoLateralCA | 0 |
BitsPerSample | 8 |
Blacks2012 | -58 |
BlueHue | 0 |
BlueSaturation | 0 |
By-line | Alexander Skanke |
CameraProfile | Adobe Standard v2 |
CircleOfConfusion | 0.005 mm |
Clarity2012 | 0 |
ColorComponents | 3 |
ColorGradeBlending | 50 |
ColorGradeGlobalHue | 0 |
ColorGradeGlobalLum | 0 |
ColorGradeGlobalSat | 0 |
ColorGradeHighlightLum | 0 |
ColorGradeMidtoneHue | 0 |
ColorGradeMidtoneLum | 0 |
ColorGradeMidtoneSat | 0 |
ColorGradeShadowLum | 0 |
ColorNoiseReduction | 25 |
ColorNoiseReductionDetail | 50 |
ColorNoiseReductionSmoothness | 50 |
ColorSpace | Uncalibrated |
ColorTemperature | 6250 |
ColorTransform | YCbCr |
CompatibleVersion | 251658240 |
Contrast2012 | 0 |
Copyright | Alexander Skanke |
CopyrightNotice | Alexander Skanke |
CreateDate (1) | 2023:07:20 17:18:15.29+01:00 |
CreateDate | 2023:07:20 17:18:15 |
Creator | Alexander Skanke |
CreatorTool | Adobe Photoshop Lightroom Classic 12.4 (Macintosh) |
CropAngle | 0 |
CropBottom | 0.701866 |
CropConstrainToWarp | 0 |
CropLeft | 0.10777 |
CropRight | 0.783654 |
CropTop | 0.025982 |
CustomRendered | Normal |
DateCreated (1) | 2023:07:20 |
DateCreated | 2023:07:20 17:18:15.29+01:00 |
DateTimeOriginal | 2023:07:20 17:18:15 |
Dehaze | -8 |
DOF | inf (50.74 m - inf) |
Exposure2012 | 0.00 |
ExposureCompensation | 0 |
ExposureMode | Auto |
ExposureProgram | Aperture-priority AE |
ExposureTime | 1/80 |
Firmware | 1.8.0 |
Flash | No Flash |
FlashCompensation | 0 |
FNumber | 4.5 |
FocalLength | 35.0 mm |
FocalLength35efl | 35.0 mm (35 mm equivalent: 196.0 mm) |
Format | image/jpeg |
FOV | 10.5 deg |
GrainAmount | 0 |
GrayMixerAqua | -19 |
GrayMixerBlue | -31 |
GrayMixerGreen | +47 |
GrayMixerMagenta | 0 |
GrayMixerOrange | +41 |
GrayMixerPurple | 0 |
GrayMixerRed | -3 |
GrayMixerYellow | +34 |
GreenHue | 0 |
GreenSaturation | 0 |
HasCrop | True |
HasSettings | True |
Highlights2012 | 0 |
HyperfocalDistance | 50.74 m |
ImageHeight | 800 |
ImageNumber | 0 |
ImageSize | 1200x800 |
ImageWidth | 1200 |
ISO | 125 |
Lens | 35mm F1.4 DG HSM | Art 012 |
LensID (1) | 368 |
LensID | Unknown (368) 35mm |
LensInfo | 35mm f/? |
LensManualDistortionAmount | 0 |
LensModel | 35mm F1.4 DG HSM | Art 012 |
LensProfileDistortionScale | 100 |
LensProfileEnable | 0 |
LensProfileFilename | Canon (SIGMA 35mm F1.4 DG HSM A012) - RAW.lcp |
LensProfileIsEmbedded | False |
LensProfileName | Adobe (SIGMA 35mm F1.4 DG HSM A012, Canon) |
LensProfileSetup | LensDefaults |
LensProfileVignettingScale | 100 |
LensSerialNumber | 0000000000 |
LightValue | 10.3 |
LookAmount | 1 |
LookCluster | Adobe |
LookGroup | B&W |
LookName | B&W 11 |
LookParametersClarity2012 | +18 |
LookParametersContrast2012 | +8 |
LookParametersConvertToGrayscale | True |
LookParametersHighlights2012 | -50 |
LookParametersLookTable | 62CE423BDCA099FE0B786CA01EB606B0 |
LookParametersProcessVersion | 15.4 |
LookParametersShadows2012 | +20 |
LookParametersToneCurvePV2012 | 0, 24, 17, 26, 34, 31, 51, 40, 68, 57, 85, 79, 102, 104, 119, 129, 136, 151, 153, 168, 170, 182, 187, 194, 204, 205, 221, 214, 238, 223, 255, 232 |
LookParametersToneCurvePV2012Blue | 0, 0, 255, 255 |
LookParametersToneCurvePV2012Green | 0, 0, 255, 255 |
LookParametersToneCurvePV2012Red | 0, 0, 255, 255 |
LookParametersVersion | 15.4 |
LookSortName | B&W 11 |
LookSupportsMonochrome | false |
LuminanceSmoothing | 0 |
Make | Canon |
MaxApertureValue | 1.4 |
Megapixels | 0.960 |
MeteringMode | Multi-segment |
Model | Canon EOS R |
ModifyDate (1) | 2023:07:22 11:41:37+02:00 |
ModifyDate | 2023:07:22 11:41:37 |
OverrideLookVignette | False |
ParametricDarks | 0 |
ParametricHighlights | 0 |
ParametricHighlightSplit | 75 |
ParametricLights | 0 |
ParametricMidtoneSplit | 50 |
ParametricShadows | 0 |
ParametricShadowSplit | 25 |
PerspectiveAspect | 0 |
PerspectiveHorizontal | 0 |
PerspectiveRotate | 0.0 |
PerspectiveScale | 100 |
PerspectiveUpright | 0 |
PerspectiveVertical | 0 |
PerspectiveX | 0.00 |
PerspectiveY | 0.00 |
PostCropVignetteAmount | -11 |
PostCropVignetteFeather | 100 |
PostCropVignetteHighlightContrast | 100 |
PostCropVignetteMidpoint | 0 |
PostCropVignetteRoundness | +100 |
PostCropVignetteStyle | 1 |
PreservedFileName | _85A3055.CR3 |
ProcessVersion | 15.4 |
ProfileDescription | Adobe RGB (1998) |
Rating | 2 |
RawFileName | _85A3055.CR3 |
RecommendedExposureIndex | 125 |
RedHue | 0 |
RedSaturation | 0 |
Rights | Alexander Skanke |
ScaleFactor35efl | 5.6 |
SceneCaptureType | Standard |
SensitivityType | Recommended Exposure Index |
SerialNumber | 033021005125 |
Shadows2012 | +24 |
ShadowTint | 0 |
SharpenDetail | 25 |
SharpenEdgeMasking | 0 |
SharpenRadius | +1.0 |
Sharpness | 40 |
ShutterSpeed | 1/80 |
ShutterSpeedValue | 1/80 |
Software | Adobe Photoshop Lightroom Classic 12.4 (Macintosh) |
SplitToningBalance | 0 |
SplitToningHighlightHue | 0 |
SplitToningHighlightSaturation | 0 |
SplitToningShadowHue | 0 |
SplitToningShadowSaturation | 0 |
Texture | 0 |
Tint | +38 |
ToneCurveName2012 | Custom |
ToneCurvePV2012 | 0, 0, 20, 9, 119, 92, 230, 233, 255, 255 |
ToneCurvePV2012Blue | 0, 0, 255, 255 |
ToneCurvePV2012Green | 0, 0, 255, 255 |
ToneCurvePV2012Red | 0, 0, 255, 255 |
Version | 15.4 |
VignetteAmount | 0 |
WhiteBalance (1) | As Shot |
WhiteBalance | Auto |
Whites2012 | +24 |