Felt | Verdi |
AlreadyApplied | True |
Aperture | 6.3 |
ApertureValue | 6.3 |
ApproximateFocusDistance | 4294967295 |
AutoLateralCA | 1 |
BitsPerSample | 8 |
Blacks2012 | 0 |
BlueHue | 0 |
BlueSaturation | 0 |
CameraProfile | Adobe Standard |
CircleOfConfusion | 0.013 mm |
Clarity2012 | +22 |
ColorComponents | 3 |
ColorGradeBlending | 50 |
ColorGradeGlobalHue | 0 |
ColorGradeGlobalLum | 0 |
ColorGradeGlobalSat | 0 |
ColorGradeHighlightLum | 0 |
ColorGradeMidtoneHue | 0 |
ColorGradeMidtoneLum | 0 |
ColorGradeMidtoneSat | 0 |
ColorGradeShadowLum | 0 |
ColorNoiseReduction | 40 |
ColorNoiseReductionDetail | 50 |
ColorNoiseReductionSmoothness | 50 |
ColorSpace | Uncalibrated |
ColorTemperature | 5300 |
ColorTransform | YCbCr |
CompatibleVersion | 268435456 |
Contrast2012 | +18 |
CreateDate (1) | 2023:09:29 07:31:23.99Z |
CreateDate | 2023:09:29 07:31:23 |
CreatorTool | Adobe Photoshop Lightroom Classic 13.0 (Macintosh) |
CropAngle | 0 |
CropBottom | 0.626916 |
CropConstrainToWarp | 0 |
CropLeft | 0.248655 |
CropRight | 0.609763 |
CropTop | 0.047924 |
CustomRendered | Normal |
DateCreated (1) | 2023:09:29 |
DateCreated | 2023:09:29 07:31:23.99Z |
DateTimeOriginal | 2023:09:29 07:31:23 |
DefringeGreenAmount | 0 |
DefringeGreenHueHi | 60 |
DefringeGreenHueLo | 40 |
DefringePurpleAmount | 0 |
DefringePurpleHueHi | 70 |
DefringePurpleHueLo | 30 |
Dehaze | +12 |
DepthMapInfoBaseHighlightGuideTable | E934941FB706735ECF4506FB51EA99D3 |
DepthMapInfoBaseHighlightGuideVersion | 1 |
DepthMapInfoBaseLayeredDepthTable | 3E0D9C909C0E3753830D7CE357FF504D |
DepthMapInfoBaseLayeredDepthVersion | 1 |
DepthMapInfoBaseRawDepthTable | C1DF4EADA23C024A87A35949B644580B |
DepthMapInfoBaseRawDepthVersion | 1 |
DepthMapInfoDepthSource | 2 |
DistortionCorrectionAlreadyApplied | True |
DOF | inf (2432.51 m - inf) |
EnhanceDenoiseAlreadyApplied | True |
EnhanceDenoiseLumaAmount | 100 |
EnhanceDenoiseVersion | 251658240 |
EnhanceDetailsAlreadyApplied | True |
EnhanceDetailsVersion | 218300416 |
Exposure2012 | +1.05 |
ExposureCompensation | 0 |
ExposureMode | Manual |
ExposureProgram | Manual |
ExposureTime | 1/100 |
Firmware | 1.8.2 |
Flash | No Flash |
FlashCompensation | 0 |
FNumber | 6.3 |
FocalLength | 450.0 mm |
FocalLength35efl | 450.0 mm (35 mm equivalent: 1023.2 mm) |
Format | image/jpeg |
FOV | 2.0 deg |
GrainAmount | 0 |
GrayMixerAqua | -18 |
GrayMixerBlue | +9 |
GrayMixerGreen | -26 |
GrayMixerMagenta | +3 |
GrayMixerOrange | -18 |
GrayMixerPurple | +15 |
GrayMixerRed | -10 |
GrayMixerYellow | -22 |
GreenHue | 0 |
GreenSaturation | 0 |
HasCrop | True |
HasSettings | True |
HDREditMode | 0 |
HDRMaxValue | +2.00 |
Highlights2012 | -100 |
HueAdjustmentAqua | 0 |
HueAdjustmentBlue | 0 |
HueAdjustmentGreen | 0 |
HueAdjustmentMagenta | 0 |
HueAdjustmentOrange | 0 |
HueAdjustmentPurple | 0 |
HueAdjustmentRed | 0 |
HueAdjustmentYellow | 0 |
HyperfocalDistance | 2432.51 m |
ImageHeight | 2112 |
ImageNumber | 0 |
ImageSize | 1976x2112 |
ImageWidth | 1976 |
ISO | 4000 |
LateralChromaticAberrationCorrectionAlreadyApplied | True |
Lens | TAMRON SP 150-600mm F/5-6.3 Di VC USD G2 A022 |
LensBlurActive | true |
LensBlurBlurAmount | 11 |
LensBlurBokehAspect | 0 |
LensBlurBokehRotation | 0 |
LensBlurBokehShape | 0 |
LensBlurBokehShapeDetail | 0 |
LensBlurCatEyeAmount | 0 |
LensBlurCatEyeScale | 100 |
LensBlurFocalRange | -29 51 90 170 |
LensBlurFocalRangeSource | 1 |
LensBlurHighlightsBoost | 50 |
LensBlurHighlightsThreshold | 50 |
LensBlurSampledArea | 0.337420 0.429209 0.337420 0.429209 |
LensBlurSampledRange | 0 0 |
LensBlurSphericalAberration | 0 |
LensBlurSubjectRange | 51 90 |
LensBlurVersion | 1 |
LensID (1) | 747 |
LensID | Tamron SP 150-600mm f/5-6.3 Di VC USD G2 |
LensInfo | 150-600mm f/? |
LensManualDistortionAmount | 0 |
LensModel | TAMRON SP 150-600mm F/5-6.3 Di VC USD G2 A022 |
LensProfileDistortionScale | 100 |
LensProfileEnable | 1 |
LensProfileFilename | Canon (TAMRON SP 150-600mm F_5-6.3 Di VC USD G2 A022E) - RAW.lcp |
LensProfileIsEmbedded | False |
LensProfileName | Adobe (TAMRON SP 150-600mm F/5-6.3 Di VC USD G2 A022E) |
LensProfileSetup | LensDefaults |
LensProfileVignettingScale | 100 |
LensSerialNumber | 0000000000 |
LightValue | 6.6 |
LookAmount | 1 |
LookGroup | Profiles |
LookName | Adobe Color |
LookParametersCameraProfile | Adobe Standard |
LookParametersConvertToGrayscale | False |
LookParametersLookTable | E1095149FDB39D7A057BAB208837E2E1 |
LookParametersProcessVersion | 15.4 |
LookParametersToneCurvePV2012 | 0, 0, 22, 16, 40, 35, 127, 127, 224, 230, 240, 246, 255, 255 |
LookParametersToneCurvePV2012Blue | 0, 0, 255, 255 |
LookParametersToneCurvePV2012Green | 0, 0, 255, 255 |
LookParametersToneCurvePV2012Red | 0, 0, 255, 255 |
LookParametersVersion | 16.0 |
LookSupportsAmount | false |
LookSupportsMonochrome | false |
LookSupportsOutputReferred | false |
LuminanceAdjustmentAqua | 0 |
LuminanceAdjustmentBlue | 0 |
LuminanceAdjustmentGreen | 0 |
LuminanceAdjustmentMagenta | 0 |
LuminanceAdjustmentOrange | 0 |
LuminanceAdjustmentPurple | 0 |
LuminanceAdjustmentRed | 0 |
LuminanceAdjustmentYellow | 0 |
LuminanceNoiseReductionContrast | 0 |
LuminanceNoiseReductionDetail | 50 |
LuminanceSmoothing | 24 |
Make | Canon |
MaxApertureValue | 6.2 |
Megapixels | 4.2 |
MeteringMode | Multi-segment |
Model | Canon EOS R6 |
ModifyDate (1) | 2023:10:09 09:56:47+02:00 |
ModifyDate | 2023:10:09 09:56:47 |
OverrideLookVignette | False |
ParametricDarks | 0 |
ParametricHighlights | 0 |
ParametricHighlightSplit | 75 |
ParametricLights | 0 |
ParametricMidtoneSplit | 50 |
ParametricShadows | 0 |
ParametricShadowSplit | 25 |
PerspectiveAspect | 0 |
PerspectiveHorizontal | 0 |
PerspectiveRotate | 0.0 |
PerspectiveScale | 100 |
PerspectiveUpright | 0 |
PerspectiveVertical | 0 |
PerspectiveX | 0.00 |
PerspectiveY | 0.00 |
PostCropVignetteAmount | 0 |
PreservedFileName | Bilde-4259.CR3 |
ProcessVersion | 15.4 |
ProfileDescription | Adobe RGB (1998) |
RawFileName | Bilde-4259-Enhanced-NR.dng |
RecommendedExposureIndex | 4000 |
RedHue | 0 |
RedSaturation | 0 |
Saturation | -17 |
SaturationAdjustmentAqua | 0 |
SaturationAdjustmentBlue | 0 |
SaturationAdjustmentGreen | 0 |
SaturationAdjustmentMagenta | 0 |
SaturationAdjustmentOrange | 0 |
SaturationAdjustmentPurple | 0 |
SaturationAdjustmentRed | 0 |
SaturationAdjustmentYellow | 0 |
ScaleFactor35efl | 2.3 |
SceneCaptureType | Standard |
SensitivityType | Recommended Exposure Index |
SerialNumber | 273029000848 |
Shadows2012 | +100 |
ShadowTint | 0 |
SharpenDetail | 25 |
SharpenEdgeMasking | 0 |
SharpenRadius | +0.8 |
Sharpness | 75 |
ShutterSpeed | 1/100 |
ShutterSpeedValue | 1/100 |
Software | Adobe Photoshop Lightroom Classic 13.0 (Macintosh) |
SplitToningBalance | 0 |
SplitToningHighlightHue | 0 |
SplitToningHighlightSaturation | 0 |
SplitToningShadowHue | 0 |
SplitToningShadowSaturation | 0 |
Texture | 0 |
Tint | +13 |
ToneCurveName2012 | Linear |
ToneCurvePV2012 | 0, 0, 255, 255 |
ToneCurvePV2012Blue | 0, 0, 255, 255 |
ToneCurvePV2012Green | 0, 0, 255, 255 |
ToneCurvePV2012Red | 0, 0, 255, 255 |
Version | 16.0 |
Vibrance | -16 |
VignetteAmount | 0 |
VignetteCorrectionAlreadyApplied | True |
WhiteBalance (1) | As Shot |
WhiteBalance | Auto |
Whites2012 | +39 |