Felt | Verdi |
AlreadyApplied | True |
Aperture | 9.0 |
ApertureValue | 9.0 |
ApproximateFocusDistance | 84.3 |
Artist | ch |
AutoLateralCA | 0 |
BitsPerSample | 8 |
Blacks2012 | 0 |
BlueHue | 0 |
BlueSaturation | 0 |
By-line | ch |
CameraProfile | Embedded |
CircleOfConfusion | 0.014 mm |
Clarity2012 | 0 |
ColorComponents | 3 |
ColorGradeBlending | 50 |
ColorGradeGlobalHue | 0 |
ColorGradeGlobalLum | 0 |
ColorGradeGlobalSat | 0 |
ColorGradeHighlightLum | 0 |
ColorGradeMidtoneHue | 0 |
ColorGradeMidtoneLum | 0 |
ColorGradeMidtoneSat | 0 |
ColorGradeShadowLum | 0 |
ColorNoiseReduction | 0 |
ColorSpace (1) | Uncalibrated |
ColorSpace | sRGB |
ColorTransform | YCbCr |
Contrast2012 | 0 |
ConvertToGrayscale | False |
CreateDate (1) | 2023:10:17 11:11:27+03:00 |
CreateDate | 2023:10:17 11:11:27 |
Creator | ch |
CreatorTool | Adobe Photoshop Lightroom Classic 13.0 (Windows) |
CropAngle | 0 |
CropBottom | 1 |
CropConstrainToWarp | 0 |
CropLeft | 0 |
CropRight | 1 |
CropTop | 0 |
CustomRendered | Normal |
DateCreated (1) | 2023:10:17 |
DateCreated | 2023:10:17 11:11:27+03:00 |
DateTimeOriginal | 2023:10:17 11:11:27 |
DefringeGreenAmount | 0 |
DefringeGreenHueHi | 60 |
DefringeGreenHueLo | 40 |
DefringePurpleAmount | 0 |
DefringePurpleHueHi | 70 |
DefringePurpleHueLo | 30 |
Dehaze | 0 |
DOF | inf (18.82 m - inf) |
Exposure2012 | +0.07 |
ExposureCompensation | -2/3 |
ExposureMode | Auto |
ExposureProgram | Aperture-priority AE |
ExposureTime | 1/160 |
Firmware | 1.0.3 |
Flash | No Flash |
FlashCompensation | 0 |
FNumber | 9.0 |
FocalLength | 55.0 mm |
FocalLength35efl | 55.0 mm (35 mm equivalent: 119.1 mm) |
Format | image/jpeg |
FOV | 17.2 deg |
GrainAmount | 0 |
GreenHue | 0 |
GreenSaturation | 0 |
HasCrop | False |
HasSettings | True |
HDREditMode | 0 |
Highlights2012 | 0 |
HueAdjustmentAqua | 0 |
HueAdjustmentBlue | 0 |
HueAdjustmentGreen | 0 |
HueAdjustmentMagenta | 0 |
HueAdjustmentOrange | 0 |
HueAdjustmentPurple | 0 |
HueAdjustmentRed | 0 |
HueAdjustmentYellow | 0 |
HyperfocalDistance | 24.21 m |
ImageHeight | 2907 |
ImageNumber | 0 |
ImageSize | 4759x2907 |
ImageWidth | 4759 |
IncrementalTemperature | 0 |
IncrementalTint | 0 |
ISO | 100 |
Lens | EF-M55-200mm f/4.5-6.3 IS STM |
LensID (1) | 4149 |
LensID | Canon EF-M 55-200mm f/4.5-6.3 IS STM |
LensInfo (2) | 55 |
LensInfo | 55-200mm f/? |
LensManualDistortionAmount | 0 |
LensModel | EF-M55-200mm f/4.5-6.3 IS STM |
LensProfileEnable | 0 |
LensSerialNumber | 0000098dc0 |
LightValue | 13.7 |
LuminanceAdjustmentAqua | 0 |
LuminanceAdjustmentBlue | 0 |
LuminanceAdjustmentGreen | 0 |
LuminanceAdjustmentMagenta | 0 |
LuminanceAdjustmentOrange | 0 |
LuminanceAdjustmentPurple | 0 |
LuminanceAdjustmentRed | 0 |
LuminanceAdjustmentYellow | 0 |
LuminanceSmoothing | 0 |
Make | Canon |
MaxApertureValue | 4.6 |
Megapixels | 13.8 |
MeteringMode | Center-weighted average |
Model | Canon EOS M50m2 |
ModifyDate (1) | 2023:10:17 15:04:40+02:00 |
ModifyDate | 2023:10:17 15:04:40 |
OverrideLookVignette | False |
ParametricDarks | 0 |
ParametricHighlights | 0 |
ParametricHighlightSplit | 75 |
ParametricLights | 0 |
ParametricMidtoneSplit | 50 |
ParametricShadows | 0 |
ParametricShadowSplit | 25 |
PerspectiveAspect | 0 |
PerspectiveHorizontal | 0 |
PerspectiveRotate | 0.0 |
PerspectiveScale | 100 |
PerspectiveUpright | 0 |
PerspectiveVertical | 0 |
PerspectiveX | 0.00 |
PerspectiveY | 0.00 |
PostCropVignetteAmount | 0 |
PreservedFileName | _MG_1459.CR3 |
ProcessVersion | 15.4 |
ProfileDescription | sRGB IEC61966-2.1 |
RawFileName | _MG_1459-Rediger-Rediger.tif |
RecommendedExposureIndex | 100 |
RedHue | 0 |
RedSaturation | 0 |
Saturation (1) | 0 |
Saturation | High |
SaturationAdjustmentAqua | 0 |
SaturationAdjustmentBlue | 0 |
SaturationAdjustmentGreen | 0 |
SaturationAdjustmentMagenta | 0 |
SaturationAdjustmentOrange | 0 |
SaturationAdjustmentPurple | 0 |
SaturationAdjustmentRed | 0 |
SaturationAdjustmentYellow | 0 |
ScaleFactor35efl | 2.2 |
SceneCaptureType | Standard |
SensitivityType | Recommended Exposure Index |
SerialNumber | 233052013180 |
Shadows2012 | 0 |
ShadowTint | 0 |
Sharpness (1) | 0 |
Sharpness | Hard |
ShutterSpeed | 1/160 |
ShutterSpeedValue | 1/160 |
Software | Adobe Photoshop Lightroom Classic 13.0 (Windows) |
SplitToningBalance | 0 |
SplitToningHighlightHue | 0 |
SplitToningHighlightSaturation | 0 |
SplitToningShadowHue | 0 |
SplitToningShadowSaturation | 0 |
Texture | 0 |
ToneCurveName2012 | Linear |
ToneCurvePV2012 | 0, 0, 255, 255 |
ToneCurvePV2012Blue | 0, 0, 255, 255 |
ToneCurvePV2012Green | 0, 0, 255, 255 |
ToneCurvePV2012Red | 0, 0, 255, 255 |
Version | 16.0 |
Vibrance | 0 |
VignetteAmount | 0 |
WhiteBalance (1) | As Shot |
WhiteBalance | Manual |
Whites2012 | 0 |