Felt | Verdi |
AlreadyApplied | True |
Aperture | 8.0 |
ApertureValue | 8.0 |
Artist | |
AutoLateralCA | 0 |
BitsPerSample | 8 |
Blacks2012 | +5 |
BlueHue | 0 |
BlueSaturation | -41 |
BrightnessValue | -4.92 |
By-line | |
CameraProfile | Embedded |
CircleOfConfusion | 0.020 mm |
Clarity2012 | 0 |
ColorComponents | 3 |
ColorGradeBlending | 50 |
ColorGradeGlobalHue | 0 |
ColorGradeGlobalLum | 0 |
ColorGradeGlobalSat | 0 |
ColorGradeHighlightLum | 0 |
ColorGradeMidtoneHue | 0 |
ColorGradeMidtoneLum | 0 |
ColorGradeMidtoneSat | 0 |
ColorGradeShadowLum | 0 |
ColorMode | RGB |
ColorNoiseReduction | 0 |
ColorSpace | sRGB |
ColorTransform | YCbCr |
CompatibleVersion | 234881024 |
Contrast2012 | 0 |
Copyright | |
CopyrightNotice | |
CreateDate | 2024:02:06 19:16:02 |
Creator | |
CreatorTool | Luminar Neo |
CropAngle | 0 |
CropBottom | 1 |
CropConstrainToWarp | 0 |
CropLeft | 0.025453 |
CropRight | 0.938326 |
CropTop | 0 |
CustomRendered | Normal |
DateCreated (1) | 2024:02:06 |
DateCreated | 2024:02:06 19:16:02+02:00 |
DateTimeOriginal | 2024:02:06 19:16:02 |
DefringeGreenAmount | 0 |
DefringeGreenHueHi | 60 |
DefringeGreenHueLo | 40 |
DefringePurpleAmount | 0 |
DefringePurpleHueHi | 70 |
DefringePurpleHueLo | 30 |
Dehaze | 0 |
ExifImageHeight | 1870 |
ExifImageWidth | 2560 |
Exposure2012 | +0.75 |
ExposureCompensation | -3 |
ExposureMode | Auto bracket |
ExposureProgram | Program AE |
ExposureTime | 3.1 |
Flash | No Flash |
FNumber | 8.0 |
FocalLength | 19.2 mm |
FocalLength35efl | 19.2 mm (35 mm equivalent: 29.0 mm) |
FocalLengthIn35mmFormat | 29 mm |
Format | image/jpeg |
FOV | 63.7 deg |
FujiRatingAlreadyApplied | True |
GrainAmount | 0 |
GreenHue | 0 |
GreenSaturation | -7 |
HasCrop | True |
HasSettings | True |
HDREditMode | 0 |
Highlights2012 | -72 |
HueAdjustmentAqua | 0 |
HueAdjustmentBlue | 0 |
HueAdjustmentGreen | 0 |
HueAdjustmentMagenta | 0 |
HueAdjustmentOrange | 0 |
HueAdjustmentPurple | 0 |
HueAdjustmentRed | 0 |
HueAdjustmentYellow | 0 |
HyperfocalDistance | 2.32 m |
ICCProfileName | sRGB IEC61966-2.1 |
ImageHeight | 1870 |
ImageSize | 2560x1870 |
ImageWidth | 2560 |
IncrementalTemperature | -12 |
IncrementalTint | +19 |
ISO | 160 |
Lens | XF16-80mmF4 R OIS WR |
LensInfo | 16-80mm f/4 |
LensManualDistortionAmount | 0 |
LensModel | XF16-80mmF4 R OIS WR |
LensProfileEnable | 0 |
LightSource | Unknown |
LightValue | 3.7 |
LookAmount | 1 |
LookName | Adobe Color |
LookParametersCameraProfile | Adobe Standard |
LookParametersConvertToGrayscale | False |
LookParametersLookTable | E1095149FDB39D7A057BAB208837E2E1 |
LookParametersProcessVersion | 15.4 |
LookParametersToneCurvePV2012 | 0, 0, 22, 16, 40, 35, 127, 127, 224, 230, 240, 246, 255, 255 |
LookParametersVersion | 16.1.1 |
LuminanceAdjustmentAqua | 0 |
LuminanceAdjustmentBlue | 0 |
LuminanceAdjustmentGreen | 0 |
LuminanceAdjustmentMagenta | 0 |
LuminanceAdjustmentOrange | 0 |
LuminanceAdjustmentPurple | 0 |
LuminanceAdjustmentRed | 0 |
LuminanceAdjustmentYellow | 0 |
LuminanceSmoothing | 0 |
Make | FUJIFILM |
MaxApertureValue | 4.0 |
Megapixels | 4.8 |
MeteringMode | Multi-segment |
Model | X-T4 |
ModifyDate (1) | 2024:02:06 20:07:09+01:00 |
ModifyDate | 2024:02:06 20:07:09 |
Orientation | Horizontal (normal) |
OverrideLookVignette | False |
ParametricDarks | 0 |
ParametricHighlights | 0 |
ParametricHighlightSplit | 75 |
ParametricLights | 0 |
ParametricMidtoneSplit | 50 |
ParametricShadows | 0 |
ParametricShadowSplit | 25 |
PerspectiveAspect | 0 |
PerspectiveHorizontal | 0 |
PerspectiveRotate | 0.0 |
PerspectiveScale | 100 |
PerspectiveUpright | 1 |
PerspectiveVertical | 0 |
PerspectiveX | 0.00 |
PerspectiveY | 0.00 |
PointColors | -1.000000, -1.000000, -1.000000, -1.000000, -1.000000, -1.000000, -1.000000, -1.000000, -1.000000, -1.000000, -1.000000, -1.000000, -1.000000, -1.000000, -1.000000, -1.000000, -1.000000, -1.000000, -1.000000 |
PostCropVignetteAmount | 0 |
ProcessVersion | 15.4 |
ProfileDescription | sRGB IEC61966-2.1 |
Rating | 0 |
RedHue | 0 |
RedSaturation | +26 |
Rights | |
Saturation | +16 |
SaturationAdjustmentAqua | 0 |
SaturationAdjustmentBlue | 0 |
SaturationAdjustmentGreen | 0 |
SaturationAdjustmentMagenta | 0 |
SaturationAdjustmentOrange | 0 |
SaturationAdjustmentPurple | 0 |
SaturationAdjustmentRed | 0 |
SaturationAdjustmentYellow | 0 |
ScaleFactor35efl | 1.5 |
SceneCaptureType | Standard |
SceneType | Directly photographed |
SensingMethod | One-chip color area |
SensitivityType | Standard Output Sensitivity |
SerialNumber | 1BQ08156 |
Shadows2012 | -2 |
ShadowTint | 0 |
SharpenDetail | 25 |
SharpenEdgeMasking | 0 |
SharpenRadius | +1.0 |
Sharpness (1) | 30 |
Sharpness | Normal |
ShutterSpeed | 3.1 |
ShutterSpeedValue | 3.1 |
Software | Adobe Photoshop 25.4 (Windows) |
SplitToningBalance | 0 |
SplitToningHighlightHue | 0 |
SplitToningHighlightSaturation | 0 |
SplitToningShadowHue | 0 |
SplitToningShadowSaturation | 0 |
SubjectDistanceRange | Unknown |
Texture | 0 |
ToneCurveName2012 | Linear |
ToneCurvePV2012 | 0, 0, 255, 255 |
ToneCurvePV2012Blue | 0, 0, 255, 255 |
ToneCurvePV2012Green | 0, 0, 255, 255 |
ToneCurvePV2012Red | 0, 0, 255, 255 |
URL_List | |
Version | 16.1.1 |
Vibrance | +8 |
VignetteAmount | 0 |
WhiteBalance (1) | Custom |
WhiteBalance | Auto |
Whites2012 | +21 |