Felt | Verdi |
AlreadyApplied | True |
BitsPerSample | 8 |
Blacks2012 | 0 |
Clarity2012 | +12 |
ColorComponents | 1 |
ColorGradeBlending | 50 |
ColorGradeGlobalHue | 0 |
ColorGradeGlobalLum | 0 |
ColorGradeGlobalSat | 0 |
ColorGradeHighlightLum | 0 |
ColorGradeMidtoneHue | 0 |
ColorGradeMidtoneLum | 0 |
ColorGradeMidtoneSat | 0 |
ColorGradeShadowLum | 0 |
ColorMode | Grayscale |
ColorSpace | Uncalibrated |
ColorTransform | Unknown (RGB or CMYK) |
Contrast2012 | 0 |
CreateDate | 2024:08:05 11:20:52+02:00 |
CreatorTool | SilverFast 8.8.0 r25 (Jun 25 2021) d6df961 25.06. |
Dehaze | 0 |
ExifImageHeight | 2933 |
ExifImageWidth | 4399 |
Exposure2012 | 0.00 |
Format | image/jpeg |
GrainAmount | 0 |
HasCrop | False |
HasSettings | True |
HDREditMode | 0 |
Highlights2012 | 0 |
ICCProfileName | Gray Gamma 1.8 |
ImageHeight | 2933 |
ImageSize | 4399x2933 |
ImageWidth | 4399 |
LensManualDistortionAmount | 0 |
LensProfileEnable | 0 |
LuminanceSmoothing | 0 |
Make | EPSON |
Megapixels | 12.9 |
Model | Perfection V700/V750 |
ModifyDate (1) | 2024:08:06 05:48:35+02:00 |
ModifyDate | 2024:08:06 05:48:35 |
Orientation | Horizontal (normal) |
OverrideLookVignette | False |
ParametricDarks | 0 |
ParametricHighlights | 0 |
ParametricHighlightSplit | 75 |
ParametricLights | 0 |
ParametricMidtoneSplit | 50 |
ParametricShadows | 0 |
ParametricShadowSplit | 25 |
PerspectiveAspect | 0 |
PerspectiveHorizontal | 0 |
PerspectiveRotate | 0.0 |
PerspectiveScale | 100 |
PerspectiveUpright | 0 |
PerspectiveVertical | 0 |
PerspectiveX | 0.00 |
PerspectiveY | 0.00 |
PointColors | -1.000000, -1.000000, -1.000000, -1.000000, -1.000000, -1.000000, -1.000000, -1.000000, -1.000000, -1.000000, -1.000000, -1.000000, -1.000000, -1.000000, -1.000000, -1.000000, -1.000000, -1.000000, -1.000000 |
PostCropVignetteAmount | 0 |
ProcessVersion | 15.4 |
ProfileDescription | Gray Gamma 1.8 |
Rating | 0 |
Shadows2012 | 0 |
SharpenDetail | 25 |
SharpenEdgeMasking | 0 |
SharpenRadius | +1.0 |
Sharpness | 45 |
Software | Adobe Photoshop 25.9 (Macintosh) |
SplitToningBalance | 0 |
SplitToningHighlightHue | 0 |
SplitToningHighlightSaturation | 0 |
SplitToningShadowHue | 0 |
SplitToningShadowSaturation | 0 |
Texture | 0 |
ToneCurveName2012 | Linear |
ToneCurvePV2012 | 0, 0, 255, 255 |
ToneCurvePV2012Blue | 0, 0, 255, 255 |
ToneCurvePV2012Green | 0, 0, 255, 255 |
ToneCurvePV2012Red | 0, 0, 255, 255 |
URL_List | |
Version | 16.4 |
VignetteAmount | 0 |
Whites2012 | 0 |