Felt | Verdi |
AlreadyApplied | True |
Aperture | 6.3 |
ApertureValue | 6.3 |
Artist | Thomas Skogan |
BitsPerSample | 8 |
BlueHue | 0 |
BlueSaturation | 0 |
Brightness | +50 |
By-line | Thomas Skogan |
CameraProfile | ACR 2.4 |
Caption-Abstract | Juleaften 2006 |
CFAPattern | [Blue,Green][Green,Red] |
ChromaticAberrationB | 0 |
ChromaticAberrationR | 0 |
CircleOfConfusion | 0.020 mm |
ColorComponents | 3 |
ColorMode | RGB |
ColorNoiseReduction | 25 |
ColorSpace | sRGB |
ColorTemperature | 6250 |
Contrast (2) | +48 |
Contrast | Normal |
ConvertToGrayscale | False |
Copyright | Thomas Skogan |
CopyrightFlag | False |
CopyrightNotice | Thomas Skogan |
CreateDate (1) | 2006:12:29 11:31:25.2+01:00 |
CreateDate | 2006:12:29 11:31:25 |
Creator | Thomas Skogan |
CreatorAddress | Teglverksgata 1 |
CreatorCity | OSLO |
CreatorCountry | NORWAY |
CreatorPostalCode | 0553 |
CreatorTool | Adobe Photoshop CS2 Windows |
CreatorWorkEmail | tskogan@hotmail.com |
CreatorWorkTelephone | +4793428798 |
CustomRendered | Normal |
DateTimeDigitized | 2006:12:29 11:31:25.20+01:00 |
DateTimeOriginal (1) | 2006:12:29 11:31:25.20+01:00 |
DateTimeOriginal | 2006:12:29 11:31:25 |
Description | Juleaften 2006 |
DigitalZoomRatio | 1 |
ExifImageHeight | 533 |
ExifImageWidth | 800 |
Exposure | +0.33 |
ExposureCompensation | 0 |
ExposureMode | Manual |
ExposureProgram | Manual |
ExposureTime | 1/80 |
FillLight | 0 |
Flash | No Flash |
FlashFired | False |
FlashFunction | False |
FlashMode | Unknown |
FlashRedEyeMode | False |
FlashReturn | No return detection |
FNumber | 6.3 |
FocalLength | 34.0 mm |
FocalLength35efl | 34.0 mm (35 mm equivalent: 51.0 mm) |
FocalLengthIn35mmFormat | 51 mm |
Format | image/jpeg |
FOV | 38.9 deg |
GainControl | None |
GreenHue | 0 |
GreenSaturation | 0 |
HasCrop | False |
HasSettings | True |
HierarchicalKeywords | aGllcmFyY2hpY2FsS2V5d29yZHMgPSB7Cgl7CgkJZmxhdCA9IHsKCQkJImh2aXQiLAoJCX0sCgkJcGF0aCA9IHsKCQkJImh2aXQiLAoJCX0sCgkJcHJpbWFyeSA9ICJodml0IiwKCQl1dWlkID0gIjlCRTU2RjQzLUI4RTEtNEJDNy1CQkUwLUI2ODlDRDMxREIxQSIsCgl9LAoJewoJCWZsYXQgPSB7CgkJCSJ0w6VrZSIsCgkJfSwKCQlwYXRoID0gewoJCQkidMOla2UiLAoJCX0sCgkJcHJpbWFyeSA9ICJ0w6VrZSIsCgkJdXVpZCA9ICI2ODQ1NDVBQy02RDU4LTRGNDMtQUFFRS1BOTVDMDkzMEQwNTciLAoJfSwKCXsKCQlmbGF0ID0gewoJCQkidmludGVyIiwKCQl9LAoJCXBhdGggPSB7CgkJCSJ2aW50ZXIiLAoJCX0sCgkJcHJpbWFyeSA9ICJ2aW50ZXIiLAoJCXV1aWQgPSAiQ0QyMUZEMTYtNUNCOS00RkU3LTg2MTQtQUUxMTUxMThDNTk2IiwKCX0sCn0K |
HighlightRecovery | 0 |
HueAdjustmentAqua | 0 |
HueAdjustmentBlue | 0 |
HueAdjustmentGreen | 0 |
HueAdjustmentMagenta | 0 |
HueAdjustmentOrange | 0 |
HueAdjustmentPurple | 0 |
HueAdjustmentRed | 0 |
HueAdjustmentYellow | 0 |
HyperfocalDistance | 9.16 m |
ICCProfileName | sRGB IEC61966-2.1 |
ImageDescription | Juleaften 2006 |
ImageHeight (1) | 665 |
ImageHeight | 533 |
ImageNumber | 4211 |
ImageSize | 800x533 |
ImageWidth (1) | 1000 |
ImageWidth | 800 |
ISO | 200 |
Keywords | hvit, tåke, vinter |
Lens | 18.0-70.0 mm f/3.5-4.5 |
LensInfo | 18-70mm f/3.5-4.5 |
LightSource | Unknown |
LightValue | 10.6 |
LuminanceAdjustmentAqua | 0 |
LuminanceAdjustmentBlue | 0 |
LuminanceAdjustmentGreen | 0 |
LuminanceAdjustmentMagenta | 0 |
LuminanceAdjustmentOrange | 0 |
LuminanceAdjustmentPurple | 0 |
LuminanceAdjustmentRed | 0 |
LuminanceAdjustmentYellow | 0 |
LuminanceSmoothing | 0 |
Make | NIKON CORPORATION |
MaxApertureValue | 4.0 |
Megapixels | 0.426 |
MeteringMode | Multi-segment |
Model | NIKON D70s |
ModifyDate (1) | 2007:03:10 13:03:11+01:00 |
ModifyDate | 2007:03:10 13:03:11 |
Orientation | Horizontal (normal) |
ParametricDarks | -4 |
ParametricHighlights | +6 |
ParametricHighlightSplit | 75 |
ParametricLights | +8 |
ParametricMidtoneSplit | 50 |
ParametricShadows | -13 |
ParametricShadowSplit | 25 |
PrivateRTKInfo | cHJpdmF0ZVJUS0luZm8gPSB7Cgl7CgkJZmxhdCA9IHsKCQkJImh2aXQiLAoJCX0sCgkJcGF0aCA9IHsKCQkJImh2aXQiLAoJCX0sCgkJcHJpbWFyeSA9ICJodml0IiwKCQl1dWlkID0gIjlCRTU2RjQzLUI4RTEtNEJDNy1CQkUwLUI2ODlDRDMxREIxQSIsCgl9LAoJewoJCWZsYXQgPSB7CgkJCSJ0w6VrZSIsCgkJfSwKCQlwYXRoID0gewoJCQkidMOla2UiLAoJCX0sCgkJcHJpbWFyeSA9ICJ0w6VrZSIsCgkJdXVpZCA9ICI2ODQ1NDVBQy02RDU4LTRGNDMtQUFFRS1BOTVDMDkzMEQwNTciLAoJfSwKCXsKCQlmbGF0ID0gewoJCQkidmludGVyIiwKCQl9LAoJCXBhdGggPSB7CgkJCSJ2aW50ZXIiLAoJCX0sCgkJcHJpbWFyeSA9ICJ2aW50ZXIiLAoJCXV1aWQgPSAiQ0QyMUZEMTYtNUNCOS00RkU3LTg2MTQtQUUxMTUxMThDNTk2IiwKCX0sCn0K |
ProfileDescription | sRGB IEC61966-2.1 |
Rating | 5 |
RedHue | 0 |
RedSaturation | 0 |
Rights | Thomas Skogan |
Saturation (2) | +17 |
Saturation | Normal |
SaturationAdjustmentAqua | 0 |
SaturationAdjustmentBlue | 0 |
SaturationAdjustmentGreen | 0 |
SaturationAdjustmentMagenta | +6 |
SaturationAdjustmentOrange | +6 |
SaturationAdjustmentPurple | 0 |
SaturationAdjustmentRed | +12 |
SaturationAdjustmentYellow | +1 |
ScaleFactor35efl | 1.5 |
SceneCaptureType | Standard |
SceneType | Directly photographed |
SensingMethod | One-chip color area |
Shadows | 5 |
ShadowTint | 0 |
Sharpness (2) | 25 |
Sharpness | Normal |
ShutterSpeed | 1/80 |
ShutterSpeedValue | 1/80 |
Software | Adobe Photoshop CS2 Windows |
SplitToningBalance | 0 |
SplitToningHighlightHue | 0 |
SplitToningHighlightSaturation | 0 |
SplitToningShadowHue | 0 |
SplitToningShadowSaturation | 0 |
Subject | hvit, tåke, vinter |
SubjectDistanceRange | Unknown |
Tint | -2 |
ToneCurve | 0, 0, 32, 22, 64, 56, 128, 128, 192, 196, 255, 255 |
ToneCurveName | Medium Contrast |
URL_List | |
Version | 1.0 |
Vibrance | 0 |
VignetteAmount | 0 |
WhiteBalance (2) | As Shot |
WhiteBalance | Auto |