Felt | Verdi |
AlreadyApplied | True |
Aperture | 7.1 |
ApertureValue | 7.1 |
BitsPerSample | 8 |
BlueHue | 0 |
BlueSaturation | 0 |
Brightness | +38 |
CameraProfile | ACR 3.3 |
CFAPattern | [Green,Red][Blue,Green] |
ChromaticAberrationB | 0 |
ChromaticAberrationR | 0 |
CircleOfConfusion | 0.020 mm |
ColorComponents | 3 |
ColorMode | RGB |
ColorNoiseReduction | 25 |
ColorSpace | sRGB |
ColorTemperature | 7100 |
Contrast (2) | 0 |
Contrast | Normal |
ConvertToGrayscale | False |
Copyright | Wenche Jensen |
CopyrightFlag | False |
CopyrightNotice | Wenche Jensen |
CreateDate (1) | 2007:03:13 20:20:20+01:00 |
CreateDate | 2007:03:10 11:24:59 |
CreatorTool | Adobe Photoshop CS2 Windows |
CropAngle | -6.525821 |
CropBottom | 0.864219 |
CropHeight | 2255 |
CropLeft | 0 |
CropRight | 0.860767 |
CropTop | 0.135781 |
CropUnit | pixels |
CropWidth | 3097 |
CustomRendered | Normal |
DateTimeDigitized | 2007:03:10 11:24:59.08+01:00 |
DateTimeOriginal (1) | 2007:03:10 11:24:59.08+01:00 |
DateTimeOriginal | 2007:03:10 11:24:59 |
DigitalZoomRatio | 1 |
ExifImageHeight | 768 |
ExifImageWidth | 1055 |
Exposure | +0.88 |
ExposureCompensation | 0 |
ExposureMode | Auto |
ExposureProgram | Aperture-priority AE |
ExposureTime | 1/180 |
FillLight | 0 |
Flash | No Flash |
FlashFired | False |
FlashFunction | False |
FlashMode | Unknown |
FlashRedEyeMode | False |
FlashReturn | No return detection |
FNumber | 7.1 |
FocalLength | 24.0 mm |
FocalLength35efl | 24.0 mm (35 mm equivalent: 36.0 mm) |
FocalLengthIn35mmFormat | 36 mm |
Format | image/jpeg |
FOV | 53.1 deg |
GainControl | None |
GreenHue | 0 |
GreenSaturation | 0 |
HasCrop | True |
HasSettings | True |
HighlightRecovery | 19 |
HueAdjustmentAqua | 0 |
HueAdjustmentBlue | 0 |
HueAdjustmentGreen | 0 |
HueAdjustmentMagenta | 0 |
HueAdjustmentOrange | 0 |
HueAdjustmentPurple | 0 |
HueAdjustmentRed | 0 |
HueAdjustmentYellow | 0 |
HyperfocalDistance | 4.05 m |
ICCProfileName | sRGB IEC61966-2.1 |
ImageHeight (1) | 2255 |
ImageHeight | 768 |
ImageNumber | 7778 |
ImageSize | 1055x768 |
ImageWidth (1) | 3097 |
ImageWidth | 1055 |
ISO | 100 |
Keywords | Finnmarksløpet 2007, Hendelser |
Label | Red |
Lens | 24.0-120.0 mm f/3.5-5.6 |
LensInfo | 24-120mm f/3.5-5.6 |
LightSource | Shade |
LightValue | 13.1 |
LuminanceAdjustmentAqua | 0 |
LuminanceAdjustmentBlue | 0 |
LuminanceAdjustmentGreen | 0 |
LuminanceAdjustmentMagenta | 0 |
LuminanceAdjustmentOrange | 0 |
LuminanceAdjustmentPurple | 0 |
LuminanceAdjustmentRed | 0 |
LuminanceAdjustmentYellow | 0 |
LuminanceSmoothing | 0 |
Make | NIKON CORPORATION |
MaxApertureValue | 3.5 |
Megapixels | 0.810 |
MeteringMode | Spot |
Model | NIKON D200 |
ModifyDate (1) | 2007:03:13 20:20:20+01:00 |
ModifyDate | 2007:03:13 20:20:20 |
Orientation | Horizontal (normal) |
ParametricDarks | 0 |
ParametricHighlights | 0 |
ParametricHighlightSplit | 75 |
ParametricLights | -30 |
ParametricMidtoneSplit | 50 |
ParametricShadows | 0 |
ParametricShadowSplit | 25 |
PrivateRTKInfo | cHJpdmF0ZVJUS0luZm8gPSB7Cgl7CgkJZmxhdCA9IHsKCQkJIkhlbmRlbHNlciIsCgkJCSJGaW5ubWFya3Nsw7hwZXQgMjAwNyIsCgkJfSwKCQlwYXRoID0gewoJCQkiSGVuZGVsc2VyIiwKCQkJIkZpbm5tYXJrc2zDuHBldCAyMDA3IiwKCQl9LAoJCXByaW1hcnkgPSAiRmlubm1hcmtzbMO4cGV0IDIwMDciLAoJCXV1aWQgPSAiNDM4QzQ1N0EtNDEwNS00QkFGLTk4MTgtM0NFNUY0ODk3NkYzIiwKCX0sCn0K |
ProfileDescription | sRGB IEC61966-2.1 |
Rating | 4 |
RedHue | 0 |
RedSaturation | 0 |
Rights | Wenche Jensen |
Saturation (2) | +20 |
Saturation | Normal |
SaturationAdjustmentAqua | 0 |
SaturationAdjustmentBlue | 0 |
SaturationAdjustmentGreen | 0 |
SaturationAdjustmentMagenta | 0 |
SaturationAdjustmentOrange | 0 |
SaturationAdjustmentPurple | 0 |
SaturationAdjustmentRed | 0 |
SaturationAdjustmentYellow | 0 |
ScaleFactor35efl | 1.5 |
SceneCaptureType | Standard |
SceneType | Directly photographed |
SensingMethod | One-chip color area |
Shadows | 3 |
ShadowTint | 0 |
Sharpness (2) | 25 |
Sharpness | Normal |
ShutterSpeed | 1/180 |
ShutterSpeedValue | 1/180 |
Software | Adobe Photoshop CS2 Windows |
SplitToningBalance | 0 |
SplitToningHighlightHue | 0 |
SplitToningHighlightSaturation | 0 |
SplitToningShadowHue | 0 |
SplitToningShadowSaturation | 0 |
Subject | Finnmarksløpet 2007, Hendelser |
SubjectDistanceRange | Unknown |
Tint | +3 |
ToneCurve | 0, 0, 32, 22, 64, 56, 128, 128, 192, 196, 255, 255 |
ToneCurveName | Medium Contrast |
URL_List | |
Version | 1.0 |
Vibrance | 0 |
VignetteAmount | 0 |
WhiteBalance (2) | As Shot |
WhiteBalance | Manual |