Felt | Verdi |
2006-09-15T09:32:14+02:00 File E:\Privat\Sport\13.9-06 Tinfos fotballbane\13.8-06 Tinfos 10.jpg saved
AlreadyApplied | True |
Aperture | 10.0 |
ApertureValue | 10.0 |
Artist | Jan Erik Arud |
BitsPerSample | 8 |
BlueHue | 0 |
BlueSaturation | 0 |
Brightness | +19 |
By-line | Jan Erik Arud |
CameraProfile | ACR 2.4 |
ChromaticAberrationB | 0 |
ChromaticAberrationR | 0 |
CircleOfConfusion | 0.019 mm |
ColorComponents | 3 |
ColorMode | RGB |
ColorNoiseReduction | 48 |
ColorSpace | sRGB |
ColorTemperature | 5412 |
Contrast | +24 |
ConvertToGrayscale | False |
Copyright | 2007 Vision 3 |
CopyrightFlag | True |
CopyrightNotice | 2007 Vision 3 |
CreateDate (1) | 2007:04:28 22:10:28+02:00 |
CreateDate | 2007:04:28 08:47:43 |
Creator | Jan Erik Arud |
CreatorTool | Adobe Photoshop CS2 Windows |
CropAngle | 10.082719 |
CropBottom | 0.981233 |
CropHeight | 1778 |
CropLeft | 0.088864 |
CropRight | 0.868319 |
CropTop | 0 |
CropUnit | pixels |
CropWidth | 3091 |
CustomRendered | Normal |
DateTimeDigitized | 2007:04:28 08:47:43+02:00 |
DateTimeOriginal (1) | 2007:04:28 08:47:43+02:00 |
DateTimeOriginal | 2007:04:28 08:47:43 |
ExifImageHeight | 495 |
ExifImageWidth | 900 |
Exposure | +1.37 |
ExposureCompensation | 0 |
ExposureMode | Manual |
ExposureProgram | Manual |
ExposureTime | 1/500 |
FillLight | 45 |
Firmware | 2.0.3 |
Flash | Off, Did not fire |
FlashCompensation | 0 |
FlashFired | False |
FlashFunction | False |
FlashMode | Off |
FlashRedEyeMode | False |
FlashReturn | No return detection |
FNumber | 10.0 |
FocalLength | 17.0 mm |
FocalLength35efl | 17.0 mm (35 mm equivalent: 27.2 mm) |
Format | image/jpeg |
FOV | 66.9 deg |
GreenHue | 0 |
GreenSaturation | 0 |
HasCrop | True |
HasSettings | True |
HierarchicalKeywords | aGllcmFyY2hpY2FsS2V5d29yZHMgPSB7Cn0K |
HighlightRecovery | 5 |
HueAdjustmentAqua | 0 |
HueAdjustmentBlue | 0 |
HueAdjustmentGreen | 0 |
HueAdjustmentMagenta | 0 |
HueAdjustmentOrange | 0 |
HueAdjustmentPurple | 0 |
HueAdjustmentRed | 0 |
HueAdjustmentYellow | 0 |
HyperfocalDistance | 1.54 m |
ICCProfileName | sRGB IEC61966-2.1 |
ImageHeight (1) | 1778 |
ImageHeight | 495 |
ImageNumber | 250 |
ImageSize | 900x495 |
ImageWidth (1) | 3091 |
ImageWidth | 900 |
ISO | 100 |
Lens | 17.0-40.0 mm |
LensInfo | 17-40mm f/? |
LightValue | 15.6 |
LuminanceAdjustmentAqua | 0 |
LuminanceAdjustmentBlue | 0 |
LuminanceAdjustmentGreen | 0 |
LuminanceAdjustmentMagenta | 0 |
LuminanceAdjustmentOrange | 0 |
LuminanceAdjustmentPurple | 0 |
LuminanceAdjustmentRed | 0 |
LuminanceAdjustmentYellow | 0 |
LuminanceSmoothing | 35 |
Make | Canon |
Marked | True |
MaxApertureValue | 4.0 |
Megapixels | 0.446 |
MeteringMode | Multi-segment |
Model | Canon EOS 20D |
ModifyDate (1) | 2007:04:28 22:10:28+02:00 |
ModifyDate | 2007:04:28 22:10:28 |
Orientation | Horizontal (normal) |
ParametricDarks | 0 |
ParametricHighlights | 0 |
ParametricHighlightSplit | 75 |
ParametricLights | 0 |
ParametricMidtoneSplit | 50 |
ParametricShadows | 0 |
ParametricShadowSplit | 25 |
ProfileDescription | sRGB IEC61966-2.1 |
RedHue | 0 |
RedSaturation | 0 |
Rights | 2007 Vision 3 |
Saturation | +11 |
SaturationAdjustmentAqua | 0 |
SaturationAdjustmentBlue | 0 |
SaturationAdjustmentGreen | 0 |
SaturationAdjustmentMagenta | 0 |
SaturationAdjustmentOrange | 0 |
SaturationAdjustmentPurple | 0 |
SaturationAdjustmentRed | 0 |
SaturationAdjustmentYellow | 0 |
ScaleFactor35efl | 1.6 |
SceneCaptureType | Standard |
SerialNumber | 330120211 |
Shadows | 19 |
ShadowTint | 0 |
Sharpness | 55 |
ShutterSpeed | 1/500 |
ShutterSpeedValue | 1/500 |
Software | Adobe Photoshop CS2 Windows |
SplitToningBalance | 0 |
SplitToningHighlightHue | 0 |
SplitToningHighlightSaturation | 0 |
SplitToningShadowHue | 0 |
SplitToningShadowSaturation | 0 |
Tint | +5 |
ToneCurve | 0, 0, 32, 22, 64, 56, 128, 128, 192, 196, 255, 255 |
ToneCurveName | Medium Contrast |
URL_List | |
Version | 1.0 |
Vibrance | +11 |
VignetteAmount | 0 |
WhiteBalance (2) | Custom |
WhiteBalance | Auto |