Felt | Verdi |
AlreadyApplied | True |
Aperture | 5.6 |
ApertureValue | 5.6 |
BitsPerSample | 8 |
BlueHue | 0 |
BlueSaturation | 0 |
Brightness | +13 |
CameraProfile | Embedded |
ChromaticAberrationB | 0 |
ChromaticAberrationR | 0 |
CircleOfConfusion | 0.030 mm |
Clarity | 0 |
ColorComponents | 1 |
Contrast | +35 |
ConvertToGrayscale | True |
CreateDate | 2007:08:21 20:59:42 |
CreatorTool | Adobe Photoshop Lightroom |
CropAngle | 0 |
CropBottom | 0.899573 |
CropHeight | 768 |
CropLeft | 0.194233 |
CropRight | 0.786071 |
CropTop | 0.011817 |
CropUnit | pixels |
CropWidth | 768 |
CustomRendered | Normal |
DateTimeDigitized | 2007:08:21 20:59:42+02:00 |
DateTimeOriginal (1) | 2007:08:21 20:59:42+02:00 |
DateTimeOriginal | 2007:08:21 20:59:42 |
Defringe | 0 |
Exposure | 0.00 |
ExposureCompensation | 0 |
ExposureMode | Auto |
ExposureProgram | Aperture-priority AE |
ExposureTime | 1/15 |
FillLight | 0 |
Firmware | 1.1.0 |
Flash | Off, Did not fire |
FlashCompensation | 0 |
FlashFired | False |
FlashFunction | False |
FlashMode | Off |
FlashRedEyeMode | False |
FlashReturn | No return detection |
FNumber | 5.6 |
FocalLength | 16.0 mm |
FocalLength35efl | 16.0 mm (35 mm equivalent: 16.0 mm) |
FOV | 96.6 deg |
GrayMixerAqua | -15 |
GrayMixerBlue | +16 |
GrayMixerGreen | -28 |
GrayMixerMagenta | +3 |
GrayMixerOrange | -68 |
GrayMixerPurple | +19 |
GrayMixerRed | -12 |
GrayMixerYellow | -25 |
GreenHue | 0 |
GreenSaturation | 0 |
HasCrop | True |
HasSettings | True |
HighlightRecovery | 0 |
HyperfocalDistance | 1.52 m |
ImageHeight | 768 |
ImageNumber | 14 |
ImageSize | 768x768 |
ImageWidth | 768 |
IncrementalTemperature | 0 |
IncrementalTint | 0 |
ISO | 200 |
Lens | 16.0-35.0 mm |
LensInfo | 16-35mm f/? |
LightValue | 7.9 |
LuminanceSmoothing | 0 |
Make | Canon |
MaxApertureValue | 2.8 |
Megapixels | 0.590 |
MeteringMode | Unknown |
Model | Canon EOS 5D |
ModifyDate (1) | 2007:08:21 22:59:05+02:00 |
ModifyDate | 2007:08:21 22:59:05 |
ParametricDarks | -2 |
ParametricHighlights | +9 |
ParametricHighlightSplit | 75 |
ParametricLights | +28 |
ParametricMidtoneSplit | 50 |
ParametricShadows | +11 |
ParametricShadowSplit | 25 |
ProfileDescription | Adobe RGB (1998) |
RedHue | 0 |
RedSaturation | 0 |
ScaleFactor35efl | 1.0 |
SceneCaptureType | Standard |
SerialNumber | 2431202348 |
Shadows | 0 |
ShadowTint | 0 |
SharpenDetail | 25 |
SharpenEdgeMasking | 0 |
SharpenRadius | +1.0 |
Sharpness | 53 |
ShutterSpeed | 1/15 |
ShutterSpeedValue | 1/15 |
SplitToningBalance | -2 |
SplitToningHighlightHue | 0 |
SplitToningHighlightSaturation | 0 |
SplitToningShadowHue | 0 |
SplitToningShadowSaturation | 0 |
TimeZoneOffset | 2 2 |
ToneCurve | 0, 0, 255, 255 |
ToneCurveName | Linear |
Version | 1.0 |
VignetteAmount | 0 |
WhiteBalance (2) | As Shot |
WhiteBalance | Auto |