Felt | Verdi |
2006-09-15T09:32:14+02:00 File E:\Privat\Sport\13.9-06 Tinfos fotballbane\13.8-06 Tinfos 10.jpg saved
AlreadyApplied | True |
Aperture | 7.1 |
ApertureValue | 7.1 |
Artist | Jan Erik Arud |
BitsPerSample | 8 |
BlueHue | 0 |
BlueSaturation | 0 |
Brightness | +50 |
By-line | Jan Erik Arud |
CameraProfile | ACR 2.4 |
ChromaticAberrationB | 0 |
ChromaticAberrationR | 0 |
CircleOfConfusion | 0.019 mm |
Clarity | 79 |
ColorComponents | 3 |
ColorMode | RGB |
ColorNoiseReduction | 25 |
ColorSpace | sRGB |
ColorTemperature | 5000 |
Contrast | +25 |
ConvertToGrayscale | False |
Copyright | 2007 Vision 3 |
CopyrightFlag | True |
CopyrightNotice | 2007 Vision 3 |
CreateDate (1) | 2007:08:27 20:14:37+02:00 |
CreateDate | 2007:08:25 15:57:32 |
Creator | Jan Erik Arud |
CreatorTool | Adobe Photoshop CS2 Windows |
CropAngle | 0 |
CropBottom | 0.797802 |
CropHeight | 1248 |
CropLeft | 0.162757 |
CropRight | 0.675954 |
CropTop | 0.263737 |
CropUnit | pixels |
CropWidth | 1798 |
CustomRendered | Normal |
DateTimeDigitized | 2007:08:25 15:57:32+02:00 |
DateTimeOriginal (1) | 2007:08:25 15:57:32+02:00 |
DateTimeOriginal | 2007:08:25 15:57:32 |
Defringe | 0 |
ExifImageHeight | 711 |
ExifImageWidth | 1024 |
Exposure | 0.00 |
ExposureCompensation | 0 |
ExposureMode | Manual |
ExposureProgram | Manual |
ExposureTime | 1/1600 |
FillLight | 6 |
Firmware | 2.0.3 |
Flash | Off, Did not fire |
FlashCompensation | 0 |
FlashFired | False |
FlashFunction | False |
FlashMode | Off |
FlashRedEyeMode | False |
FlashReturn | No return detection |
FNumber | 7.1 |
FocalLength | 380.0 mm |
FocalLength35efl | 380.0 mm (35 mm equivalent: 608.6 mm) |
Format | image/jpeg |
FOV | 3.4 deg |
GreenHue | 0 |
GreenSaturation | 0 |
HasCrop | True |
HasSettings | True |
HierarchicalKeywords | aGllcmFyY2hpY2FsS2V5d29yZHMgPSB7Cn0K |
HighlightRecovery | 0 |
HueAdjustmentAqua | 0 |
HueAdjustmentBlue | 0 |
HueAdjustmentGreen | 0 |
HueAdjustmentMagenta | 0 |
HueAdjustmentOrange | 0 |
HueAdjustmentPurple | 0 |
HueAdjustmentRed | 0 |
HueAdjustmentYellow | 0 |
HyperfocalDistance | 1084.04 m |
ICCProfileName | sRGB IEC61966-2.1 |
ImageHeight (1) | 1248 |
ImageHeight | 711 |
ImageNumber | 250 |
ImageSize | 1024x711 |
ImageWidth (1) | 1798 |
ImageWidth | 1024 |
ISO | 100 |
Lens | 17.0-40.0 mm |
LensInfo | 17-40mm f/? |
LightValue | 16.3 |
LuminanceAdjustmentAqua | 0 |
LuminanceAdjustmentBlue | 0 |
LuminanceAdjustmentGreen | 0 |
LuminanceAdjustmentMagenta | 0 |
LuminanceAdjustmentOrange | 0 |
LuminanceAdjustmentPurple | 0 |
LuminanceAdjustmentRed | 0 |
LuminanceAdjustmentYellow | 0 |
LuminanceSmoothing | 0 |
Make | Canon |
Marked | True |
MaxApertureValue | 5.6 |
Megapixels | 0.728 |
MeteringMode | Multi-segment |
Model | Canon EOS 20D |
ModifyDate (1) | 2007:08:27 20:14:37+02:00 |
ModifyDate | 2007:08:27 20:14:37 |
Orientation | Horizontal (normal) |
ParametricDarks | 0 |
ParametricHighlights | 0 |
ParametricHighlightSplit | 75 |
ParametricLights | 0 |
ParametricMidtoneSplit | 50 |
ParametricShadows | 0 |
ParametricShadowSplit | 25 |
ProfileDescription | sRGB IEC61966-2.1 |
Rating | 1 |
RedHue | 0 |
RedSaturation | 0 |
Rights | 2007 Vision 3 |
Saturation | +11 |
SaturationAdjustmentAqua | 0 |
SaturationAdjustmentBlue | 0 |
SaturationAdjustmentGreen | 0 |
SaturationAdjustmentMagenta | 0 |
SaturationAdjustmentOrange | 0 |
SaturationAdjustmentPurple | 0 |
SaturationAdjustmentRed | 0 |
SaturationAdjustmentYellow | 0 |
ScaleFactor35efl | 1.6 |
SceneCaptureType | Standard |
SerialNumber | 330120211 |
Shadows | 5 |
ShadowTint | 0 |
SharpenDetail | 56 |
SharpenEdgeMasking | 0 |
SharpenRadius | +1.0 |
Sharpness | 85 |
ShutterSpeed | 1/1600 |
ShutterSpeedValue | 1/1600 |
Software | Adobe Photoshop CS2 Windows |
SplitToningBalance | 0 |
SplitToningHighlightHue | 0 |
SplitToningHighlightSaturation | 0 |
SplitToningShadowHue | 0 |
SplitToningShadowSaturation | 0 |
TimeZoneOffset | 2 2 |
Tint | 0 |
ToneCurve | 0, 0, 32, 22, 64, 56, 128, 128, 192, 196, 255, 255 |
ToneCurveName | Medium Contrast |
URL_List | |
Version | 1.0 |
Vibrance | +22 |
VignetteAmount | 0 |
WhiteBalance (2) | As Shot |
WhiteBalance | Manual |