Felt | Verdi |
AlreadyApplied | True |
Aperture | 6.3 |
ApertureValue | 6.3 |
Artist | unknown |
BitsPerSample | 8 |
BlueHue | 0 |
BlueSaturation | +19 |
Brightness | +43 |
By-line | unknown |
CameraProfile | ACR 2.4 |
ChromaticAberrationB | 0 |
ChromaticAberrationR | 0 |
CircleOfConfusion | 0.019 mm |
ColorComponents | 3 |
ColorMode | RGB |
ColorNoiseReduction | 69 |
ColorSpace | sRGB |
ColorTemperature | 3900 |
Contrast | +47 |
ConvertToGrayscale | False |
CopyrightFlag | False |
CreateDate (1) | 2007:09:06 11:18:44+02:00 |
CreateDate | 2007:09:05 18:53:54 |
Creator | unknown |
CreatorTool | Adobe Photoshop CS3 Windows |
CustomRendered | Normal |
DateTimeDigitized | 2007:09:05 18:53:54+02:00 |
DateTimeOriginal (1) | 2007:09:05 18:53:54+02:00 |
DateTimeOriginal | 2007:09:05 18:53:54 |
ExifImageHeight | 627 |
ExifImageWidth | 950 |
Exposure | -0.75 |
ExposureCompensation | 0 |
ExposureMode | Manual |
ExposureProgram | Manual |
ExposureTime | 1/1600 |
FillLight | 24 |
Firmware | 2.0.0 |
Flash | Off, Did not fire |
FlashCompensation | -0.333333333333333 |
FlashFired | False |
FlashFunction | False |
FlashMode | Off |
FlashRedEyeMode | False |
FlashReturn | No return detection |
FNumber | 6.3 |
FocalLength | 238.0 mm |
FocalLength35efl | 238.0 mm (35 mm equivalent: 381.2 mm) |
Format | image/jpeg |
FOV | 5.4 deg |
GreenHue | +16 |
GreenSaturation | 0 |
HasCrop | False |
HasSettings | True |
HighlightRecovery | 24 |
HueAdjustmentAqua | 0 |
HueAdjustmentBlue | 0 |
HueAdjustmentGreen | 0 |
HueAdjustmentMagenta | 0 |
HueAdjustmentOrange | 0 |
HueAdjustmentPurple | 0 |
HueAdjustmentRed | +33 |
HueAdjustmentYellow | -18 |
HyperfocalDistance | 479.23 m |
ICCProfileName | sRGB IEC61966-2.1 |
ImageHeight | 627 |
ImageNumber | 222 |
ImageSize | 950x627 |
ImageWidth | 950 |
ISO | 400 |
Lens | 70.0-300.0 mm |
LensInfo | 70-300mm f/? |
LightValue | 14.0 |
LuminanceAdjustmentAqua | 0 |
LuminanceAdjustmentBlue | 0 |
LuminanceAdjustmentGreen | 0 |
LuminanceAdjustmentMagenta | 0 |
LuminanceAdjustmentOrange | +20 |
LuminanceAdjustmentPurple | 0 |
LuminanceAdjustmentRed | +29 |
LuminanceAdjustmentYellow | +36 |
LuminanceSmoothing | 63 |
Make | Canon |
MaxApertureValue | 4.5 |
Megapixels | 0.596 |
MeteringMode | Multi-segment |
Model | Canon EOS 20D |
ModifyDate (1) | 2007:09:06 11:18:44+02:00 |
ModifyDate | 2007:09:06 11:18:44 |
Orientation | Horizontal (normal) |
OwnerName | unknown |
ParametricDarks | +2 |
ParametricHighlights | +29 |
ParametricHighlightSplit | 79 |
ParametricLights | -7 |
ParametricMidtoneSplit | 50 |
ParametricShadows | +8 |
ParametricShadowSplit | 25 |
ProfileDescription | sRGB IEC61966-2.1 |
Rating | 0 |
RawFileName | _MG_1246.CR2 |
RedHue | -10 |
RedSaturation | +11 |
Saturation | +38 |
SaturationAdjustmentAqua | 0 |
SaturationAdjustmentBlue | +66 |
SaturationAdjustmentGreen | +17 |
SaturationAdjustmentMagenta | -14 |
SaturationAdjustmentOrange | +24 |
SaturationAdjustmentPurple | +37 |
SaturationAdjustmentRed | +8 |
SaturationAdjustmentYellow | -33 |
ScaleFactor35efl | 1.6 |
SceneCaptureType | Standard |
SerialNumber | 1030413231 |
Shadows | 35 |
ShadowTint | +12 |
Sharpness | 15 |
ShutterSpeed | 1/1600 |
ShutterSpeedValue | 1/1600 |
SidecarForExtension | CR2 |
Software | Adobe Photoshop CS3 Windows |
SplitToningBalance | -33 |
SplitToningHighlightHue | 53 |
SplitToningHighlightSaturation | 25 |
SplitToningShadowHue | 47 |
SplitToningShadowSaturation | 13 |
TimeZoneOffset | 2 2 |
Tint | +6 |
ToneCurve | 0, 0, 32, 22, 64, 56, 128, 128, 192, 196, 255, 255 |
ToneCurveName | Medium Contrast |
URL_List | |
Version | 4.0 |
Vibrance | +3 |
VignetteAmount | 0 |
WhiteBalance (2) | Custom |
WhiteBalance | Manual |