Felt | Verdi |
AlreadyApplied | True |
Aperture | 8.0 |
ApertureValue | 8.0 |
BitsPerSample | 8 |
BlueHue | 0 |
BlueSaturation | 0 |
Brightness | 0 |
CameraProfile | ACR 2.4 |
ChromaticAberrationB | 0 |
ChromaticAberrationR | 0 |
CircleOfConfusion | 0.030 mm |
Clarity | 100 |
ColorComponents | 1 |
ColorSpace | Uncalibrated |
ColorTemperature | 5085 |
Contrast | +1 |
ConvertToGrayscale | True |
CopyrightFlag | False |
CreateDate (1) | 2007:07:31 16:12:22+02:00 |
CreateDate | 2007:07:31 16:12:22 |
CreatorTool | Adobe Photoshop CS Macintosh |
CropAngle | 0.432793 |
CropBottom | 0.999959 |
CropHeight | 800 |
CropLeft | 0.072834 |
CropRight | 0.888629 |
CropTop | 0.005752 |
CropUnit | pixels |
CropWidth | 1000 |
CustomRendered | Normal |
DateTimeDigitized | 2007:07:31 16:12:22+02:00 |
DateTimeOriginal (1) | 2007:07:31 16:12:22+02:00 |
DateTimeOriginal | 2007:07:31 16:12:22 |
Defringe | 0 |
ExifImageHeight | 768 |
ExifImageWidth | 614 |
Exposure | +0.68 |
ExposureCompensation | 0 |
ExposureMode | Auto |
ExposureProgram | Aperture-priority AE |
ExposureTime | 1/160 |
FillLight | 0 |
Firmware | 1.0.3 |
Flash | Off, Did not fire |
FlashCompensation | 0 |
FlashFired | False |
FlashFunction | False |
FlashMode | Off |
FlashRedEyeMode | False |
FlashReturn | No return detection |
FNumber | 8.0 |
FocalLength | 90.0 mm |
FocalLength35efl | 90.0 mm (35 mm equivalent: 90.2 mm) |
Format | image/jpeg |
FOV | 22.6 deg |
GrayMixerAqua | -57 |
GrayMixerBlue | -96 |
GrayMixerGreen | -100 |
GrayMixerMagenta | +5 |
GrayMixerOrange | +21 |
GrayMixerPurple | -51 |
GrayMixerRed | +6 |
GrayMixerYellow | +57 |
GreenHue | 0 |
GreenSaturation | 0 |
HasCrop | True |
HasSettings | True |
HighlightRecovery | 0 |
HyperfocalDistance | 33.77 m |
ImageHeight (1) | 1000 |
ImageHeight | 768 |
ImageNumber | 6 |
ImageSize | 614x768 |
ImageWidth (1) | 800 |
ImageWidth | 614 |
ISO | 200 |
Lens | TS-E90mm f/2.8 |
LensInfo | 90mm f/? |
LightValue | 12.3 |
LuminanceSmoothing | 0 |
Make | Canon |
MaxApertureValue | 2.8 |
Megapixels | 0.472 |
MeteringMode | Unknown |
Model | Canon EOS 5D |
ModifyDate (1) | 2007:09:23 22:41:17+02:00 |
ModifyDate | 2007:09:23 22:41:17 |
Orientation | Horizontal (normal) |
ParametricDarks | -4 |
ParametricHighlights | +30 |
ParametricHighlightSplit | 75 |
ParametricLights | +6 |
ParametricMidtoneSplit | 50 |
ParametricShadows | -17 |
ParametricShadowSplit | 25 |
ProfileDescription | Dot Gain 20% |
RedHue | 0 |
RedSaturation | 0 |
ScaleFactor35efl | 1.0 |
SceneCaptureType | Standard |
SerialNumber | 730504271 |
Shadows | 9 |
ShadowTint | 0 |
SharpenDetail | 0 |
SharpenEdgeMasking | 0 |
SharpenRadius | +0.5 |
Sharpness | 104 |
ShutterSpeed | 1/160 |
ShutterSpeedValue | 1/160 |
Software | Adobe Photoshop CS Macintosh |
SplitToningBalance | 0 |
SplitToningHighlightHue | 0 |
SplitToningHighlightSaturation | 0 |
SplitToningShadowHue | 0 |
SplitToningShadowSaturation | 0 |
Tint | +4 |
ToneCurve | 0, 0, 32, 22, 64, 56, 128, 128, 192, 196, 255, 255 |
ToneCurveName | Medium Contrast |
URL_List | |
Version | 1.0 |
VignetteAmount | 0 |
WhiteBalance (1) | Custom |
WhiteBalance | Auto |