Felt | Verdi |
AlreadyApplied | True |
Aperture | 6.3 |
ApertureValue | 6.3 |
BitsPerSample | 8 |
BlueHue | 0 |
BlueSaturation | 0 |
Brightness | +65 |
CameraProfile | ACR 3.7 |
ChromaticAberrationB | 0 |
ChromaticAberrationR | 0 |
CircleOfConfusion | 0.020 mm |
Clarity | 0 |
ColorComponents | 1 |
ColorMode | Grayscale |
ColorNoiseReduction | 25 |
ColorSpace (1) | Unknown (-1) |
ColorSpace | Uncalibrated |
ColorTemperature | 5250 |
Contrast (2) | +48 |
Contrast | Low |
ConvertToGrayscale | False |
CopyrightFlag | False |
CreateDate (1) | 2007:10:14 10:52:46+02:00 |
CreateDate | 2007:10:13 16:14:40 |
CreatorTool | Adobe Photoshop CS3 Windows |
CustomRendered | Normal |
DateTimeDigitized | 2007:10:13 16:14:40+02:00 |
DateTimeOriginal (1) | 2007:10:13 16:14:40+02:00 |
DateTimeOriginal | 2007:10:13 16:14:40 |
Defringe | 0 |
ExifImageHeight | 569 |
ExifImageWidth | 1024 |
Exposure | 0.00 |
ExposureCompensation | -0.3 |
ExposureMode | Manual |
ExposureProgram | Shutter speed priority AE |
ExposureTime | 1/40 |
FillLight | 0 |
Flash | Off, Did not fire |
FlashFired | False |
FlashFunction | False |
FlashMode | Off |
FlashRedEyeMode | False |
FlashReturn | No return detection |
FNumber | 6.3 |
FocalLength | 28.0 mm |
FocalLength35efl | 28.0 mm (35 mm equivalent: 42.0 mm) |
FocalLengthIn35mmFormat | 42 mm |
Format | image/jpeg |
FOV | 46.4 deg |
GreenHue | 0 |
GreenSaturation | 0 |
HasCrop | False |
HasSettings | True |
HighlightRecovery | 18 |
HueAdjustmentAqua | 0 |
HueAdjustmentBlue | 0 |
HueAdjustmentGreen | 0 |
HueAdjustmentMagenta | 0 |
HueAdjustmentOrange | 0 |
HueAdjustmentPurple | 0 |
HueAdjustmentRed | 0 |
HueAdjustmentYellow | 0 |
HyperfocalDistance | 6.21 m |
ICCProfileName | Dot Gain 20% |
ImageHeight | 569 |
ImageSize | 1024x569 |
ImageWidth | 1024 |
ISO | 100 |
Lens | A Series Lens |
LensID (1) | 2 0 |
LensID | A Series Lens |
LightValue | 10.6 |
LuminanceAdjustmentAqua | 0 |
LuminanceAdjustmentBlue | 0 |
LuminanceAdjustmentGreen | 0 |
LuminanceAdjustmentMagenta | 0 |
LuminanceAdjustmentOrange | 0 |
LuminanceAdjustmentPurple | 0 |
LuminanceAdjustmentRed | 0 |
LuminanceAdjustmentYellow | 0 |
LuminanceSmoothing | 0 |
Make | PENTAX Corporation |
Megapixels | 0.583 |
MeteringMode | Multi-segment |
Model | PENTAX K10D |
ModifyDate (1) | 2007:10:14 10:52:46+02:00 |
ModifyDate | 2007:10:14 10:52:46 |
Orientation | Horizontal (normal) |
ParametricDarks | 0 |
ParametricHighlights | 0 |
ParametricHighlightSplit | 75 |
ParametricLights | 0 |
ParametricMidtoneSplit | 50 |
ParametricShadows | 0 |
ParametricShadowSplit | 25 |
ProfileDescription | Dot Gain 20% |
Rating | 0 |
RawFileName | IMGP2568.DNG |
RedHue | 0 |
RedSaturation | 0 |
Saturation (2) | 0 |
Saturation | Normal |
SaturationAdjustmentAqua | 0 |
SaturationAdjustmentBlue | 0 |
SaturationAdjustmentGreen | 0 |
SaturationAdjustmentMagenta | 0 |
SaturationAdjustmentOrange | 0 |
SaturationAdjustmentPurple | 0 |
SaturationAdjustmentRed | 0 |
SaturationAdjustmentYellow | 0 |
ScaleFactor35efl | 1.5 |
SceneCaptureType | Standard |
SensingMethod | One-chip color area |
Shadows | 7 |
ShadowTint | 0 |
SharpenDetail | 25 |
SharpenEdgeMasking | 0 |
SharpenRadius | +1.0 |
Sharpness (2) | 25 |
Sharpness | Hard |
ShutterSpeed | 1/40 |
ShutterSpeedValue | 1/40 |
SidecarForExtension | DNG |
Software | Adobe Photoshop CS3 Windows |
SplitToningBalance | 0 |
SplitToningHighlightHue | 0 |
SplitToningHighlightSaturation | 0 |
SplitToningShadowHue | 0 |
SplitToningShadowSaturation | 0 |
SubjectDistanceRange | Distant |
Tint | -11 |
ToneCurve | 0, 0, 32, 22, 64, 56, 128, 128, 192, 196, 255, 255 |
ToneCurveName | Medium Contrast |
URL_List | |
Version | 4.2 |
Vibrance | 0 |
VignetteAmount | 0 |
WhiteBalance (2) | As Shot |
WhiteBalance | Auto |