Felt | Verdi |
AlreadyApplied | True |
Aperture | 3.2 |
ApertureValue | 3.2 |
BitsPerSample | 8 |
BlueHue | 0 |
BlueSaturation | 0 |
Brightness | 0 |
CameraProfile | ACR 2.4 |
ChromaticAberrationB | 0 |
ChromaticAberrationR | 0 |
CircleOfConfusion | 0.030 mm |
Clarity | 100 |
ColorComponents | 1 |
ColorSpace | sRGB |
ColorTemperature | 5085 |
Contrast | +3 |
ConvertToGrayscale | True |
CopyrightFlag | False |
CreateDate (1) | 2007:10:04 08:36:31+02:00 |
CreateDate | 2007:10:04 08:36:31 |
CreatorTool | Adobe Photoshop CS Macintosh |
CropAngle | 0 |
CropBottom | 1 |
CropHeight | 670 |
CropLeft | 0.025661 |
CropRight | 0.991981 |
CropTop | 0.029009 |
CropUnit | pixels |
CropWidth | 1000 |
CustomRendered | Normal |
DateTimeDigitized | 2007:10:04 08:36:31+02:00 |
DateTimeOriginal (1) | 2007:10:04 08:36:31+02:00 |
DateTimeOriginal | 2007:10:04 08:36:31 |
Defringe | 0 |
ExifImageHeight | 670 |
ExifImageWidth | 1000 |
Exposure | -0.09 |
ExposureCompensation | 0 |
ExposureMode | Auto |
ExposureProgram | Aperture-priority AE |
ExposureTime | 1/40 |
FillLight | 15 |
Firmware | 1.0.3 |
Flash | Off, Did not fire |
FlashCompensation | 0 |
FlashFired | False |
FlashFunction | False |
FlashMode | Off |
FlashRedEyeMode | False |
FlashReturn | No return detection |
FNumber | 3.2 |
FocalLength | 90.0 mm |
FocalLength35efl | 90.0 mm (35 mm equivalent: 90.2 mm) |
Format | image/jpeg |
FOV | 22.6 deg |
GrayMixerAqua | -18 |
GrayMixerBlue | +8 |
GrayMixerGreen | -24 |
GrayMixerMagenta | +3 |
GrayMixerOrange | -16 |
GrayMixerPurple | +14 |
GrayMixerRed | -8 |
GrayMixerYellow | -19 |
GreenHue | 0 |
GreenSaturation | 0 |
HasCrop | True |
HasSettings | True |
HighlightRecovery | 0 |
HyperfocalDistance | 84.42 m |
ImageHeight | 670 |
ImageNumber | 2 |
ImageSize | 1000x670 |
ImageWidth | 1000 |
ISO | 1250 |
Lens | TS-E90mm f/2.8 |
LensInfo | 90mm f/? |
LightValue | 5.0 |
LuminanceSmoothing | 0 |
Make | Canon |
MaxApertureValue | 2.8 |
Megapixels | 0.670 |
MeteringMode | Unknown |
Model | Canon EOS 5D |
ModifyDate (1) | 2007:10:14 20:54:39+02:00 |
ModifyDate | 2007:10:14 20:54:39 |
Orientation | Horizontal (normal) |
ParametricDarks | -28 |
ParametricHighlights | +9 |
ParametricHighlightSplit | 75 |
ParametricLights | +9 |
ParametricMidtoneSplit | 50 |
ParametricShadows | -4 |
ParametricShadowSplit | 25 |
ProfileDescription | sRGB IEC61966-2.1 |
RedHue | 0 |
RedSaturation | 0 |
ScaleFactor35efl | 1.0 |
SceneCaptureType | Standard |
SerialNumber | 730504271 |
Shadows | 0 |
ShadowTint | 0 |
SharpenDetail | 25 |
SharpenEdgeMasking | 0 |
SharpenRadius | +1.0 |
Sharpness | 78 |
ShutterSpeed | 1/40 |
ShutterSpeedValue | 1/40 |
Software | Adobe Photoshop CS Macintosh |
SplitToningBalance | 0 |
SplitToningHighlightHue | 0 |
SplitToningHighlightSaturation | 0 |
SplitToningShadowHue | 0 |
SplitToningShadowSaturation | 0 |
Tint | +4 |
ToneCurve | 0, 0, 32, 22, 64, 56, 128, 128, 192, 196, 255, 255 |
ToneCurveName | Medium Contrast |
URL_List | |
Version | 1.0 |
VignetteAmount | 0 |
WhiteBalance (1) | Custom |
WhiteBalance | Auto |