Felt | Verdi |
AlreadyApplied | True |
Aperture | 8.0 |
ApertureValue | 8.0 |
Artist | unknown |
BitsPerSample | 8 |
BlueHue | 0 |
BlueSaturation | 0 |
Brightness | +40 |
By-line | unknown |
CameraProfile | ACR 2.4 |
ChromaticAberrationB | 0 |
ChromaticAberrationR | 0 |
CircleOfConfusion | 0.019 mm |
ColorComponents | 1 |
ColorMode | RGB |
ColorNoiseReduction | 25 |
ColorSpace | sRGB |
ColorTemperature | 4150 |
Contrast | +14 |
ConvertToGrayscale | False |
CopyrightFlag | False |
CreateDate (1) | 2007:10:15 18:21:39+02:00 |
CreateDate | 2007:10:16 16:55:12 |
Creator | unknown |
CreatorTool | Adobe Photoshop CS3 Windows |
CustomRendered | Normal |
DateTimeDigitized | 2007:10:16 16:55:12+02:00 |
DateTimeOriginal (1) | 2007:10:16 16:55:12+02:00 |
DateTimeOriginal | 2007:10:16 16:55:12 |
ExifImageHeight | 632 |
ExifImageWidth | 650 |
Exposure | -0.20 |
ExposureCompensation | 0 |
ExposureMode | Auto |
ExposureProgram | Aperture-priority AE |
ExposureTime | 1/60 |
FillLight | 0 |
Firmware | 2.0.0 |
Flash | Off, Did not fire |
FlashCompensation | -0.333333333333333 |
FlashFired | False |
FlashFunction | False |
FlashMode | Off |
FlashRedEyeMode | False |
FlashReturn | No return detection |
FNumber | 8.0 |
FocalLength | 35.0 mm |
FocalLength35efl | 35.0 mm (35 mm equivalent: 56.1 mm) |
Format | image/jpeg |
FOV | 35.6 deg |
GreenHue | 0 |
GreenSaturation | 0 |
HasCrop | False |
HasSettings | True |
HighlightRecovery | 0 |
HueAdjustmentAqua | 0 |
HueAdjustmentBlue | 0 |
HueAdjustmentGreen | 0 |
HueAdjustmentMagenta | 0 |
HueAdjustmentOrange | 0 |
HueAdjustmentPurple | 0 |
HueAdjustmentRed | 0 |
HueAdjustmentYellow | 0 |
HyperfocalDistance | 8.16 m |
ICCProfileName | sRGB IEC61966-2.1 |
ImageHeight | 632 |
ImageNumber | 39 |
ImageSize | 650x632 |
ImageWidth | 650 |
ISO | 200 |
Lens | 17.0-85.0 mm |
LensInfo | 17-85mm f/? |
LightValue | 10.9 |
LuminanceAdjustmentAqua | 0 |
LuminanceAdjustmentBlue | 0 |
LuminanceAdjustmentGreen | 0 |
LuminanceAdjustmentMagenta | 0 |
LuminanceAdjustmentOrange | 0 |
LuminanceAdjustmentPurple | 0 |
LuminanceAdjustmentRed | 0 |
LuminanceAdjustmentYellow | 0 |
LuminanceSmoothing | 0 |
Make | Canon |
MaxApertureValue | 4.5 |
Megapixels | 0.411 |
MeteringMode | Partial |
Model | Canon EOS 20D |
ModifyDate (1) | 2007:10:15 18:21:39+02:00 |
ModifyDate | 2007:10:15 18:21:39 |
Orientation | Horizontal (normal) |
OwnerName | unknown |
ParametricDarks | 0 |
ParametricHighlights | 0 |
ParametricHighlightSplit | 75 |
ParametricLights | 0 |
ParametricMidtoneSplit | 50 |
ParametricShadows | 0 |
ParametricShadowSplit | 25 |
ProfileDescription | sRGB IEC61966-2.1 |
Rating | 0 |
RawFileName | _MG_3367.CR2 |
RedHue | 0 |
RedSaturation | 0 |
Saturation | -9 |
SaturationAdjustmentAqua | 0 |
SaturationAdjustmentBlue | 0 |
SaturationAdjustmentGreen | 0 |
SaturationAdjustmentMagenta | 0 |
SaturationAdjustmentOrange | 0 |
SaturationAdjustmentPurple | 0 |
SaturationAdjustmentRed | 0 |
SaturationAdjustmentYellow | 0 |
ScaleFactor35efl | 1.6 |
SceneCaptureType | Standard |
SerialNumber | 1030413231 |
Shadows | 3 |
ShadowTint | 0 |
Sharpness | 15 |
ShutterSpeed | 1/60 |
ShutterSpeedValue | 1/60 |
SidecarForExtension | CR2 |
Software | Adobe Photoshop CS3 Windows |
SplitToningBalance | 0 |
SplitToningHighlightHue | 0 |
SplitToningHighlightSaturation | 0 |
SplitToningShadowHue | 0 |
SplitToningShadowSaturation | 0 |
TimeZoneOffset | 2 2 |
Tint | 0 |
ToneCurve | 0, 0, 32, 22, 64, 56, 128, 128, 192, 196, 255, 255 |
ToneCurveName | Medium Contrast |
URL_List | |
Version | 4.0 |
Vibrance | -13 |
VignetteAmount | 0 |
WhiteBalance (2) | Custom |
WhiteBalance | Manual |