Felt | Verdi |
AlreadyApplied | True |
Aperture | 7.1 |
ApertureValue | 7.1 |
BitsPerSample | 8 |
BlueHue | 0 |
BlueSaturation | 0 |
Brightness | +50 |
CameraProfile | ACR 3.6 |
CFAPattern | [Green,Blue][Red,Green] |
ChromaticAberrationB | 0 |
ChromaticAberrationR | 0 |
CircleOfConfusion | 0.020 mm |
Clarity | 36 |
ColorComponents | 1 |
ColorMode | Grayscale |
ColorSpace (1) | Unknown (-1) |
ColorSpace | Uncalibrated |
ColorTemperature | 3150 |
Contrast (2) | +25 |
Contrast | Normal |
ConvertToGrayscale | True |
CopyrightFlag | False |
CreateDate (1) | 2007:10:29 19:40:11+01:00 |
CreateDate | 2007:10:12 16:46:21 |
CreatorTool | Adobe Photoshop CS3 Windows |
CustomRendered | Normal |
DateTimeDigitized | 2007:10:12 16:46:21.30+02:00 |
DateTimeOriginal (1) | 2007:10:12 16:46:21.30+02:00 |
DateTimeOriginal | 2007:10:12 16:46:21 |
Defringe | 0 |
DigitalZoomRatio | 1 |
ExifImageHeight | 768 |
ExifImageWidth | 1147 |
Exposure | 0.00 |
ExposureCompensation | 0 |
ExposureMode | Manual |
ExposureProgram | Manual |
ExposureTime | 1/6 |
FillLight | 0 |
Flash | No Flash |
FlashFired | False |
FlashFunction | False |
FlashMode | Unknown |
FlashRedEyeMode | False |
FlashReturn | No return detection |
FNumber | 7.1 |
FocalLength | 62.0 mm |
FocalLength35efl | 62.0 mm (35 mm equivalent: 93.0 mm) |
FocalLengthIn35mmFormat | 93 mm |
Format | image/jpeg |
FOV | 21.9 deg |
GainControl | None |
GrayMixerAqua | -44 |
GrayMixerBlue | -34 |
GrayMixerGreen | -59 |
GrayMixerMagenta | -48 |
GrayMixerOrange | +83 |
GrayMixerPurple | -48 |
GrayMixerRed | +4 |
GrayMixerYellow | +82 |
GreenHue | 0 |
GreenSaturation | 0 |
HasCrop | False |
HasSettings | True |
HighlightRecovery | 3 |
HyperfocalDistance | 27.03 m |
ICCProfileName | Gray Gamma 2.2 |
ImageHeight (1) | 2592 |
ImageHeight | 768 |
ImageNumber | 3927 |
ImageSize | 1147x768 |
ImageWidth (1) | 3872 |
ImageWidth | 1147 |
ISO | 100 |
Lens | 18.0-135.0 mm f/3.5-5.6 |
LensInfo | 18-135mm f/3.5-5.6 |
LightSource | Unknown |
LightValue | 8.2 |
LuminanceSmoothing | 0 |
Make | NIKON CORPORATION |
MaxApertureValue | 5.1 |
Megapixels | 0.881 |
MeteringMode | Center-weighted average |
Model | NIKON D80 |
ModifyDate (1) | 2007:10:29 19:40:11+01:00 |
ModifyDate | 2007:10:29 19:40:11 |
Orientation | Horizontal (normal) |
ParametricDarks | +10 |
ParametricHighlights | +16 |
ParametricHighlightSplit | 75 |
ParametricLights | +15 |
ParametricMidtoneSplit | 50 |
ParametricShadows | 0 |
ParametricShadowSplit | 25 |
PhotometricInterpretation | BlackIsZero |
ProfileDescription | Gray Gamma 2.2 |
RawFileName | DSC_0449.NEF |
RedHue | 0 |
RedSaturation | 0 |
SamplesPerPixel | 1 |
Saturation | High |
ScaleFactor35efl | 1.5 |
SceneCaptureType | Standard |
SceneType | Directly photographed |
SensingMethod | One-chip color area |
Shadows | 13 |
ShadowTint | 0 |
SharpenDetail | 25 |
SharpenEdgeMasking | 0 |
SharpenRadius | +1.0 |
Sharpness (2) | 25 |
Sharpness | Hard |
ShutterSpeed | 1/6 |
ShutterSpeedValue | 1/6 |
Software | Adobe Photoshop CS3 Windows |
SplitToningBalance | 0 |
SplitToningHighlightHue | 0 |
SplitToningHighlightSaturation | 0 |
SplitToningShadowHue | 0 |
SplitToningShadowSaturation | 0 |
SubjectDistanceRange | Unknown |
Tint | +100 |
ToneCurve | 0, 0, 35, 23, 65, 49, 120, 129, 188, 195, 248, 255 |
ToneCurveName | Custom |
URL_List | |
Version | 4.1 |
VignetteAmount | 0 |
WhiteBalance (2) | Custom |
WhiteBalance | Auto |