Felt | Verdi |
AlreadyApplied | True |
Aperture | 5.6 |
ApertureValue | 5.6 |
BitsPerSample | 8 |
BlueHue | 0 |
BlueSaturation | 0 |
Brightness | +50 |
CameraProfile | ACR 2.4 |
CFAPattern | [Blue,Green][Green,Red] |
ChromaticAberrationB | 0 |
ChromaticAberrationR | 0 |
CircleOfConfusion | 0.020 mm |
Clarity | 0 |
ColorComponents | 3 |
ColorMode | RGB |
ColorNoiseReduction | 25 |
ColorSpace | sRGB |
ColorTemperature | 5850 |
Contrast (2) | +54 |
Contrast | Normal |
ConvertToGrayscale | False |
CopyrightFlag | False |
CreateDate (1) | 2007:11:11 16:14:57+01:00 |
CreateDate | 2007:11:09 13:12:37 |
CreatorTool | Adobe Photoshop CS3 Windows |
CropAngle | 0 |
CropBottom | 0.97488 |
CropHeight | 4 |
CropLeft | 0.036595 |
CropRight | 1 |
CropTop | 0.008906 |
CropUnit | Unknown (3) |
CropWidth | 6 |
CustomRendered | Normal |
DateTimeDigitized | 2007:11:09 13:12:37.90+01:00 |
DateTimeOriginal (1) | 2007:11:09 13:12:37.90+01:00 |
DateTimeOriginal | 2007:11:09 13:12:37 |
Defringe | 0 |
DerivedFrom | |
DigitalZoomRatio | 1 |
ExifImageHeight | 768 |
ExifImageWidth | 1152 |
Exposure | 0.00 |
ExposureCompensation | 0 |
ExposureMode | Manual |
ExposureProgram | Manual |
ExposureTime | 1/320 |
FillLight | 8 |
Flash | No Flash |
FlashFired | False |
FlashFunction | False |
FlashMode | Unknown |
FlashRedEyeMode | False |
FlashReturn | No return detection |
FNumber | 5.6 |
FocalLength | 230.0 mm |
FocalLength35efl | 230.0 mm (35 mm equivalent: 345.0 mm) |
FocalLengthIn35mmFormat | 345 mm |
Format | image/jpeg |
FOV | 6.0 deg |
GainControl | None |
GreenHue | 0 |
GreenSaturation | 0 |
HasCrop | True |
HasSettings | True |
HighlightRecovery | 0 |
HueAdjustmentAqua | 0 |
HueAdjustmentBlue | 0 |
HueAdjustmentGreen | 0 |
HueAdjustmentMagenta | 0 |
HueAdjustmentOrange | 0 |
HueAdjustmentPurple | 0 |
HueAdjustmentRed | 0 |
HueAdjustmentYellow | 0 |
HyperfocalDistance | 471.59 m |
ICCProfileName | sRGB IEC61966-2.1 |
ImageHeight (1) | 1932 |
ImageHeight | 768 |
ImageNumber | 57221 |
ImageSize | 1152x768 |
ImageWidth (1) | 2898 |
ImageWidth | 1152 |
ISO | 500 |
Lens | 70.0-200.0 mm f/2.8 |
LensInfo | 70-200mm f/2.8 |
LightSource | Cloudy |
LightValue | 11.0 |
LuminanceAdjustmentAqua | 0 |
LuminanceAdjustmentBlue | 0 |
LuminanceAdjustmentGreen | 0 |
LuminanceAdjustmentMagenta | 0 |
LuminanceAdjustmentOrange | 0 |
LuminanceAdjustmentPurple | 0 |
LuminanceAdjustmentRed | 0 |
LuminanceAdjustmentYellow | 0 |
LuminanceSmoothing | 0 |
Make | NIKON CORPORATION |
MaxApertureValue | 5.7 |
Megapixels | 0.885 |
MeteringMode | Multi-segment |
Model | NIKON D70s |
ModifyDate (1) | 2007:11:11 16:14:57+01:00 |
ModifyDate | 2007:11:11 16:14:57 |
Orientation | Horizontal (normal) |
ParametricDarks | 0 |
ParametricHighlights | 0 |
ParametricHighlightSplit | 75 |
ParametricLights | 0 |
ParametricMidtoneSplit | 50 |
ParametricShadows | 0 |
ParametricShadowSplit | 25 |
ProfileDescription | sRGB IEC61966-2.1 |
RawFileName | DSC_0145.NEF |
RedHue | 0 |
RedSaturation | 0 |
Saturation (2) | 0 |
Saturation | Normal |
SaturationAdjustmentAqua | 0 |
SaturationAdjustmentBlue | 0 |
SaturationAdjustmentGreen | 0 |
SaturationAdjustmentMagenta | 0 |
SaturationAdjustmentOrange | 0 |
SaturationAdjustmentPurple | 0 |
SaturationAdjustmentRed | 0 |
SaturationAdjustmentYellow | 0 |
ScaleFactor35efl | 1.5 |
SceneCaptureType | Standard |
SceneType | Directly photographed |
SensingMethod | One-chip color area |
Shadows | 5 |
ShadowTint | 0 |
SharpenDetail | 25 |
SharpenEdgeMasking | 0 |
SharpenRadius | +1.3 |
Sharpness (2) | 85 |
Sharpness | Soft |
ShutterSpeed | 1/320 |
ShutterSpeedValue | 1/320 |
Software | Adobe Photoshop CS3 Windows |
SplitToningBalance | 0 |
SplitToningHighlightHue | 0 |
SplitToningHighlightSaturation | 0 |
SplitToningShadowHue | 0 |
SplitToningShadowSaturation | 0 |
SubjectDistanceRange | Unknown |
Tint | -2 |
ToneCurve | 0, 0, 32, 22, 64, 56, 128, 128, 192, 196, 255, 255 |
ToneCurveName | Medium Contrast |
URL_List | |
Version | 4.2 |
Vibrance | 0 |
VignetteAmount | 0 |
WhiteBalance (2) | As Shot |
WhiteBalance | Manual |