Felt | Verdi |
AlreadyApplied | True |
Aperture | 6.3 |
ApertureValue | 6.3 |
BitsPerSample | 8 |
BlueHue | 0 |
BlueSaturation | 0 |
Brightness | +55 |
CameraProfile | Embedded |
CFAPattern | [Green,Red][Blue,Green] |
ChromaticAberrationB | 0 |
ChromaticAberrationR | 0 |
CircleOfConfusion | 0.020 mm |
ColorComponents | 1 |
ColorMode | RGB |
ColorNoiseReduction | 0 |
ColorSpace | sRGB |
Contrast (2) | -50 |
Contrast | Normal |
ConvertToGrayscale | False |
CopyrightFlag | False |
CreateDate (1) | 2007:11:28 15:33:24+01:00 |
CreateDate | 2007:11:28 13:36:46 |
CreatorTool | Adobe Photoshop Elements 5.0 (20060914.r.77) Windows |
CustomRendered | Normal |
DateTimeDigitized | 2007:11:28 13:36:46.90+01:00 |
DateTimeOriginal (1) | 2007:11:28 13:36:46.90+01:00 |
DateTimeOriginal | 2007:11:28 13:36:46 |
DigitalZoomRatio | 1 |
ExifImageHeight | 700 |
ExifImageWidth | 949 |
Exposure | +2.40 |
ExposureCompensation | +1/3 |
ExposureMode | Auto |
ExposureProgram | Shutter speed priority AE |
ExposureTime | 1/125 |
FillLight | 0 |
Flash | No Flash |
FlashFired | False |
FlashFunction | False |
FlashMode | Unknown |
FlashRedEyeMode | False |
FlashReturn | No return detection |
FNumber | 6.3 |
FocalLength | 300.0 mm |
FocalLength35efl | 300.0 mm (35 mm equivalent: 450.0 mm) |
FocalLengthIn35mmFormat | 450 mm |
Format | image/jpeg |
FOV | 4.6 deg |
GainControl | Low gain up |
GreenHue | 0 |
GreenSaturation | 0 |
HasCrop | False |
HasSettings | True |
HighlightRecovery | 100 |
HueAdjustmentAqua | 0 |
HueAdjustmentBlue | 0 |
HueAdjustmentGreen | 0 |
HueAdjustmentMagenta | 0 |
HueAdjustmentOrange | 0 |
HueAdjustmentPurple | 0 |
HueAdjustmentRed | 0 |
HueAdjustmentYellow | 0 |
HyperfocalDistance | 713.19 m |
ICCProfileName | sRGB IEC61966-2.1 |
ImageHeight (1) | 2592 |
ImageHeight | 700 |
ImageNumber | 29855 |
ImageSize | 949x700 |
ImageWidth (1) | 3872 |
ImageWidth | 949 |
IncrementalTemperature | 0 |
IncrementalTint | 0 |
ISO | 500 |
Lens | 70.0-300.0 mm f/4.5-5.6 |
LensInfo | 70-300mm f/4.5-5.6 |
LightSource | Unknown |
LightValue | 10.0 |
LuminanceAdjustmentAqua | 0 |
LuminanceAdjustmentBlue | 0 |
LuminanceAdjustmentGreen | 0 |
LuminanceAdjustmentMagenta | 0 |
LuminanceAdjustmentOrange | 0 |
LuminanceAdjustmentPurple | 0 |
LuminanceAdjustmentRed | 0 |
LuminanceAdjustmentYellow | 0 |
LuminanceSmoothing | 0 |
Make | NIKON CORPORATION |
MaxApertureValue | 5.7 |
Megapixels | 0.664 |
MeteringMode | Spot |
Model | NIKON D200 |
ModifyDate (1) | 2007:11:28 15:33:24+01:00 |
ModifyDate | 2007:11:28 15:33:24 |
Orientation | Horizontal (normal) |
ParametricDarks | -14 |
ParametricHighlights | 0 |
ParametricHighlightSplit | 75 |
ParametricLights | -9 |
ParametricMidtoneSplit | 50 |
ParametricShadows | 0 |
ParametricShadowSplit | 25 |
ProfileDescription | sRGB IEC61966-2.1 |
RedHue | 0 |
RedSaturation | 0 |
Saturation (2) | -100 |
Saturation | Normal |
SaturationAdjustmentAqua | 0 |
SaturationAdjustmentBlue | 0 |
SaturationAdjustmentGreen | 0 |
SaturationAdjustmentMagenta | 0 |
SaturationAdjustmentOrange | 0 |
SaturationAdjustmentPurple | 0 |
SaturationAdjustmentRed | 0 |
SaturationAdjustmentYellow | 0 |
ScaleFactor35efl | 1.5 |
SceneCaptureType | Standard |
SceneType | Directly photographed |
SensingMethod | One-chip color area |
Shadows | 0 |
ShadowTint | 0 |
Sharpness (2) | 0 |
Sharpness | Normal |
ShutterSpeed | 1/125 |
ShutterSpeedValue | 1/125 |
Software | Adobe Photoshop Elements 5.0 (20060914.r.77) Windows |
SplitToningBalance | 0 |
SplitToningHighlightHue | 0 |
SplitToningHighlightSaturation | 0 |
SplitToningShadowHue | 0 |
SplitToningShadowSaturation | 0 |
SubjectDistanceRange | Unknown |
ToneCurve | 0, 0, 255, 255 |
ToneCurveName | Linear |
URL_List | |
Version | 1.0 |
Vibrance | 0 |
VignetteAmount | 0 |
WhiteBalance (2) | As Shot |
WhiteBalance | Manual |