Felt | Verdi |
AlreadyApplied | True |
Aperture | 5.0 |
ApertureValue | 5.0 |
Artist | Per R. Gustavsen |
BitsPerSample | 8 |
BlueHue | 0 |
BlueSaturation | 0 |
Brightness | +50 |
By-line | Per R. Gustavsen |
CameraProfile | ACR 2.4 |
Caption-Abstract | Sandøsund |
Category | Nat |
ChromaticAberrationB | 0 |
ChromaticAberrationR | 0 |
CircleOfConfusion | 0.019 mm |
Clarity | 45 |
ColorComponents | 3 |
ColorMode | RGB |
ColorNoiseReduction | 25 |
ColorSpace (1) | Unknown (-1) |
ColorSpace | Uncalibrated |
ColorTemperature | 12750 |
Contrast | +79 |
ConvertToGrayscale | False |
Copyright | Per R. Gustavsen |
CopyrightFlag | False |
CopyrightNotice | Per R. Gustavsen |
CreateDate (1) | 2007:12:24 10:09:19+01:00 |
CreateDate | 2007:12:22 12:14:38 |
Creator | Per R. Gustavsen |
CreatorAddress | Ormeletveien 55b |
CreatorCity | Tjøme |
CreatorCountry | Norway |
CreatorPostalCode | 3145 |
CreatorRegion | Vestfold |
CreatorTool | Adobe Photoshop CS3 Windows |
CreatorWorkEmail | pergust@online.no |
CreatorWorkTelephone | 92424443 |
CropAngle | 0 |
CropBottom | 1 |
CropHeight | 2254 |
CropLeft | 0 |
CropRight | 1 |
CropTop | 0.035165 |
CropUnit | pixels |
CropWidth | 3504 |
CustomRendered | Normal |
DateTimeDigitized | 2007:12:22 12:14:38+01:00 |
DateTimeOriginal (1) | 2007:12:22 12:14:38+01:00 |
DateTimeOriginal | 2007:12:22 12:14:38 |
Defringe | 0 |
Description | Sandøsund |
ExifImageHeight | 463 |
ExifImageWidth | 720 |
Exposure | +0.19 |
ExposureCompensation | 0 |
ExposureMode | Auto |
ExposureProgram | Aperture-priority AE |
ExposureTime | 1/13 |
FillLight | 0 |
Firmware | 2.0.3 |
Flash | Off, Did not fire |
FlashCompensation | 0 |
FlashFired | False |
FlashFunction | False |
FlashMode | Off |
FlashRedEyeMode | False |
FlashReturn | No return detection |
FNumber | 5.0 |
FocalLength | 17.0 mm |
FocalLength35efl | 17.0 mm (35 mm equivalent: 27.2 mm) |
Format | image/jpeg |
FOV | 66.9 deg |
GreenHue | 0 |
GreenSaturation | 0 |
HasCrop | True |
HasSettings | True |
Headline | Sandøsund |
HighlightRecovery | 50 |
HueAdjustmentAqua | 0 |
HueAdjustmentBlue | 0 |
HueAdjustmentGreen | 0 |
HueAdjustmentMagenta | 0 |
HueAdjustmentOrange | 0 |
HueAdjustmentPurple | 0 |
HueAdjustmentRed | 0 |
HueAdjustmentYellow | 0 |
HyperfocalDistance | 3.08 m |
ICCProfileName | Adobe RGB (1998) |
ImageDescription | Sandøsund |
ImageHeight (1) | 2254 |
ImageHeight | 463 |
ImageNumber | 205 |
ImageSize | 720x463 |
ImageWidth (1) | 3504 |
ImageWidth | 720 |
ISO | 100 |
Keywords | Tjømebilder |
Lens | 17.0-85.0 mm |
LensInfo | 17-85mm f/? |
LightValue | 8.3 |
LuminanceAdjustmentAqua | 0 |
LuminanceAdjustmentBlue | 0 |
LuminanceAdjustmentGreen | 0 |
LuminanceAdjustmentMagenta | 0 |
LuminanceAdjustmentOrange | 0 |
LuminanceAdjustmentPurple | 0 |
LuminanceAdjustmentRed | 0 |
LuminanceAdjustmentYellow | 0 |
LuminanceSmoothing | 0 |
Make | Canon |
MaxApertureValue | 5.6 |
Megapixels | 0.333 |
MeteringMode | Average |
Model | Canon EOS 20D |
ModifyDate (1) | 2007:12:24 10:30:55+01:00 |
ModifyDate | 2007:12:24 10:30:55 |
Orientation | Horizontal (normal) |
OwnerName | Per R Gustavsen |
ParametricDarks | 0 |
ParametricHighlights | 0 |
ParametricHighlightSplit | 75 |
ParametricLights | 0 |
ParametricMidtoneSplit | 50 |
ParametricShadows | 0 |
ParametricShadowSplit | 25 |
ProfileDescription | Adobe RGB (1998) |
RedHue | 0 |
RedSaturation | 0 |
Rights | Per R. Gustavsen |
Saturation | -29 |
SaturationAdjustmentAqua | 0 |
SaturationAdjustmentBlue | 0 |
SaturationAdjustmentGreen | 0 |
SaturationAdjustmentMagenta | 0 |
SaturationAdjustmentOrange | 0 |
SaturationAdjustmentPurple | 0 |
SaturationAdjustmentRed | 0 |
SaturationAdjustmentYellow | 0 |
ScaleFactor35efl | 1.6 |
SceneCaptureType | Standard |
SerialNumber | 1530906712 |
Shadows | 17 |
ShadowTint | 0 |
SharpenDetail | 25 |
SharpenEdgeMasking | 0 |
SharpenRadius | +1.0 |
Sharpness | 25 |
ShutterSpeed | 1/13 |
ShutterSpeedValue | 1/13 |
Software | Adobe Photoshop CS3 Windows |
SplitToningBalance | 0 |
SplitToningHighlightHue | 0 |
SplitToningHighlightSaturation | 0 |
SplitToningShadowHue | 0 |
SplitToningShadowSaturation | 0 |
Subject | Tjømebilder |
Tint | 0 |
ToneCurve | 0, 0, 32, 22, 64, 56, 128, 128, 192, 196, 255, 255 |
ToneCurveName | Medium Contrast |
URL_List | |
Version | 1.0 |
Vibrance | -17 |
VignetteAmount | 0 |
WhiteBalance (2) | Custom |
WhiteBalance | Auto |