Felt | Verdi |
AlreadyApplied | True |
Aperture | 10.0 |
ApertureValue | 10.0 |
Artist | unknown |
BitsPerSample | 8 |
BlueHue | 0 |
BlueSaturation | 0 |
Brightness | +50 |
By-line | unknown |
CameraProfile | ACR 2.4 |
ChromaticAberrationB | 0 |
ChromaticAberrationR | 0 |
CircleOfConfusion | 0.019 mm |
Clarity | 0 |
ColorComponents | 3 |
ColorMode | RGB |
ColorSpace (1) | Unknown (-1) |
ColorSpace | Uncalibrated |
Contrast | +48 |
ConvertToGrayscale | True |
CopyrightFlag | False |
CreateDate (1) | 2007:12:14 02:13:07+01:00 |
CreateDate | 2007:11:24 20:32:39 |
Creator | unknown |
CreatorTool | Adobe Photoshop CS3 Macintosh |
CustomRendered | Normal |
DateTimeDigitized | 2007:11:24 20:32:39+01:00 |
DateTimeOriginal (1) | 2007:11:24 20:32:39+01:00 |
DateTimeOriginal | 2007:11:24 20:32:39 |
Defringe | 0 |
ExifImageHeight | 392 |
ExifImageWidth | 567 |
Exposure | -1.42 |
ExposureCompensation | 0 |
ExposureMode | Manual |
ExposureProgram | Manual |
ExposureTime | 1/200 |
FillLight | 26 |
Firmware | 1.0.3 |
Flash | On, Fired |
FlashCompensation | 0.666666666666667 |
FlashFired | True |
FlashFunction | False |
FlashMode | On |
FlashRedEyeMode | False |
FlashReturn | No return detection |
FNumber | 10.0 |
FocalLength | 102.0 mm |
FocalLength35efl | 102.0 mm (35 mm equivalent: 165.5 mm) |
Format | image/jpeg |
FOV | 12.4 deg |
GrayMixerAqua | -10 |
GrayMixerBlue | +20 |
GrayMixerGreen | -17 |
GrayMixerMagenta | +32 |
GrayMixerOrange | +12 |
GrayMixerPurple | +25 |
GrayMixerRed | +39 |
GrayMixerYellow | -9 |
GreenHue | 0 |
GreenSaturation | 0 |
HasCrop | False |
HasSettings | True |
HighlightRecovery | 0 |
HyperfocalDistance | 56.17 m |
ICCProfileName | Adobe RGB (1998) |
ImageHeight (1) | 2116 |
ImageHeight | 392 |
ImageNumber | 58 |
ImageSize | 567x392 |
ImageWidth (1) | 3063 |
ImageWidth | 567 |
IncrementalTemperature | +8 |
IncrementalTint | -16 |
ISO | 200 |
Lens | 24.0-105.0 mm |
LensInfo | 24-105mm f/? |
LightValue | 13.3 |
LuminanceSmoothing | 0 |
Make | Canon |
MaxApertureValue | 4.0 |
Megapixels | 0.222 |
MeteringMode | Partial |
Model | Canon EOS 350D DIGITAL |
ModifyDate (1) | 2007:12:14 02:13:07+01:00 |
ModifyDate | 2007:12:14 02:13:07 |
Orientation | Horizontal (normal) |
OwnerName | unknown |
ParametricDarks | -17 |
ParametricHighlights | 0 |
ParametricHighlightSplit | 75 |
ParametricLights | +28 |
ParametricMidtoneSplit | 50 |
ParametricShadows | 0 |
ParametricShadowSplit | 25 |
ProfileDescription | Adobe RGB (1998) |
RedHue | 0 |
RedSaturation | 0 |
ScaleFactor35efl | 1.6 |
SceneCaptureType | Standard |
SerialNumber | 1530717811 |
Shadows | 2 |
ShadowTint | 0 |
SharpenDetail | 25 |
SharpenEdgeMasking | 0 |
SharpenRadius | +1.0 |
Sharpness | 25 |
ShutterSpeed | 1/200 |
ShutterSpeedValue | 1/200 |
Software | Adobe Photoshop CS3 Macintosh |
SplitToningBalance | 0 |
SplitToningHighlightHue | 51 |
SplitToningHighlightSaturation | 22 |
SplitToningShadowHue | 37 |
SplitToningShadowSaturation | 32 |
ToneCurve | 0, 0, 32, 22, 64, 56, 128, 128, 192, 196, 255, 255 |
ToneCurveName | Medium Contrast |
URL_List | |
Version | 1.0 |
VignetteAmount | 0 |
WhiteBalance (2) | Custom |
WhiteBalance | Auto |