Felt | Verdi |
AlreadyApplied | True |
Aperture | 2.8 |
ApertureValue | 2.8 |
BitsPerSample | 8 |
BlueHue | 0 |
BlueSaturation | 0 |
Brightness | -5 |
BrightnessValue | 5.4 |
CameraProfile | Embedded |
ChromaticAberrationB | 0 |
ChromaticAberrationR | 0 |
CircleOfConfusion | 0.002 mm |
ColorComponents | 3 |
ColorMode | RGB |
ColorNoiseReduction | 0 |
ColorSpace | sRGB |
Contrast | +75 |
ConvertToGrayscale | False |
Copyright | |
CopyrightFlag | False |
CopyrightNotice | |
CreateDate (1) | 2008:01:10 17:39:14+01:00 |
CreateDate | 2003:08:10 00:28:51 |
CreatorTool | Adobe Photoshop CS3 Windows |
DateTimeDigitized | 2003:08:10 00:28:51+02:00 |
DateTimeOriginal (1) | 2003:08:10 00:28:51+02:00 |
DateTimeOriginal | 2003:08:10 00:28:51 |
ExifImageHeight | 600 |
ExifImageWidth | 746 |
Exposure | -0.42 |
ExposureCompensation | 0 |
ExposureMode | Auto |
ExposureProgram | Program AE |
ExposureTime | 1/280 |
FillLight | 0 |
Flash | Off, Did not fire |
FlashFired | False |
FlashFunction | False |
FlashMode | Off |
FlashRedEyeMode | False |
FlashReturn | No return detection |
FNumber | 2.8 |
FocalLength | 5.7 mm |
FocalLength35efl | 5.7 mm (35 mm equivalent: 112.0 mm) |
Format | image/jpeg |
FOV | 18.3 deg |
GreenHue | 0 |
GreenSaturation | 0 |
HasCrop | False |
HasSettings | True |
HighlightRecovery | 0 |
HueAdjustmentAqua | 0 |
HueAdjustmentBlue | 0 |
HueAdjustmentGreen | +53 |
HueAdjustmentMagenta | 0 |
HueAdjustmentOrange | -25 |
HueAdjustmentPurple | 0 |
HueAdjustmentRed | -100 |
HueAdjustmentYellow | +81 |
HyperfocalDistance | 7.59 m |
ICCProfileName | sRGB IEC61966-2.1 |
ImageHeight | 600 |
ImageSize | 746x600 |
ImageWidth | 746 |
IncrementalTemperature | 0 |
IncrementalTint | 0 |
ISO | 200 |
LightSource | Unknown |
LightValue | 10.1 |
LuminanceAdjustmentAqua | 0 |
LuminanceAdjustmentBlue | 0 |
LuminanceAdjustmentGreen | -20 |
LuminanceAdjustmentMagenta | 0 |
LuminanceAdjustmentOrange | 0 |
LuminanceAdjustmentPurple | 0 |
LuminanceAdjustmentRed | -91 |
LuminanceAdjustmentYellow | -15 |
LuminanceSmoothing | 0 |
Make | FUJIFILM |
MaxApertureValue | 2.8 |
Megapixels | 0.448 |
MeteringMode | Multi-segment |
Model | FinePix F401 |
ModifyDate (1) | 2008:01:10 17:39:14+01:00 |
ModifyDate | 2008:01:10 17:39:14 |
Orientation | Horizontal (normal) |
ParametricDarks | 0 |
ParametricHighlights | 0 |
ParametricHighlightSplit | 75 |
ParametricLights | 0 |
ParametricMidtoneSplit | 50 |
ParametricShadows | 0 |
ParametricShadowSplit | 25 |
ProfileDescription | sRGB IEC61966-2.1 |
RedHue | 0 |
RedSaturation | 0 |
Rights | |
Saturation | 0 |
SaturationAdjustmentAqua | 0 |
SaturationAdjustmentBlue | 0 |
SaturationAdjustmentGreen | +65 |
SaturationAdjustmentMagenta | 0 |
SaturationAdjustmentOrange | 0 |
SaturationAdjustmentPurple | 0 |
SaturationAdjustmentRed | -67 |
SaturationAdjustmentYellow | -100 |
ScaleFactor35efl | 19.7 |
SceneCaptureType | Standard |
SceneType | Directly photographed |
SensingMethod | One-chip color area |
Shadows | 0 |
ShadowTint | 0 |
Sharpness (2) | 47 |
Sharpness | Normal |
ShutterSpeed | 1/280 |
ShutterSpeedValue | 1/280 |
Software | Adobe Photoshop CS3 Windows |
SplitToningBalance | 0 |
SplitToningHighlightHue | 0 |
SplitToningHighlightSaturation | 0 |
SplitToningShadowHue | 0 |
SplitToningShadowSaturation | 0 |
SubjectDistanceRange | Unknown |
ToneCurve | 0, 0, 255, 255 |
ToneCurveName | Linear |
URL_List | |
Version | 1.0 |
Vibrance | 0 |
VignetteAmount | 0 |
WhiteBalance (2) | As Shot |
WhiteBalance | Auto |