Felt | Verdi |
AlreadyApplied | True |
Aperture | 4.0 |
ApertureValue | 4.0 |
Artist | Mone Knudsen |
BitsPerSample (1) | 8, 8, 8 |
BitsPerSample | 8 |
BlueHue | 0 |
BlueSaturation | 0 |
Brightness | +64 |
By-line | Mone Knudsen |
CameraProfile | ACR 3.3 |
ChromaticAberrationB | 0 |
ChromaticAberrationR | 0 |
CircleOfConfusion | 0.030 mm |
Clarity | 20 |
ColorComponents | 3 |
ColorMode | RGB |
ColorNoiseReduction | 25 |
ColorSpace (1) | Unknown (-1) |
ColorSpace | Uncalibrated |
ColorTemperature | 6950 |
Contrast | +29 |
ConvertToGrayscale | False |
Copyright | photographer |
CopyrightFlag | False |
CopyrightNotice | photographer |
CreateDate (1) | 2008:02:02 18:46:23+01:00 |
CreateDate | 2008:02:02 08:59:13 |
Creator | Mone Knudsen |
CreatorCity | Oslo |
CreatorCountry | Norway |
CreatorTool | Adobe Photoshop CS3 Windows |
CreatorWorkEmail | mone_knudsen@yahoo.no |
CropAngle | 0 |
CropBottom | 1 |
CropLeft | 0.048644 |
CropRight | 0.971936 |
CropTop | 0 |
CustomRendered | Normal |
DateTimeDigitized | 2008:02:02 08:59:13+01:00 |
DateTimeOriginal (1) | 2008:02:02 08:59:13+01:00 |
DateTimeOriginal | 2008:02:02 08:59:13 |
Defringe | 0 |
ExifImageHeight | 768 |
ExifImageWidth | 1064 |
Exposure | 0.00 |
ExposureCompensation | +1 |
ExposureMode | Auto |
ExposureProgram | Shutter speed priority AE |
ExposureTime | 1/25 |
FillLight | 0 |
Firmware | 1.1.0 |
Flash | Off, Did not fire |
FlashCompensation | 0 |
FlashFired | False |
FlashFunction | False |
FlashMode | Off |
FlashRedEyeMode | False |
FlashReturn | No return detection |
FNumber | 4.0 |
FocalLength | 10.0 mm |
FocalLength35efl | 10.0 mm (35 mm equivalent: 10.0 mm) |
Format | image/jpeg |
FOV | 121.8 deg |
GreenHue | 0 |
GreenSaturation | 0 |
HasCrop | True |
HasSettings | True |
HighlightRecovery | 0 |
HueAdjustmentAqua | 0 |
HueAdjustmentBlue | 0 |
HueAdjustmentGreen | 0 |
HueAdjustmentMagenta | 0 |
HueAdjustmentOrange | 0 |
HueAdjustmentPurple | 0 |
HueAdjustmentRed | 0 |
HueAdjustmentYellow | 0 |
HyperfocalDistance | 0.83 m |
ICCProfileName | Adobe RGB (1998) |
ImageHeight (1) | 2912 |
ImageHeight | 768 |
ImageNumber | 4 |
ImageSize | 1064x768 |
ImageWidth (1) | 4033 |
ImageWidth | 1064 |
ISO | 100 |
Lens | 10.0-20.0 mm |
LensInfo | 10-20mm f/? |
LightValue | 8.6 |
LuminanceAdjustmentAqua | 0 |
LuminanceAdjustmentBlue | 0 |
LuminanceAdjustmentGreen | 0 |
LuminanceAdjustmentMagenta | 0 |
LuminanceAdjustmentOrange | 0 |
LuminanceAdjustmentPurple | 0 |
LuminanceAdjustmentRed | 0 |
LuminanceAdjustmentYellow | 0 |
LuminanceSmoothing | 0 |
Make | Canon |
MaxApertureValue | 4.0 |
Megapixels | 0.817 |
MeteringMode | Multi-segment |
Model | Canon EOS 5D |
ModifyDate (1) | 2008:02:02 18:46:23+01:00 |
ModifyDate | 2008:02:02 18:46:23 |
Orientation | Horizontal (normal) |
OwnerName | Mone Knudsen |
ParametricDarks | 0 |
ParametricHighlights | 0 |
ParametricHighlightSplit | 75 |
ParametricLights | 0 |
ParametricMidtoneSplit | 50 |
ParametricShadows | 0 |
ParametricShadowSplit | 25 |
PhotometricInterpretation | RGB |
PlanarConfiguration | Chunky |
ProfileDescription | Adobe RGB (1998) |
Rating | 0 |
RawFileName | _MG_9083.dng |
RedHue | 0 |
RedSaturation | 0 |
Rights | photographer |
SamplesPerPixel | 3 |
Saturation | 0 |
SaturationAdjustmentAqua | 0 |
SaturationAdjustmentBlue | 0 |
SaturationAdjustmentGreen | 0 |
SaturationAdjustmentMagenta | 0 |
SaturationAdjustmentOrange | 0 |
SaturationAdjustmentPurple | 0 |
SaturationAdjustmentRed | 0 |
SaturationAdjustmentYellow | 0 |
ScaleFactor35efl | 1.0 |
SceneCaptureType | Standard |
SerialNumber | 3021201493 |
Shadows | 0 |
ShadowTint | 0 |
SharpenDetail | 25 |
SharpenEdgeMasking | 0 |
SharpenRadius | +1.0 |
Sharpness | 25 |
ShutterSpeed | 1/25 |
ShutterSpeedValue | 1/25 |
Software | Adobe Photoshop CS3 Windows |
SplitToningBalance | 0 |
SplitToningHighlightHue | 0 |
SplitToningHighlightSaturation | 0 |
SplitToningShadowHue | 0 |
SplitToningShadowSaturation | 0 |
Tint | -8 |
ToneCurve | 0, 0, 32, 22, 64, 56, 128, 128, 192, 196, 255, 255 |
ToneCurveName | Medium Contrast |
URL_List | |
UsageTerms | The picture can be used to promote the photographer, if the photographer's name is put under the picture. If photographer's name's forgotten, a factura will be sent. |
Version | 4.3.1 |
Vibrance | -9 |
VignetteAmount | 0 |
WhiteBalance (2) | As Shot |
WhiteBalance | Auto |