Felt | Verdi |
AlreadyApplied | True |
Aperture | 6.4 |
ApertureValue | 6.4 |
Artist | Jan Erik Arud |
BitsPerSample | 8 |
BlackClip | 2.000300 |
BlueHue | 0 |
BlueSaturation | 0 |
Brightness | -4 |
By-line | Jan Erik Arud |
CameraProfile | Embedded |
ChromaticAberrationB | 0 |
ChromaticAberrationR | 0 |
Clarity | 44 |
ColorComponents | 3 |
ColorNoiseReduction | 7 |
ColorSaturation | 89 |
ColorTemperature | 0 |
Contrast | +57 |
ConvertToGrayscale | False |
Copyright | Jan Erik Arud |
CopyrightNotice | Jan Erik Arud |
Creator | Jan Erik Arud |
CreatorTool | Adobe Photoshop Lightroom |
CreatorWorkEmail | arud@vision3.no |
CreatorWorkURL | www.vision3.no |
CropAngle | 0.662233 |
CropBottom | 1 |
CropHeight | 768 |
CropLeft | 0.012316 |
CropRight | 0.987684 |
CropTop | 0 |
CropUnit | pixels |
CropWidth | 1154 |
DateTimeOriginal (1) | 2008:03:08 07:12:01+01:00 |
DateTimeOriginal | 2008:03:08 07:12:01 |
Defringe | 0 |
Exposure | -2.29 |
FillLight | 39 |
FNumber | 6.4 |
FocalLength | 17.0 mm |
FocalLength35efl | 17.0 mm |
Gamma | 1.356604 |
GreenHue | 0 |
GreenSaturation | 0 |
HasCrop | True |
HasSettings | True |
HighlightRecovery | 0 |
HighlightsSmoothing | 82 |
HueAdjustmentAqua | 0 |
HueAdjustmentBlue | 0 |
HueAdjustmentGreen | 0 |
HueAdjustmentMagenta | 0 |
HueAdjustmentOrange | 0 |
HueAdjustmentPurple | 0 |
HueAdjustmentRed | 0 |
HueAdjustmentYellow | 0 |
ImageHeight | 768 |
ImageSize | 1154x768 |
ImageWidth | 1154 |
IncrementalTemperature | -12 |
IncrementalTint | -19 |
ISO | 100 |
Label | Red |
LuminanceAdjustmentAqua | 0 |
LuminanceAdjustmentBlue | 0 |
LuminanceAdjustmentGreen | 0 |
LuminanceAdjustmentMagenta | 0 |
LuminanceAdjustmentOrange | 0 |
LuminanceAdjustmentPurple | 0 |
LuminanceAdjustmentRed | 0 |
LuminanceAdjustmentYellow | 0 |
LuminanceSmoothing | 2 |
Luminosity | -6 |
Marked | True |
Megapixels | 0.886 |
Method | Details Enhancer |
Microcontrast | 1 |
Microsmoothing | 30 |
Model | Canon EOS-1D Mark III |
ModifyDate (1) | 2008:03:09 18:00:07+01:00 |
ModifyDate | 2008:03:09 18:00:07 |
ParametricDarks | +100 |
ParametricHighlights | 0 |
ParametricHighlightSplit | 90 |
ParametricLights | +6 |
ParametricMidtoneSplit | 30 |
ParametricShadows | +28 |
ParametricShadowSplit | 10 |
ProfileDescription | sRGB IEC61966-2.1 |
Rating | 2 |
RedHue | 0 |
RedSaturation | 0 |
Rights | Jan Erik Arud |
Saturation | +5 |
SaturationAdjustmentAqua | 0 |
SaturationAdjustmentBlue | 0 |
SaturationAdjustmentGreen | 0 |
SaturationAdjustmentMagenta | 0 |
SaturationAdjustmentOrange | 0 |
SaturationAdjustmentPurple | 0 |
SaturationAdjustmentRed | 0 |
SaturationAdjustmentYellow | 0 |
SaturationHighlights | 0 |
SaturationShadows | 0 |
Shadows | 4 |
ShadowsClipping | 39 |
ShadowsSmoothing | 70 |
ShadowTint | 0 |
SharpenDetail | 69 |
SharpenEdgeMasking | 0 |
SharpenRadius | +1.0 |
Sharpness | 30 |
Smoothing | High |
SplitToningBalance | 0 |
SplitToningHighlightHue | 0 |
SplitToningHighlightSaturation | 0 |
SplitToningShadowHue | 0 |
SplitToningShadowSaturation | 0 |
Strength | 34 |
ToneCurve | 0, 0, 32, 22, 64, 56, 128, 128, 192, 196, 255, 255 |
ToneCurveName | Medium Contrast |
Version (1) | 2.5 |
Version | 1.0 |
Vibrance | +5 |
VignetteAmount | 0 |
WhiteBalance | Custom |
WhiteClip | 3.107100 |