Felt | Verdi |
AlreadyApplied | True |
Aperture | 13.0 |
ApertureValue | 13.0 |
BitsPerSample (1) | 16, 16, 16 |
BitsPerSample | 8 |
BlueHue | 0 |
BlueSaturation | 0 |
Brightness | +76 |
CameraProfile | ACR 3.7 |
ChromaticAberrationB | 0 |
ChromaticAberrationR | 0 |
CircleOfConfusion | 0.020 mm |
Clarity | 35 |
ColorComponents | 1 |
ColorSpace | Uncalibrated |
ColorTemperature | 5100 |
Contrast (1) | +43 |
Contrast | High |
ConvertToGrayscale | True |
CopyrightFlag | False |
CreateDate | 2007:03:05 15:54:31 |
CreatorTool | Adobe Photoshop Elements for Windows, version 2.0 |
CustomRendered | Normal |
DateTimeDigitized | 2007:03:05 15:54:31+01:00 |
DateTimeOriginal (1) | 2007:03:05 15:54:31+01:00 |
DateTimeOriginal | 2007:03:05 15:54:31 |
Defringe | 0 |
ExifImageHeight | 730 |
ExifImageWidth | 1091 |
Exposure | 0.00 |
ExposureCompensation | 0 |
ExposureMode | Auto |
ExposureProgram | Program AE |
ExposureTime | 1/750 |
FillLight | 0 |
Flash | Off, Did not fire |
FlashFired | False |
FlashFunction | False |
FlashMode | Off |
FlashRedEyeMode | False |
FlashReturn | No return detection |
FNumber | 13.0 |
FocalLength | 210.0 mm |
FocalLength35efl | 210.0 mm (35 mm equivalent: 315.0 mm) |
FocalLengthIn35mmFormat | 315 mm |
FOV | 6.5 deg |
GrayMixerAqua | -20 |
GrayMixerBlue | +5 |
GrayMixerGreen | -23 |
GrayMixerMagenta | +4 |
GrayMixerOrange | -13 |
GrayMixerPurple | +12 |
GrayMixerRed | -5 |
GrayMixerYellow | -16 |
GreenHue | 0 |
GreenSaturation | 0 |
HasCrop | False |
HasSettings | True |
HighlightRecovery | 3 |
HyperfocalDistance | 169.35 m |
ImageHeight (1) | 2592 |
ImageHeight | 730 |
ImageSize | 1091x730 |
ImageWidth (1) | 3872 |
ImageWidth | 1091 |
ISO | 100 |
Lens | smc PENTAX-F 70-210mm F4-5.6 |
LensID (1) | 3 31 |
LensID | smc PENTAX-F 70-210mm F4-5.6 or Takumar-F 70-210mm F4-5.6 |
LensInfo | 70-210mm f/4-5.6 |
LightValue | 17.0 |
LuminanceSmoothing | 62 |
Make | PENTAX Corporation |
Megapixels | 0.796 |
MeteringMode | Multi-segment |
Model | PENTAX K10D |
ModifyDate (1) | 2008:03:14 19:49:38+01:00 |
ModifyDate | 2008:03:18 12:40:10 |
Orientation | Horizontal (normal) |
ParametricDarks | -22 |
ParametricHighlights | 0 |
ParametricHighlightSplit | 68 |
ParametricLights | +57 |
ParametricMidtoneSplit | 58 |
ParametricShadows | 0 |
ParametricShadowSplit | 48 |
PhotometricInterpretation | RGB |
ProfileDescription | Adobe RGB (1998) |
RedHue | 0 |
RedSaturation | 0 |
SamplesPerPixel | 3 |
Saturation | High |
ScaleFactor35efl | 1.5 |
SceneCaptureType | Standard |
SensingMethod | One-chip color area |
Shadows | 68 |
ShadowTint | 0 |
SharpenDetail | 25 |
SharpenEdgeMasking | 0 |
SharpenRadius | +1.0 |
Sharpness (1) | 25 |
Sharpness | Hard |
ShutterSpeed | 1/750 |
ShutterSpeedValue | 1/750 |
Software | Adobe Photoshop Elements 2.0 |
SplitToningBalance | 0 |
SplitToningHighlightHue | 0 |
SplitToningHighlightSaturation | 0 |
SplitToningShadowHue | 0 |
SplitToningShadowSaturation | 0 |
SubjectDistanceRange | Distant |
Tint | -8 |
ToneCurve | 0, 0, 32, 22, 64, 56, 128, 128, 192, 196, 255, 255 |
ToneCurveName | Medium Contrast |
URL_List | |
Version | 1.0 |
VignetteAmount | 0 |
WhiteBalance (1) | As Shot |
WhiteBalance | Auto |