Felt | Verdi |
AlreadyApplied | True |
Aperture | 5.0 |
ApertureValue | 5.0 |
BitsPerSample | 8 |
BlueHue | +11 |
BlueSaturation | -21 |
Brightness | +64 |
CameraProfile | ACR 2.4 |
ChromaticAberrationB | 0 |
ChromaticAberrationR | 0 |
CircleOfConfusion | 0.023 mm |
Clarity | 50 |
ColorComponents | 3 |
ColorMode | RGB |
ColorSpace (1) | Unknown (-1) |
ColorSpace | Uncalibrated |
ColorTemperature | 5700 |
Contrast | +32 |
ConvertToGrayscale | True |
CopyrightFlag | False |
CreateDate (1) | 2008:03:20 16:07:56+01:00 |
CreateDate | 2008:03:20 14:18:25 |
CreatorTool | Adobe Photoshop CS2 Windows |
CustomRendered | Normal |
DateTimeDigitized | 2008:03:20 14:18:25.82+01:00 |
DateTimeOriginal (1) | 2008:03:20 14:18:25.82+01:00 |
DateTimeOriginal | 2008:03:20 14:18:25 |
Defringe | 0 |
ExifImageHeight | 476 |
ExifImageWidth | 800 |
Exposure | 0.00 |
ExposureCompensation | 0 |
ExposureMode | Auto |
ExposureProgram | Shutter speed priority AE |
ExposureTime | 1/500 |
FillLight | 0 |
Firmware | 1.1.3 |
Flash | No Flash |
FlashCompensation | 0 |
FlashFired | False |
FlashFunction | False |
FlashMode | Unknown |
FlashRedEyeMode | False |
FlashReturn | No return detection |
FNumber | 5.0 |
FocalLength | 90.0 mm |
FocalLength35efl | 90.0 mm (35 mm equivalent: 115.3 mm) |
Format | image/jpeg |
FOV | 17.7 deg |
GrayMixerAqua | +53 |
GrayMixerBlue | +65 |
GrayMixerGreen | -9 |
GrayMixerMagenta | +65 |
GrayMixerOrange | -53 |
GrayMixerPurple | +53 |
GrayMixerRed | +34 |
GrayMixerYellow | -25 |
GreenHue | +16 |
GreenSaturation | +51 |
HasCrop | False |
HasSettings | True |
HighlightRecovery | 0 |
HyperfocalDistance | 69.09 m |
ICCProfileName | Adobe RGB (1998) |
ImageHeight (1) | 2592 |
ImageHeight | 476 |
ImageNumber | 0 |
ImageSize | 800x476 |
ImageWidth (1) | 3888 |
ImageWidth | 800 |
ISO | 100 |
Lens | EF70-200mm f/2.8L IS USM |
LensInfo | 70-200mm f/? |
LightValue | 13.6 |
LuminanceSmoothing | 16 |
Make | Canon |
MaxApertureValue | 2.8 |
Megapixels | 0.381 |
MeteringMode | Multi-segment |
Model | Canon EOS-1D Mark III |
ModifyDate (1) | 2008:03:20 16:07:56+01:00 |
ModifyDate | 2008:03:20 16:07:56 |
Orientation | Horizontal (normal) |
ParametricDarks | 0 |
ParametricHighlights | 0 |
ParametricHighlightSplit | 75 |
ParametricLights | -2 |
ParametricMidtoneSplit | 50 |
ParametricShadows | 0 |
ParametricShadowSplit | 25 |
ProfileDescription | Adobe RGB (1998) |
RedHue | +23 |
RedSaturation | +10 |
ScaleFactor35efl | 1.3 |
SceneCaptureType | Standard |
SerialNumber | 558843 |
Shadows | 0 |
ShadowTint | +4 |
SharpenDetail | 26 |
SharpenEdgeMasking | 24 |
SharpenRadius | +1.0 |
Sharpness | 53 |
ShutterSpeed | 1/500 |
ShutterSpeedValue | 1/500 |
Software | Adobe Photoshop CS2 Windows |
SplitToningBalance | 0 |
SplitToningHighlightHue | 215 |
SplitToningHighlightSaturation | 52 |
SplitToningShadowHue | 216 |
SplitToningShadowSaturation | 12 |
Tint | +5 |
ToneCurve | 0, 0, 255, 255 |
ToneCurveName | Linear |
URL_List | |
Version | 1.0 |
VignetteAmount | -76 |
VignetteMidpoint | 40 |
WhiteBalance (2) | As Shot |
WhiteBalance | Auto |