Felt | Verdi |
AlreadyApplied | True |
Aperture | 5.6 |
ApertureValue | 5.6 |
Artist | Eric Fagerheim |
BitsPerSample (1) | 16, 16, 16 |
BitsPerSample (2) | 16 16 16 |
BitsPerSample | 8 |
BlueHue | 0 |
BlueSaturation | 0 |
Brightness | +50 |
By-line | Eric Fagerheim |
CameraProfile | ACR 3.6 |
Caption-Abstract | emfphoto |
CFAPattern | [Red,Green][Green,Blue] |
ChromaticAberrationB | 0 |
ChromaticAberrationR | 0 |
CircleOfConfusion | 0.020 mm |
Clarity | 0 |
ColorComponents | 3 |
ColorMode | RGB |
ColorNoiseReduction | 25 |
ColorSpace | sRGB |
ColorTemperature | 4700 |
Contrast (2) | +25 |
Contrast | High |
ConvertToGrayscale | False |
Copyright | Eric Fagerheim |
CopyrightFlag | True |
CopyrightNotice | Eric Fagerheim |
CreateDate (1) | 2008:03:11 21:16:44+01:00 |
CreateDate | 2008:03:09 18:16:15 |
Creator | Eric Fagerheim |
CreatorCity | Melhus |
CreatorCountry | Norway |
CreatorPostalCode | 7232 |
CreatorTool | Adobe Photoshop CS3 Windows |
CreatorWorkEmail | mail@emfphoto.no |
CreatorWorkURL | www.emfphoto.no |
CustomRendered | Normal |
DateTimeDigitized | 2008:03:09 18:16:15+01:00 |
DateTimeOriginal (1) | 2008:03:09 18:16:15+01:00 |
DateTimeOriginal | 2008:03:09 18:16:15 |
Defringe | 0 |
Description | emfphoto |
ExifImageHeight | 750 |
ExifImageWidth | 501 |
Exposure | -0.57 |
ExposureCompensation | 0 |
ExposureMode | Manual |
ExposureProgram | Manual |
ExposureTime | 1/180 |
FillLight | 23 |
Flash | Off, Did not fire |
FlashFired | False |
FlashFunction | False |
FlashMode | Off |
FlashRedEyeMode | False |
FlashReturn | No return detection |
FNumber | 5.6 |
FocalLength | 43.0 mm |
FocalLength35efl | 43.0 mm (35 mm equivalent: 64.0 mm) |
FocalLengthIn35mmFormat | 64 mm |
Format | image/jpeg |
FOV | 31.4 deg |
GreenHue | 0 |
GreenSaturation | 0 |
HasCrop | False |
HasSettings | True |
HierarchicalSubject | Nina Teodora |
HighlightRecovery | 0 |
HueAdjustmentAqua | 0 |
HueAdjustmentBlue | 0 |
HueAdjustmentGreen | 0 |
HueAdjustmentMagenta | 0 |
HueAdjustmentOrange | 0 |
HueAdjustmentPurple | 0 |
HueAdjustmentRed | 0 |
HueAdjustmentYellow | 0 |
HyperfocalDistance | 16.36 m |
ICCProfileName | sRGB IEC61966-2.1 |
ImageDescription | emfphoto |
ImageHeight (2) | 3008 |
ImageHeight | 750 |
ImageSize | 501x750 |
ImageWidth (1) | 2008 |
ImageWidth | 501 |
ISO | 200 |
Keywords | Nina Teodora |
Label | emfphoto |
Lens | TAMRON SP AF 28-75mm F2.8 XR Di (A09) |
LensID (1) | 4 49 |
LensID | Tamron SP AF 28-75mm F2.8 XR Di LD Aspherical [IF] Macro |
LensInfo | 28-75mm f/2.8 |
LightValue | 11.5 |
LuminanceAdjustmentAqua | 0 |
LuminanceAdjustmentBlue | 0 |
LuminanceAdjustmentGreen | 0 |
LuminanceAdjustmentMagenta | 0 |
LuminanceAdjustmentOrange | 0 |
LuminanceAdjustmentPurple | 0 |
LuminanceAdjustmentRed | 0 |
LuminanceAdjustmentYellow | 0 |
LuminanceSmoothing | 0 |
Make | PENTAX Corporation |
Marked | True |
Megapixels | 0.376 |
MeteringMode | Multi-segment |
Model | PENTAX K100D |
ModifyDate (1) | 2008:03:11 21:16:44+01:00 |
ModifyDate | 2008:03:11 21:16:44 |
Orientation | Horizontal (normal) |
ParametricDarks | 0 |
ParametricHighlights | 0 |
ParametricHighlightSplit | 75 |
ParametricLights | 0 |
ParametricMidtoneSplit | 50 |
ParametricShadows | 0 |
ParametricShadowSplit | 25 |
PhotometricInterpretation | RGB |
PlanarConfiguration | Planar |
ProfileDescription | sRGB IEC61966-2.1 |
RedHue | 0 |
RedSaturation | 0 |
Rights | Eric Fagerheim |
SamplesPerPixel | 3 |
Saturation (2) | 0 |
Saturation | Normal |
SaturationAdjustmentAqua | 0 |
SaturationAdjustmentBlue | 0 |
SaturationAdjustmentGreen | 0 |
SaturationAdjustmentMagenta | 0 |
SaturationAdjustmentOrange | 0 |
SaturationAdjustmentPurple | 0 |
SaturationAdjustmentRed | 0 |
SaturationAdjustmentYellow | 0 |
ScaleFactor35efl | 1.5 |
SceneCaptureType | Standard |
SceneType | Directly photographed |
SensingMethod | One-chip color area |
Shadows | 5 |
ShadowTint | 0 |
SharpenDetail | 25 |
SharpenEdgeMasking | 0 |
SharpenRadius | +1.0 |
Sharpness (2) | 25 |
Sharpness | Normal |
ShutterSpeed | 1/180 |
ShutterSpeedValue | 1/180 |
Software | Adobe Photoshop CS3 Windows |
SplitToningBalance | 0 |
SplitToningHighlightHue | 0 |
SplitToningHighlightSaturation | 0 |
SplitToningShadowHue | 0 |
SplitToningShadowSaturation | 0 |
Subject | Nina Teodora |
SubjectDistanceRange | Distant |
Tint | -11 |
ToneCurve | 0, 0, 32, 22, 64, 56, 128, 128, 192, 196, 255, 255 |
ToneCurveName | Medium Contrast |
URL | www.emfphoto.no |
URL_List | |
Version | 1.0 |
Vibrance | 0 |
VignetteAmount | -19 |
VignetteMidpoint | 48 |
WebStatement | www.emfphoto.no |
WhiteBalance (2) | As Shot |
WhiteBalance | Manual |