Felt | Verdi |
AlreadyApplied | True |
Aperture | 4.5 |
ApertureValue | 4.5 |
BitsPerSample | 8 |
BlueHue | 0 |
BlueSaturation | 0 |
Brightness | +50 |
CameraProfile | ACR 3.6 |
CFAPattern | [Green,Blue][Red,Green] |
ChromaticAberrationB | 0 |
ChromaticAberrationR | 0 |
CircleOfConfusion | 0.020 mm |
Clarity | 0 |
ColorComponents | 1 |
ColorMode | Grayscale |
ColorSpace (1) | Unknown (-1) |
ColorSpace | Uncalibrated |
ColorTemperature | 6000 |
Contrast (2) | +25 |
Contrast | Normal |
ConvertToGrayscale | True |
CopyrightFlag | False |
CreateDate (1) | 2008:03:29 23:23:28+01:00 |
CreateDate | 2007:03:09 17:28:06 |
CreatorTool | Adobe Photoshop CS3 Macintosh |
CropAngle | 1.098883 |
CropBottom | 0.854462 |
CropLeft | 0.176757 |
CropRight | 0.905284 |
CropTop | 0.062641 |
CustomRendered | Normal |
DateTimeDigitized | 2007:03:09 17:28:06.80+01:00 |
DateTimeOriginal (1) | 2007:03:09 17:28:06.80+01:00 |
DateTimeOriginal | 2007:03:09 17:28:06 |
Defringe | 0 |
DigitalZoomRatio | 1 |
ExifImageHeight | 768 |
ExifImageWidth | 511 |
Exposure | +0.30 |
ExposureCompensation | 0 |
ExposureMode | Auto |
ExposureProgram | Shutter speed priority AE |
ExposureTime | 1/160 |
FillLight | 0 |
Flash | No Flash |
FlashFired | False |
FlashFunction | False |
FlashMode | Unknown |
FlashRedEyeMode | False |
FlashReturn | No return detection |
FNumber | 4.5 |
FocalLength | 38.0 mm |
FocalLength35efl | 38.0 mm (35 mm equivalent: 57.0 mm) |
FocalLengthIn35mmFormat | 57 mm |
Format | image/jpeg |
FOV | 35.1 deg |
GainControl | Low gain up |
GrayMixerAqua | -18 |
GrayMixerBlue | +10 |
GrayMixerGreen | -27 |
GrayMixerMagenta | +4 |
GrayMixerOrange | -19 |
GrayMixerPurple | +16 |
GrayMixerRed | -10 |
GrayMixerYellow | -23 |
GreenHue | 0 |
GreenSaturation | 0 |
HasCrop | True |
HasSettings | True |
HighlightRecovery | 0 |
HyperfocalDistance | 16.02 m |
ICCProfileName | Gray Gamma 2.2 |
ImageHeight (1) | 2860 |
ImageHeight | 768 |
ImageNumber | 2532 |
ImageSize | 511x768 |
ImageWidth (1) | 1998 |
ImageWidth | 511 |
ISO | 500 |
Lens | 18.0-135.0 mm f/3.5-5.6 |
LensInfo | 18-135mm f/3.5-5.6 |
LightSource | Unknown |
LightValue | 9.3 |
LuminanceSmoothing | 0 |
Make | NIKON CORPORATION |
MaxApertureValue | 4.4 |
Megapixels | 0.392 |
MeteringMode | Multi-segment |
Model | NIKON D80 |
ModifyDate (1) | 2008:03:29 23:23:28+01:00 |
ModifyDate | 2008:03:29 23:23:28 |
Orientation | Horizontal (normal) |
ParametricDarks | -18 |
ParametricHighlights | 0 |
ParametricHighlightSplit | 75 |
ParametricLights | -9 |
ParametricMidtoneSplit | 50 |
ParametricShadows | -22 |
ParametricShadowSplit | 25 |
ProfileDescription | Gray Gamma 2.2 |
Rating | 0 |
RawFileName | DSC_0005.NEF |
RedHue | 0 |
RedSaturation | 0 |
Saturation | Normal |
ScaleFactor35efl | 1.5 |
SceneCaptureType | Standard |
SceneType | Directly photographed |
SensingMethod | One-chip color area |
Shadows | 5 |
ShadowTint | 0 |
SharpenDetail | 25 |
SharpenEdgeMasking | 0 |
SharpenRadius | +1.0 |
Sharpness (2) | 25 |
Sharpness | Normal |
ShutterSpeed | 1/160 |
ShutterSpeedValue | 1/160 |
Software | Adobe Photoshop CS3 Macintosh |
SplitToningBalance | 0 |
SplitToningHighlightHue | 0 |
SplitToningHighlightSaturation | 0 |
SplitToningShadowHue | 0 |
SplitToningShadowSaturation | 0 |
SubjectDistanceRange | Unknown |
Tint | -3 |
ToneCurve | 0, 0, 49, 44, 161, 200, 209, 255 |
ToneCurveName | Custom |
URL_List | |
Version | 4.3.1 |
VignetteAmount | 0 |
WhiteBalance (2) | As Shot |
WhiteBalance | Auto |