Felt | Verdi |
AlreadyApplied | True |
Aperture | 5.6 |
ApertureValue | 5.6 |
BitsPerSample | 8 |
BlueHue | +55 |
BlueSaturation | +27 |
Brightness | 0 |
CameraProfile | Embedded |
ChromaticAberrationB | 0 |
ChromaticAberrationR | 0 |
CircleOfConfusion | 0.019 mm |
ColorComponents | 3 |
ColorMode | RGB |
ColorNoiseReduction | 0 |
ColorSpace | sRGB |
Contrast | +21 |
ConvertToGrayscale | False |
CopyrightFlag | False |
CreateDate (1) | 2008:04:03 17:13:03+02:00 |
CreateDate | 2008:03:22 13:01:04 |
CreatorTool | Adobe Photoshop CS3 Windows |
Creatortool | Microsoft Windows Photo Gallery 6.0.6000.16386 |
CustomRendered | Normal |
DateTimeDigitized | 2008:03:22 13:01:04+01:00 |
DateTimeOriginal (1) | 2008:03:22 13:01:04+01:00 |
DateTimeOriginal | 2008:03:22 13:01:04 |
ExifImageHeight | 720 |
ExifImageWidth | 362 |
Exposure | -1.37 |
ExposureCompensation | 0 |
ExposureMode | Auto |
ExposureProgram | Action (High speed) |
ExposureTime | 1/1600 |
FillLight | 49 |
Flash | Off, Did not fire |
FlashFired | False |
FlashFunction | False |
FlashMode | Off |
FlashRedEyeMode | False |
FlashReturn | No return detection |
FNumber | 5.6 |
FocalLength | 105.0 mm |
FocalLength35efl | 105.0 mm (35 mm equivalent: 170.0 mm) |
Format | image/jpeg |
FOV | 12.1 deg |
GPSVersionID | 2.2.0.0 |
GreenHue | 0 |
GreenSaturation | 0 |
HasCrop | False |
HasSettings | True |
HighlightRecovery | 0 |
HueAdjustmentAqua | 0 |
HueAdjustmentBlue | +55 |
HueAdjustmentGreen | 0 |
HueAdjustmentMagenta | +25 |
HueAdjustmentOrange | 0 |
HueAdjustmentPurple | +46 |
HueAdjustmentRed | +1 |
HueAdjustmentYellow | 0 |
HyperfocalDistance | 106.07 m |
ICCProfileName | sRGB IEC61966-2.1 |
ImageHeight | 720 |
ImageSize | 362x720 |
ImageWidth | 362 |
IncrementalTemperature | 0 |
IncrementalTint | 0 |
ISO | 400 |
LightValue | 13.6 |
LuminanceAdjustmentAqua | 0 |
LuminanceAdjustmentBlue | +25 |
LuminanceAdjustmentGreen | 0 |
LuminanceAdjustmentMagenta | +34 |
LuminanceAdjustmentOrange | 0 |
LuminanceAdjustmentPurple | +15 |
LuminanceAdjustmentRed | 0 |
LuminanceAdjustmentYellow | 0 |
LuminanceSmoothing | 0 |
Make | Canon |
Megapixels | 0.261 |
MeteringMode | Multi-segment |
Model | Canon EOS 40D |
ModifyDate (1) | 2008:04:03 17:13:03+02:00 |
ModifyDate | 2008:04:03 17:13:03 |
Orientation | Horizontal (normal) |
ParametricDarks | 0 |
ParametricHighlights | 0 |
ParametricHighlightSplit | 75 |
ParametricLights | 0 |
ParametricMidtoneSplit | 50 |
ParametricShadows | 0 |
ParametricShadowSplit | 25 |
ProfileDescription | sRGB IEC61966-2.1 |
RedHue | 0 |
RedSaturation | 0 |
Saturation | 0 |
SaturationAdjustmentAqua | 0 |
SaturationAdjustmentBlue | +32 |
SaturationAdjustmentGreen | 0 |
SaturationAdjustmentMagenta | +27 |
SaturationAdjustmentOrange | 0 |
SaturationAdjustmentPurple | +32 |
SaturationAdjustmentRed | 0 |
SaturationAdjustmentYellow | 0 |
ScaleFactor35efl | 1.6 |
SceneCaptureType | Standard |
Shadows | 0 |
ShadowTint | +13 |
Sharpness | 45 |
ShutterSpeed | 1/1600 |
ShutterSpeedValue | 1/1600 |
Software (1) | Microsoft Windows Photo Gallery 6.0.6000.16386 |
Software | Adobe Photoshop CS3 Windows |
SplitToningBalance | 0 |
SplitToningHighlightHue | 174 |
SplitToningHighlightSaturation | 0 |
SplitToningShadowHue | 178 |
SplitToningShadowSaturation | 0 |
ToneCurve | 0, 0, 255, 255 |
ToneCurveName | Linear |
URL_List | |
Version | 1.0 |
Vibrance | 0 |
VignetteAmount | 0 |
WhiteBalance (2) | As Shot |
WhiteBalance | Auto |