Felt | Verdi |
AlreadyApplied | True |
Aperture | 4.0 |
ApertureValue | 4.0 |
Artist | Arnold |
BitsPerSample | 8 |
BlueHue | 0 |
BlueSaturation | 0 |
Brightness | -4 |
By-line | Arnold Hoddevik |
CameraProfile | Embedded |
ChromaticAberrationB | 0 |
ChromaticAberrationR | 0 |
CircleOfConfusion | 0.006 mm |
Clarity | 12 |
ColorComponents | 3 |
ColorNoiseReduction | 0 |
Contrast | +9 |
ConvertToGrayscale | False |
CreateDate | 2005:04:25 00:00:00 |
Creator | Arnold Hoddevik |
CreatorAddress | Fylling |
CreatorCity | Skodje |
CreatorCountry | Norway |
CreatorPostalCode | 6260 |
CreatorTool | Adobe Photoshop Lightroom |
CreatorWorkEmail | skrue2ah@adsl.no |
CreatorWorkTelephone | +4770275621 |
CreatorWorkURL | www.evyogarnold.no |
CropAngle | 0 |
CropBottom | 0.804296 |
CropHeight | 665 |
CropLeft | 0.120827 |
CropRight | 0.643879 |
CropTop | 0.155131 |
CropUnit | pixels |
CropWidth | 402 |
CustomRendered | Normal |
DateTimeDigitized | 2005:04:25 16:04:48+02:00 |
DateTimeOriginal (1) | 2005:04:25 16:04:48+02:00 |
DateTimeOriginal | 2005:04:25 00:00:00 |
Defringe | 0 |
DigitalZoomRatio | 1 |
Exposure | -0.19 |
ExposureCompensation | 0 |
ExposureMode | Auto |
ExposureTime | 1/100 |
FillLight | 10 |
Firmware | 00.00 |
Flash | Auto, Did not fire |
FlashCompensation | 0 |
FlashFired | False |
FlashFunction | False |
FlashMode | Auto |
FlashRedEyeMode | False |
FlashReturn | No return detection |
FNumber | 4.0 |
FocalLength | 28.8 mm |
FocalLength35efl | 28.8 mm (35 mm equivalent: 138.8 mm) |
FOV | 14.8 deg |
GreenHue | 0 |
GreenSaturation | 0 |
HasCrop | True |
HasSettings | True |
HighlightRecovery | 0 |
HueAdjustmentAqua | -10 |
HueAdjustmentBlue | 0 |
HueAdjustmentGreen | -10 |
HueAdjustmentMagenta | 0 |
HueAdjustmentOrange | 0 |
HueAdjustmentPurple | 0 |
HueAdjustmentRed | 0 |
HueAdjustmentYellow | -7 |
HyperfocalDistance | 33.28 m |
ImageHeight | 665 |
ImageSize | 402x665 |
ImageWidth | 402 |
IncrementalTemperature | +5 |
IncrementalTint | +7 |
Lens | 7.2-28.8 mm |
LensInfo | 7.1875-28.8125mm f/? |
LuminanceAdjustmentAqua | 0 |
LuminanceAdjustmentBlue | 0 |
LuminanceAdjustmentGreen | 0 |
LuminanceAdjustmentMagenta | 0 |
LuminanceAdjustmentOrange | 0 |
LuminanceAdjustmentPurple | 0 |
LuminanceAdjustmentRed | 0 |
LuminanceAdjustmentYellow | 0 |
LuminanceSmoothing | 0 |
Make | Canon |
Marked | True |
MaxApertureValue | 3.1 |
Megapixels | 0.267 |
Model | Canon PowerShot G5 |
ModifyDate (1) | 2008:04:15 21:14:56+02:00 |
ModifyDate | 2008:04:15 21:14:56 |
OwnerName | Arnold |
ParametricDarks | 0 |
ParametricHighlights | 0 |
ParametricHighlightSplit | 75 |
ParametricLights | 0 |
ParametricMidtoneSplit | 50 |
ParametricShadows | 0 |
ParametricShadowSplit | 25 |
ProfileDescription | sRGB IEC61966-2.1 |
RedHue | 0 |
RedSaturation | 0 |
Saturation | +7 |
SaturationAdjustmentAqua | 0 |
SaturationAdjustmentBlue | 0 |
SaturationAdjustmentGreen | 0 |
SaturationAdjustmentMagenta | 0 |
SaturationAdjustmentOrange | 0 |
SaturationAdjustmentPurple | 0 |
SaturationAdjustmentRed | 0 |
SaturationAdjustmentYellow | 0 |
ScaleFactor35efl | 4.8 |
SceneCaptureType | Standard |
Shadows | 0 |
ShadowTint | 0 |
SharpenDetail | 25 |
SharpenEdgeMasking | 0 |
SharpenRadius | +1.0 |
Sharpness | 5 |
ShutterSpeed | 1/100 |
ShutterSpeedValue | 1/100 |
SplitToningBalance | 0 |
SplitToningHighlightHue | 0 |
SplitToningHighlightSaturation | 0 |
SplitToningShadowHue | 0 |
SplitToningShadowSaturation | 0 |
ToneCurve | 0, 0, 255, 255 |
ToneCurveName | Linear |
Version | 4.4 |
Vibrance | +7 |
VignetteAmount | 0 |
WhiteBalance (2) | Custom |
WhiteBalance | Auto |