Felt | Verdi |
AlreadyApplied | True |
Aperture | 4.5 |
ApertureValue | 4.5 |
BitsPerSample | 8 |
BlueHue | 0 |
BlueSaturation | 0 |
Brightness | +70 |
CameraProfile | ACR 2.4 |
CFAPattern | [Blue,Green][Green,Red] |
ChromaticAberrationB | 0 |
ChromaticAberrationR | 0 |
CircleOfConfusion | 0.020 mm |
Clarity | 0 |
ColorComponents | 1 |
ColorMode | Grayscale |
ColorSpace (1) | Unknown (-1) |
ColorSpace | Uncalibrated |
ColorTemperature | 5150 |
Contrast (2) | +40 |
Contrast | Low |
ConvertToGrayscale | True |
CopyrightFlag | False |
CreateDate (1) | 2008:04:17 19:45:17+02:00 |
CreateDate | 2008:04:15 19:03:02 |
CreatorTool | Adobe Photoshop CS3 Macintosh |
CustomRendered | Normal |
DateTimeDigitized | 2008:04:15 19:03:02.10+02:00 |
DateTimeOriginal (1) | 2008:04:15 19:03:02.10+02:00 |
DateTimeOriginal | 2008:04:15 19:03:02 |
Defringe | 0 |
DigitalZoomRatio | 1 |
ExifImageHeight | 767 |
ExifImageWidth | 522 |
Exposure | +0.15 |
ExposureCompensation | 0 |
ExposureMode | Manual |
ExposureProgram | Manual |
ExposureTime | 1/250 |
FillLight | 0 |
Flash | No Flash |
FlashFired | False |
FlashFunction | False |
FlashMode | Unknown |
FlashRedEyeMode | False |
FlashReturn | No return detection |
FNumber | 4.5 |
FocalLength | 11.5 mm |
FocalLength35efl | 11.5 mm (35 mm equivalent: 17.0 mm) |
FocalLengthIn35mmFormat | 17 mm |
Format | image/jpeg |
FOV | 93.3 deg |
GainControl | None |
GrayMixerAqua | -14 |
GrayMixerBlue | +19 |
GrayMixerGreen | -29 |
GrayMixerMagenta | +5 |
GrayMixerOrange | -22 |
GrayMixerPurple | +22 |
GrayMixerRed | -12 |
GrayMixerYellow | -26 |
GreenHue | 0 |
GreenSaturation | 0 |
HasCrop | False |
HasSettings | True |
HighlightRecovery | 0 |
HyperfocalDistance | 1.45 m |
ICCProfileName | Gray Gamma 2.2 |
ImageHeight | 767 |
ImageNumber | 17397 |
ImageSize | 522x767 |
ImageWidth | 522 |
ISO | 200 |
Lens | 10.0-20.0 mm f/4.0-5.6 |
LensInfo | 10-20mm f/4-5.6 |
LightSource | Fine Weather |
LightValue | 11.3 |
LuminanceSmoothing | 0 |
Make | NIKON CORPORATION |
MaxApertureValue | 4.3 |
Megapixels | 0.400 |
MeteringMode | Multi-segment |
Model | NIKON D70s |
ModifyDate (1) | 2008:04:17 19:46:57+02:00 |
ModifyDate | 2008:04:17 19:46:57 |
Orientation | Horizontal (normal) |
ParametricDarks | -2 |
ParametricHighlights | 0 |
ParametricHighlightSplit | 75 |
ParametricLights | -1 |
ParametricMidtoneSplit | 50 |
ParametricShadows | -3 |
ParametricShadowSplit | 25 |
ProfileDescription | Gray Gamma 2.2 |
Rating | 0 |
RawFileName | MID_1915.NEF |
RedHue | 0 |
RedSaturation | 0 |
Saturation | Normal |
ScaleFactor35efl | 1.5 |
SceneCaptureType | Standard |
SceneType | Directly photographed |
SensingMethod | One-chip color area |
Shadows | 13 |
ShadowTint | 0 |
SharpenDetail | 25 |
SharpenEdgeMasking | 0 |
SharpenRadius | +1.0 |
Sharpness (2) | 25 |
Sharpness | Normal |
ShutterSpeed | 1/250 |
ShutterSpeedValue | 1/250 |
Software | Adobe Photoshop CS3 Macintosh |
SplitToningBalance | 0 |
SplitToningHighlightHue | 0 |
SplitToningHighlightSaturation | 0 |
SplitToningShadowHue | 0 |
SplitToningShadowSaturation | 0 |
SubjectDistanceRange | Unknown |
Tint | -4 |
ToneCurve | 0, 0, 32, 22, 64, 56, 128, 128, 192, 196, 255, 255 |
ToneCurveName | Medium Contrast |
URL_List | |
Version | 4.3.1 |
VignetteAmount | 0 |
WhiteBalance (2) | Custom |
WhiteBalance | Manual |