Felt | Verdi |
AlreadyApplied | True |
Aperture | 4.0 |
ApertureValue | 4.0 |
BitsPerSample | 8 |
BlueHue | 0 |
BlueSaturation | 0 |
Brightness | +66 |
CameraProfile | ACR 4.4 |
CFAPattern | [Red,Green][Green,Blue] |
ChromaticAberrationB | 0 |
ChromaticAberrationR | 0 |
CircleOfConfusion | 0.020 mm |
Clarity | 0 |
ColorComponents | 3 |
ColorMode | RGB |
ColorNoiseReduction | 25 |
ColorSpace (1) | Unknown (-1) |
ColorSpace | Uncalibrated |
ColorTemperature | 5500 |
Contrast (2) | +47 |
Contrast | Normal |
ConvertToGrayscale | False |
CopyrightFlag | False |
CreateDate (1) | 2008:04:27 00:43:06+02:00 |
CreateDate | 2008:04:26 15:34:24 |
CreatorTool | Adobe Photoshop CS3 Macintosh |
CustomRendered | Normal |
DateTimeDigitized | 2008:04:26 15:34:24.43+02:00 |
DateTimeOriginal (1) | 2008:04:26 15:34:06.50+02:00 |
DateTimeOriginal | 2008:04:26 15:34:06 |
Defringe | 0 |
DigitalZoomRatio | 1 |
ExifImageHeight | 680 |
ExifImageWidth | 1024 |
Exposure | 0.00 |
ExposureCompensation | 0 |
ExposureMode | Auto |
ExposureProgram | Aperture-priority AE |
ExposureTime | 1/20 |
FillLight | 0 |
Flash | No Flash |
FlashFired | False |
FlashFunction | False |
FlashMode | Unknown |
FlashRedEyeMode | False |
FlashReturn | No return detection |
FNumber | 4.0 |
FocalLength | 31.0 mm |
FocalLength35efl | 31.0 mm (35 mm equivalent: 46.0 mm) |
FocalLengthIn35mmFormat | 46 mm |
Format | image/jpeg |
FOV | 42.7 deg |
GainControl | None |
GPSAltitude (2) | 23 m |
GPSAltitude | 23 m Above Sea Level |
GPSAltitudeRef | Above Sea Level |
GPSDateStamp | 2008:04:26 |
GPSDateTime | 2008:04:26 13:34:57Z |
GPSLatitude (2) | 61 deg 16' 31.58" |
GPSLatitude | 61 deg 16' 31.58" N |
GPSLatitudeRef | North |
GPSLongitude (2) | 17 deg 1' 36.71" |
GPSLongitude | 17 deg 1' 36.71" E |
GPSLongitudeRef | East |
GPSPosition | 61 deg 16' 31.58" N, 17 deg 1' 36.71" E |
GPSSatellites | 10 |
GPSTimeStamp | 13:34:57 |
GPSVersionID | 2.2.0.0 |
GreenHue | 0 |
GreenSaturation | 0 |
HasCrop | False |
HasSettings | True |
HighlightRecovery | 13 |
HueAdjustmentAqua | 0 |
HueAdjustmentBlue | 0 |
HueAdjustmentGreen | 0 |
HueAdjustmentMagenta | 0 |
HueAdjustmentOrange | 0 |
HueAdjustmentPurple | 0 |
HueAdjustmentRed | 0 |
HueAdjustmentYellow | 0 |
HyperfocalDistance | 11.87 m |
ICCProfileName | ProPhoto RGB |
ImageHeight | 680 |
ImageNumber | 1418 |
ImageSize | 1024x680 |
ImageWidth | 1024 |
ISO | 200 |
Lens | 18.0-70.0 mm f/3.5-4.5 |
LensInfo | 18-70mm f/3.5-4.5 |
LightSource | Unknown |
LightValue | 7.3 |
LuminanceAdjustmentAqua | 0 |
LuminanceAdjustmentBlue | 0 |
LuminanceAdjustmentGreen | 0 |
LuminanceAdjustmentMagenta | 0 |
LuminanceAdjustmentOrange | 0 |
LuminanceAdjustmentPurple | 0 |
LuminanceAdjustmentRed | 0 |
LuminanceAdjustmentYellow | 0 |
LuminanceSmoothing | 0 |
Make | NIKON CORPORATION |
MaxApertureValue | 4.0 |
Megapixels | 0.696 |
MeteringMode | Multi-segment |
Model | NIKON D300 |
ModifyDate (1) | 2008:04:27 00:43:06+02:00 |
ModifyDate | 2008:04:27 00:43:06 |
Orientation | Horizontal (normal) |
ParametricDarks | 0 |
ParametricHighlights | 0 |
ParametricHighlightSplit | 75 |
ParametricLights | 0 |
ParametricMidtoneSplit | 50 |
ParametricShadows | 0 |
ParametricShadowSplit | 25 |
ProfileDescription | ProPhoto RGB |
Rating | 0 |
RawFileName | _AAA1329.NEF |
RedHue | 0 |
RedSaturation | 0 |
Saturation (2) | 0 |
Saturation | Normal |
SaturationAdjustmentAqua | 0 |
SaturationAdjustmentBlue | 0 |
SaturationAdjustmentGreen | 0 |
SaturationAdjustmentMagenta | 0 |
SaturationAdjustmentOrange | 0 |
SaturationAdjustmentPurple | 0 |
SaturationAdjustmentRed | 0 |
SaturationAdjustmentYellow | 0 |
ScaleFactor35efl | 1.5 |
SceneCaptureType | Standard |
SceneType | Directly photographed |
SensingMethod | One-chip color area |
Shadows | 3 |
ShadowTint | 0 |
SharpenDetail | 25 |
SharpenEdgeMasking | 0 |
SharpenRadius | +1.0 |
Sharpness (2) | 25 |
Sharpness | Normal |
ShutterSpeed | 1/20 |
ShutterSpeedValue | 1/20 |
SidecarForExtension | NEF |
Software | Adobe Photoshop CS3 Macintosh |
SplitToningBalance | 0 |
SplitToningHighlightHue | 0 |
SplitToningHighlightSaturation | 0 |
SplitToningShadowHue | 0 |
SplitToningShadowSaturation | 0 |
SubjectDistanceRange | Unknown |
Tint | +10 |
ToneCurve | 0, 0, 32, 22, 64, 56, 128, 128, 192, 196, 255, 255 |
ToneCurveName | Medium Contrast |
URL_List | |
Version | 4.4.1 |
Vibrance | 0 |
VignetteAmount | 0 |
WhiteBalance (2) | As Shot |
WhiteBalance | Auto |