Felt | Verdi |
AlreadyApplied | True |
Aperture | 4.5 |
ApertureValue | 4.5 |
Artist | Kurt Gaasoe |
BitsPerSample | 8 |
BlueHue | 0 |
BlueSaturation | 0 |
Brightness | +50 |
By-line | Kurt Gaasoe |
CameraProfile | ACR 3.6 |
ChromaticAberrationB | 0 |
ChromaticAberrationR | 0 |
CircleOfConfusion | 0.019 mm |
Clarity | 78 |
ColorComponents | 3 |
ColorMode | RGB |
ColorNoiseReduction | 25 |
ColorSpace (1) | Unknown (-1) |
ColorSpace | Uncalibrated |
ColorTemperature | 6043 |
Contrast | +36 |
ConvertToGrayscale | False |
Copyright | Kurt Gaasoe |
CopyrightFlag | False |
CopyrightNotice | Kurt Gaasoe |
CreateDate (1) | 2008:05:22 17:22:27+02:00 |
CreateDate | 2008:05:16 16:04:48 |
Creator | Kurt Gaasoe |
CreatorAddress | Lille Bislett 2 |
CreatorCity | Oslo |
CreatorCountry | Norway |
CreatorPostalCode | 0170 |
CreatorRegion | Oslo |
CreatorTool | Adobe Photoshop CS2 Macintosh |
CreatorWorkEmail | goga@online.no |
CropAngle | 0 |
CropBottom | 0.925664 |
CropHeight | 2289 |
CropLeft | 0.042453 |
CropRight | 1 |
CropTop | 0.042478 |
CropUnit | pixels |
CropWidth | 3723 |
CustomRendered | Normal |
DateTimeDigitized | 2008:05:16 16:04:48+02:00 |
DateTimeOriginal (1) | 2008:05:16 16:04:48+02:00 |
DateTimeOriginal | 2008:05:16 16:04:48 |
Defringe | 0 |
ExifImageHeight | 762 |
ExifImageWidth | 1240 |
Exposure | 0.00 |
ExposureCompensation | 0 |
ExposureMode | Manual |
ExposureProgram | Manual |
ExposureTime | 1/500 |
FillLight | 0 |
Firmware | 1.1.1 |
Flash | Off, Did not fire |
FlashCompensation | -1 |
FlashFired | False |
FlashFunction | False |
FlashMode | Off |
FlashRedEyeMode | False |
FlashReturn | No return detection |
FNumber | 4.5 |
FocalLength | 30.0 mm |
FocalLength35efl | 30.0 mm (35 mm equivalent: 48.6 mm) |
Format | image/jpeg |
FOV | 40.7 deg |
GreenHue | 0 |
GreenSaturation | 0 |
HasCrop | True |
HasSettings | True |
HighlightRecovery | 0 |
HueAdjustmentAqua | 0 |
HueAdjustmentBlue | 0 |
HueAdjustmentGreen | 0 |
HueAdjustmentMagenta | 0 |
HueAdjustmentOrange | 0 |
HueAdjustmentPurple | 0 |
HueAdjustmentRed | 0 |
HueAdjustmentYellow | 0 |
HyperfocalDistance | 10.77 m |
ICCProfileName | Adobe RGB (1998) |
ImageHeight (1) | 2289 |
ImageHeight | 762 |
ImageNumber | 64 |
ImageSize | 1240x762 |
ImageWidth (1) | 3723 |
ImageWidth | 1240 |
ISO | 100 |
Keywords | Barcelona, By, Bygg, Spania, gater |
Lens | EF-S17-85mm f/4-5.6 IS USM |
LensInfo | 17-85mm f/? |
LightValue | 13.3 |
LuminanceAdjustmentAqua | 0 |
LuminanceAdjustmentBlue | 0 |
LuminanceAdjustmentGreen | 0 |
LuminanceAdjustmentMagenta | 0 |
LuminanceAdjustmentOrange | 0 |
LuminanceAdjustmentPurple | 0 |
LuminanceAdjustmentRed | 0 |
LuminanceAdjustmentYellow | 0 |
LuminanceSmoothing | 0 |
Make | Canon |
MaxApertureValue | 4.0 |
Megapixels | 0.945 |
MeteringMode | Multi-segment |
Model | Canon EOS 400D DIGITAL |
ModifyDate (1) | 2008:05:22 17:22:27+02:00 |
ModifyDate | 2008:05:22 17:22:27 |
Orientation | Horizontal (normal) |
OwnerName | unknown |
ParametricDarks | 0 |
ParametricHighlights | 0 |
ParametricHighlightSplit | 75 |
ParametricLights | 0 |
ParametricMidtoneSplit | 50 |
ParametricShadows | 0 |
ParametricShadowSplit | 25 |
ProfileDescription | Adobe RGB (1998) |
Rating | 3 |
RedHue | 0 |
RedSaturation | 0 |
Rights | Kurt Gaasoe |
Saturation | 0 |
SaturationAdjustmentAqua | 0 |
SaturationAdjustmentBlue | +28 |
SaturationAdjustmentGreen | 0 |
SaturationAdjustmentMagenta | 0 |
SaturationAdjustmentOrange | +17 |
SaturationAdjustmentPurple | 0 |
SaturationAdjustmentRed | 0 |
SaturationAdjustmentYellow | 0 |
ScaleFactor35efl | 1.6 |
SceneCaptureType | Standard |
SerialNumber | 530167206 |
Shadows | 5 |
ShadowTint | 0 |
SharpenDetail | 54 |
SharpenEdgeMasking | 69 |
SharpenRadius | +2.4 |
Sharpness | 134 |
ShutterSpeed | 1/500 |
ShutterSpeedValue | 1/500 |
Software | Adobe Photoshop CS2 Macintosh |
SplitToningBalance | 0 |
SplitToningHighlightHue | 0 |
SplitToningHighlightSaturation | 0 |
SplitToningShadowHue | 0 |
SplitToningShadowSaturation | 0 |
Subject | Barcelona, By, Bygg, Spania, gater |
Tint | +11 |
ToneCurve | 0, 0, 32, 22, 64, 56, 128, 128, 192, 196, 255, 255 |
ToneCurveName | Medium Contrast |
URL_List | |
Version | 1.0 |
Vibrance | 0 |
VignetteAmount | 0 |
WhiteBalance (2) | Custom |
WhiteBalance | Auto |