Felt | Verdi |
AlreadyApplied | True |
Aperture | 8.0 |
ApertureValue | 8.0 |
BitsPerSample | 8 |
BlueHue | 0 |
BlueSaturation | 0 |
Brightness | +4 |
CameraProfile | Embedded |
ChromaticAberrationB | 0 |
ChromaticAberrationR | 0 |
CircleOfConfusion | 0.019 mm |
Clarity | 50 |
ColorComponents | 3 |
ColorMode | RGB |
ColorNoiseReduction | 0 |
ColorSpace | sRGB |
Contrast | +16 |
ConvertToGrayscale | False |
CopyrightFlag | False |
CreateDate (1) | 2008:05:27 20:46:13+02:00 |
CreateDate | 2008:05:27 17:47:38 |
CreatorTool | Adobe Photoshop CS3 Windows |
CropAngle | 0 |
CropBottom | 0.8125 |
CropHeight | 1863 |
CropLeft | 0.008929 |
CropRight | 0.79762 |
CropTop | 0.09375 |
CropUnit | pixels |
CropWidth | 3066 |
CustomRendered | Normal |
DateTimeDigitized | 2008:05:27 17:47:38.21+02:00 |
DateTimeOriginal (1) | 2008:05:27 17:47:38.21+02:00 |
DateTimeOriginal | 2008:05:27 17:47:38 |
Defringe | 0 |
DerivedFrom | |
ExifImageHeight | 720 |
ExifImageWidth | 1185 |
Exposure | -0.19 |
ExposureCompensation | -1/3 |
ExposureMode | Auto |
ExposureProgram | Aperture-priority AE |
ExposureTime | 1/80 |
FillLight | 0 |
Firmware | 1.0.8 |
Flash | On, Fired |
FlashCompensation | -0.333333333333333 |
FlashFired | True |
FlashFunction | False |
FlashMode | On |
FlashRedEyeMode | False |
FlashReturn | No return detection |
FNumber | 8.0 |
FocalLength | 105.0 mm |
FocalLength35efl | 105.0 mm (35 mm equivalent: 170.0 mm) |
Format | image/jpeg |
FOV | 12.1 deg |
GreenHue | 0 |
GreenSaturation | 0 |
HasCrop | True |
HasSettings | True |
HighlightRecovery | 10 |
HueAdjustmentAqua | 0 |
HueAdjustmentBlue | 0 |
HueAdjustmentGreen | 0 |
HueAdjustmentMagenta | 0 |
HueAdjustmentOrange | 0 |
HueAdjustmentPurple | 0 |
HueAdjustmentRed | +24 |
HueAdjustmentYellow | 0 |
HyperfocalDistance | 74.25 m |
ICCProfileName | sRGB IEC61966-2.1 |
ImageHeight (1) | 1863 |
ImageHeight | 720 |
ImageNumber | 0 |
ImageSize | 1185x720 |
ImageWidth (1) | 3066 |
ImageWidth | 1185 |
IncrementalTemperature | -7 |
IncrementalTint | -17 |
ISO | 800 |
Lens | 105mm |
LensInfo | 105mm f/? |
LightValue | 9.3 |
LuminanceAdjustmentAqua | 0 |
LuminanceAdjustmentBlue | 0 |
LuminanceAdjustmentGreen | 0 |
LuminanceAdjustmentMagenta | 0 |
LuminanceAdjustmentOrange | 0 |
LuminanceAdjustmentPurple | 0 |
LuminanceAdjustmentRed | +17 |
LuminanceAdjustmentYellow | 0 |
LuminanceSmoothing | 0 |
Make | Canon |
MaxApertureValue | 2.8 |
Megapixels | 0.853 |
MeteringMode | Multi-segment |
Model | Canon EOS 40D |
ModifyDate (1) | 2008:05:27 20:46:13+02:00 |
ModifyDate | 2008:05:27 20:46:13 |
Orientation | Horizontal (normal) |
ParametricDarks | +21 |
ParametricHighlights | -57 |
ParametricHighlightSplit | 75 |
ParametricLights | 0 |
ParametricMidtoneSplit | 50 |
ParametricShadows | -33 |
ParametricShadowSplit | 25 |
ProfileDescription | sRGB IEC61966-2.1 |
RedHue | 0 |
RedSaturation | 0 |
Saturation | 0 |
SaturationAdjustmentAqua | 0 |
SaturationAdjustmentBlue | 0 |
SaturationAdjustmentGreen | 0 |
SaturationAdjustmentMagenta | 0 |
SaturationAdjustmentOrange | 0 |
SaturationAdjustmentPurple | 0 |
SaturationAdjustmentRed | +12 |
SaturationAdjustmentYellow | 0 |
ScaleFactor35efl | 1.6 |
SceneCaptureType | Standard |
SerialNumber | 430103460 |
Shadows | 15 |
ShadowTint | 0 |
SharpenDetail | 63 |
SharpenEdgeMasking | 0 |
SharpenRadius | +1.0 |
Sharpness | 96 |
ShutterSpeed | 1/80 |
ShutterSpeedValue | 1/80 |
Software | Adobe Photoshop CS3 Windows |
SplitToningBalance | 0 |
SplitToningHighlightHue | 86 |
SplitToningHighlightSaturation | 0 |
SplitToningShadowHue | 4 |
SplitToningShadowSaturation | 0 |
ToneCurve | 0, 0, 255, 255 |
ToneCurveName | Linear |
URL_List | |
Version | 4.4.1 |
Vibrance | +25 |
VignetteAmount | 0 |
WhiteBalance (2) | Custom |
WhiteBalance | Auto |