Felt | Verdi |
AlreadyApplied | True |
Aperture | 5.6 |
ApertureValue | 5.6 |
BitsPerSample | 8 |
BlueHue | 0 |
BlueSaturation | 0 |
Brightness | +6 |
CameraProfile | ACR 2.4 |
ChromaticAberrationB | 0 |
ChromaticAberrationR | 0 |
CircleOfConfusion | 0.030 mm |
Clarity | 74 |
ColorComponents | 1 |
ColorMode | RGB |
ColorNoiseReduction | 25 |
ColorSpace | sRGB |
ColorTemperature | 3600 |
Contrast | -2 |
ConvertToGrayscale | True |
CopyrightFlag | False |
CreateDate (1) | 2008:05:27 23:04:21+02:00 |
CreateDate | 2007:02:23 22:07:33 |
CreatorTool | Adobe Photoshop CS3 Macintosh |
CropAngle | -4.458257 |
CropBottom | 0.830504 |
CropHeight | 2425 |
CropLeft | 0.030314 |
CropRight | 0.801804 |
CropTop | 0.085179 |
CropUnit | pixels |
CropWidth | 3191 |
CustomRendered | Normal |
DateTimeDigitized | 2007:02:23 22:07:33+01:00 |
DateTimeOriginal (1) | 2007:02:23 22:07:33+01:00 |
DateTimeOriginal | 2007:02:23 22:07:33 |
Defringe | 0 |
ExifImageHeight | 768 |
ExifImageWidth | 583 |
Exposure | -0.08 |
ExposureCompensation | +1/3 |
ExposureMode | Auto |
ExposureProgram | Aperture-priority AE |
ExposureTime | 1/200 |
FillLight | 0 |
Firmware | 1.0.3 |
Flash | On, Fired |
FlashCompensation | -0.333333333333333 |
FlashFired | True |
FlashFunction | False |
FlashMode | On |
FlashRedEyeMode | False |
FlashReturn | No return detection |
FNumber | 5.6 |
FocalLength | 85.0 mm |
FocalLength35efl | 85.0 mm (35 mm equivalent: 85.2 mm) |
Format | image/jpeg |
FOV | 23.9 deg |
GrayMixerAqua | -18 |
GrayMixerBlue | +10 |
GrayMixerGreen | -27 |
GrayMixerMagenta | +4 |
GrayMixerOrange | -19 |
GrayMixerPurple | +16 |
GrayMixerRed | -10 |
GrayMixerYellow | -23 |
GreenHue | 0 |
GreenSaturation | 0 |
HasCrop | True |
HasSettings | True |
HighlightRecovery | 0 |
HyperfocalDistance | 43.03 m |
ICCProfileName | sRGB IEC61966-2.1 |
ImageHeight (1) | 3191 |
ImageHeight | 768 |
ImageNumber | 29 |
ImageSize | 583x768 |
ImageWidth (1) | 2425 |
ImageWidth | 583 |
ISO | 200 |
Lens | EF85mm f/1.8 USM |
LensInfo | 85mm f/? |
LightValue | 11.6 |
LuminanceSmoothing | 0 |
Make | Canon |
MaxApertureValue | 1.8 |
Megapixels | 0.448 |
MeteringMode | Multi-segment |
Model | Canon EOS 5D |
ModifyDate (1) | 2008:05:27 23:12:20+02:00 |
ModifyDate | 2008:05:27 23:12:20 |
Orientation | Horizontal (normal) |
ParametricDarks | -4 |
ParametricHighlights | +19 |
ParametricHighlightSplit | 75 |
ParametricLights | -4 |
ParametricMidtoneSplit | 50 |
ParametricShadows | +8 |
ParametricShadowSplit | 25 |
ProfileDescription | sRGB IEC61966-2.1 |
RedHue | 0 |
RedSaturation | 0 |
ScaleFactor35efl | 1.0 |
SceneCaptureType | Standard |
SerialNumber | 730504271 |
Shadows | 0 |
ShadowTint | 0 |
SharpenDetail | 25 |
SharpenEdgeMasking | 0 |
SharpenRadius | +1.0 |
Sharpness | 50 |
ShutterSpeed | 1/200 |
ShutterSpeedValue | 1/200 |
Software | Adobe Photoshop CS3 Macintosh |
SplitToningBalance | 0 |
SplitToningHighlightHue | 0 |
SplitToningHighlightSaturation | 0 |
SplitToningShadowHue | 0 |
SplitToningShadowSaturation | 0 |
Tint | 0 |
ToneCurve | 0, 0, 32, 22, 64, 56, 128, 128, 192, 196, 255, 255 |
ToneCurveName | Medium Contrast |
URL_List | |
Version | 4.4.1 |
VignetteAmount | 0 |
WhiteBalance | Auto |