Felt | Verdi |
AlreadyApplied | True |
Aperture | 4.5 |
ApertureValue | 4.5 |
BitsPerSample | 8 |
BlueHue | 0 |
BlueSaturation | 0 |
Brightness | +36 |
CameraProfile | Embedded |
ChromaticAberrationB | -100 |
ChromaticAberrationR | +21 |
CircleOfConfusion | 0.020 mm |
Clarity | 71 |
ColorComponents | 3 |
ColorMode | RGB |
ColorNoiseReduction | 0 |
ColorSpace | sRGB |
Contrast (2) | +100 |
Contrast | Normal |
ConvertToGrayscale | False |
CopyrightFlag | False |
CreateDate (1) | 2008:05:23 16:58:15+02:00 |
CreateDate | 2008:05:23 16:58:15 |
CreatorTool | Adobe Photoshop CS3 Windows |
CropAngle | 0 |
CropBottom | 0.943463 |
CropHeight | 1887 |
CropLeft | 0.257696 |
CropRight | 0.849765 |
CropTop | 0 |
CropUnit | pixels |
CropWidth | 1781 |
CustomRendered | Normal |
DateTimeDigitized | 2008:05:23 16:58:15+02:00 |
DateTimeOriginal (1) | 2008:05:23 16:58:15+02:00 |
DateTimeOriginal | 2008:05:23 16:58:15 |
Defringe | 0 |
ExifImageHeight | 767 |
ExifImageWidth | 724 |
Exposure | 0.00 |
ExposureCompensation | -1/2 |
ExposureMode | Manual |
ExposureProgram | Portrait |
ExposureTime | 1/250 |
FillLight | 0 |
Flash | Off, Did not fire |
FlashFired | False |
FlashFunction | False |
FlashMode | Off |
FlashRedEyeMode | False |
FlashReturn | No return detection |
FNumber | 4.5 |
FocalLength | 200.0 mm |
FocalLength35efl | 200.0 mm (35 mm equivalent: 300.0 mm) |
FocalLengthIn35mmFormat | 300 mm |
Format | image/jpeg |
FOV | 6.9 deg |
GreenHue | 0 |
GreenSaturation | 0 |
HasCrop | True |
HasSettings | True |
HighlightRecovery | 20 |
HueAdjustmentAqua | 0 |
HueAdjustmentBlue | 0 |
HueAdjustmentGreen | 0 |
HueAdjustmentMagenta | 0 |
HueAdjustmentOrange | 0 |
HueAdjustmentPurple | 0 |
HueAdjustmentRed | 0 |
HueAdjustmentYellow | 0 |
HyperfocalDistance | 443.76 m |
ICCProfileName | sRGB IEC61966-2.1 |
ImageHeight (1) | 1887 |
ImageHeight | 767 |
ImageSize | 724x767 |
ImageWidth (1) | 1781 |
ImageWidth | 724 |
IncrementalTemperature | +14 |
IncrementalTint | -2 |
ISO | 200 |
Lens | TAMRON AF70-300mm F/4-5.6 LD MACRO |
LensID (1) | 4 36 |
LensID | Unknown (4 36) 70-300mm |
LensInfo | 70-300mm f/4-5.6 |
LightValue | 11.3 |
LuminanceAdjustmentAqua | 0 |
LuminanceAdjustmentBlue | 0 |
LuminanceAdjustmentGreen | 0 |
LuminanceAdjustmentMagenta | 0 |
LuminanceAdjustmentOrange | 0 |
LuminanceAdjustmentPurple | 0 |
LuminanceAdjustmentRed | 0 |
LuminanceAdjustmentYellow | 0 |
LuminanceSmoothing | 0 |
Make | SAMSUNG TECHWIN |
Megapixels | 0.555 |
MeteringMode | Multi-segment |
Model | GX-1L |
ModifyDate (1) | 2008:05:28 00:08:14+02:00 |
ModifyDate | 2008:05:28 00:08:14 |
Orientation | Horizontal (normal) |
ParametricDarks | 0 |
ParametricHighlights | 0 |
ParametricHighlightSplit | 75 |
ParametricLights | 0 |
ParametricMidtoneSplit | 50 |
ParametricShadows | 0 |
ParametricShadowSplit | 25 |
ProfileDescription | sRGB IEC61966-2.1 |
RedHue | 0 |
RedSaturation | 0 |
Saturation (2) | +7 |
Saturation | Normal |
SaturationAdjustmentAqua | 0 |
SaturationAdjustmentBlue | 0 |
SaturationAdjustmentGreen | 0 |
SaturationAdjustmentMagenta | 0 |
SaturationAdjustmentOrange | 0 |
SaturationAdjustmentPurple | 0 |
SaturationAdjustmentRed | 0 |
SaturationAdjustmentYellow | 0 |
ScaleFactor35efl | 1.5 |
SceneCaptureType | Portrait |
SceneType | Directly photographed |
SensingMethod | One-chip color area |
Shadows | 1 |
ShadowTint | 0 |
SharpenDetail | 77 |
SharpenEdgeMasking | 0 |
SharpenRadius | +2.7 |
Sharpness (2) | 121 |
Sharpness | Normal |
ShutterSpeed | 1/250 |
ShutterSpeedValue | 1/250 |
Software | Adobe Photoshop CS3 Windows |
SplitToningBalance | 0 |
SplitToningHighlightHue | 0 |
SplitToningHighlightSaturation | 0 |
SplitToningShadowHue | 0 |
SplitToningShadowSaturation | 0 |
SubjectDistanceRange | Distant |
ToneCurve | 0, 0, 255, 255 |
ToneCurveName | Linear |
URL_List | |
Version | 1.0 |
Vibrance | +31 |
VignetteAmount | 0 |
WhiteBalance (2) | Custom |
WhiteBalance | Auto |