Felt | Verdi |
AlreadyApplied | True |
Aperture | 9.1 |
ApertureValue | 9.1 |
BitsPerSample (1) | 16, 16, 16 |
BitsPerSample (2) | 16 16 16 |
BitsPerSample | 8 |
BlackClip | 1.944200 |
BlueHue | 0 |
BlueSaturation | 0 |
Brightness | -4 |
CameraProfile | Embedded |
ChromaticAberrationB | 0 |
ChromaticAberrationR | 0 |
Clarity | 0 |
ColorComponents | 3 |
ColorMode | RGB |
ColorNoiseReduction | 65 |
ColorSaturation | 50 |
ColorSpace (1) | Unknown (-1) |
ColorSpace | Uncalibrated |
ColorTemperature | 0 |
Contrast | +11 |
ConvertToGrayscale | False |
CopyrightFlag | False |
CreateDate | 2008:07:12 22:03:11+02:00 |
CreatorTool | Adobe Photoshop CS3 Windows |
CropAngle | 0 |
CropBottom | 1 |
CropHeight | 2478 |
CropLeft | 0 |
CropRight | 1 |
CropTop | 0.047695 |
CropUnit | pixels |
CropWidth | 3908 |
DateTimeOriginal (1) | 2008:07:09 15:49:57+02:00 |
DateTimeOriginal | 2008:07:09 15:49:57 |
Defringe | 0 |
ExifImageHeight | 649 |
ExifImageWidth | 1024 |
Exposure | -0.10 |
ExposureTime | 1/400 |
FillLight | 0 |
FNumber | 9.1 |
FocalLength | 10.0 mm |
FocalLength35efl | 10.0 mm |
Format | image/jpeg |
Gamma | 0.933033 |
GreenHue | 0 |
GreenSaturation | 0 |
HasCrop | True |
HasSettings | True |
HighlightRecovery | 72 |
HighlightsSmoothing | 0 |
HueAdjustmentAqua | 0 |
HueAdjustmentBlue | 0 |
HueAdjustmentGreen | 0 |
HueAdjustmentMagenta | 0 |
HueAdjustmentOrange | 0 |
HueAdjustmentPurple | 0 |
HueAdjustmentRed | 0 |
HueAdjustmentYellow | 0 |
ICCProfileName | Adobe RGB (1998) |
ImageHeight (1) | 2478 |
ImageHeight | 649 |
ImageSize | 1024x649 |
ImageWidth (1) | 3908 |
ImageWidth | 1024 |
IncrementalTemperature | -5 |
IncrementalTint | 0 |
ISO | 400 |
LightValue | 13.0 |
LuminanceAdjustmentAqua | -5 |
LuminanceAdjustmentBlue | -12 |
LuminanceAdjustmentGreen | -21 |
LuminanceAdjustmentMagenta | 0 |
LuminanceAdjustmentOrange | -24 |
LuminanceAdjustmentPurple | 0 |
LuminanceAdjustmentRed | 0 |
LuminanceAdjustmentYellow | +29 |
LuminanceSmoothing | 17 |
Luminosity | 0 |
Megapixels | 0.665 |
Method | Details Enhancer |
Microcontrast | 5 |
Microsmoothing | 10 |
Model | Canon EOS 40D |
ModifyDate (1) | 2008:07:12 22:05:28+02:00 |
ModifyDate | 2008:07:12 22:05:28 |
Orientation | Horizontal (normal) |
ParametricDarks | -2 |
ParametricHighlights | -55 |
ParametricHighlightSplit | 75 |
ParametricLights | +5 |
ParametricMidtoneSplit | 50 |
ParametricShadows | -2 |
ParametricShadowSplit | 25 |
PhotometricInterpretation | RGB |
PlanarConfiguration | Chunky |
ProfileDescription | Adobe RGB (1998) |
RedHue | 0 |
RedSaturation | 0 |
SamplesPerPixel | 3 |
Saturation | -2 |
SaturationAdjustmentAqua | -5 |
SaturationAdjustmentBlue | -5 |
SaturationAdjustmentGreen | 0 |
SaturationAdjustmentMagenta | 0 |
SaturationAdjustmentOrange | 0 |
SaturationAdjustmentPurple | 0 |
SaturationAdjustmentRed | 0 |
SaturationAdjustmentYellow | 0 |
SaturationHighlights | 5 |
SaturationShadows | 5 |
Shadows | 0 |
ShadowsClipping | 0 |
ShadowsSmoothing | 78 |
ShadowTint | 0 |
SharpenDetail | 30 |
SharpenEdgeMasking | 0 |
SharpenRadius | +1.0 |
Sharpness | 11 |
ShutterSpeed | 1/400 |
ShutterSpeedValue | 1/400 |
Smoothing | High |
Software | Adobe Photoshop CS3 Windows |
SplitToningBalance | 0 |
SplitToningHighlightHue | 0 |
SplitToningHighlightSaturation | 0 |
SplitToningShadowHue | 0 |
SplitToningShadowSaturation | 0 |
Strength | 70 |
ToneCurve | 0, 0, 255, 255 |
ToneCurveName | Linear |
URL_List | |
Version (1) | 2.5 |
Version | 4.4.1 |
Vibrance | -5 |
VignetteAmount | 0 |
WhiteBalance | Custom |
WhiteClip | 1.567950 |