Felt | Verdi |
AlreadyApplied | True |
Aperture | 6.3 |
ApertureValue | 6.3 |
Artist | unknown |
BitsPerSample | 8 |
BlueHue | 0 |
BlueSaturation | 0 |
Brightness | +50 |
By-line | unknown |
CameraProfile | ACR 4.4 |
ChromaticAberrationB | 0 |
ChromaticAberrationR | 0 |
CircleOfConfusion | 0.019 mm |
Clarity | 0 |
ColorComponents | 1 |
ColorNoiseReduction | 25 |
ColorTemperature | 5100 |
Contrast | +25 |
ConvertToGrayscale | True |
CreateDate | 2008:07:30 00:00:00 |
Creator | unknown |
CreatorTool | Adobe Photoshop Lightroom |
CropAngle | 1.402954 |
CropBottom | 1 |
CropHeight | 512 |
CropLeft | 0.025591 |
CropRight | 0.974409 |
CropTop | 0 |
CropUnit | pixels |
CropWidth | 768 |
CustomRendered | Normal |
DateTimeDigitized | 2008:07:30 16:35:10+02:00 |
DateTimeOriginal (1) | 2008:07:30 16:35:10+02:00 |
DateTimeOriginal | 2008:07:30 00:00:00 |
Defringe | 0 |
Exposure | -1.52 |
ExposureCompensation | 0 |
ExposureMode | Manual |
ExposureProgram | Manual |
ExposureTime | 1/1000 |
FillLight | 0 |
Firmware | 1.0.3 |
Flash | Off, Did not fire |
FlashCompensation | 0 |
FlashFired | False |
FlashFunction | False |
FlashMode | Off |
FlashRedEyeMode | False |
FlashReturn | No return detection |
FNumber | 6.3 |
FocalLength | 55.0 mm |
FocalLength35efl | 55.0 mm (35 mm equivalent: 89.2 mm) |
FOV | 22.8 deg |
GrayMixerAqua | -17 |
GrayMixerBlue | +11 |
GrayMixerGreen | -26 |
GrayMixerMagenta | +4 |
GrayMixerOrange | -18 |
GrayMixerPurple | +16 |
GrayMixerRed | -9 |
GrayMixerYellow | -22 |
GreenHue | 0 |
GreenSaturation | 0 |
HasCrop | True |
HasSettings | True |
HighlightRecovery | 30 |
HyperfocalDistance | 25.92 m |
ImageHeight | 768 |
ImageNumber | 137 |
ImageSize | 512x768 |
ImageWidth | 512 |
ISO | 100 |
Lens | 18.0-55.0 mm |
LensInfo | 18-55mm f/? |
LightValue | 15.3 |
LuminanceSmoothing | 0 |
Make | Canon |
MaxApertureValue | 3.5 |
Megapixels | 0.393 |
MeteringMode | Average |
Model | Canon EOS 350D DIGITAL |
ModifyDate (1) | 2008:08:01 17:52:19+02:00 |
ModifyDate | 2008:08:01 17:52:19 |
OwnerName | unknown |
ParametricDarks | 0 |
ParametricHighlights | 0 |
ParametricHighlightSplit | 75 |
ParametricLights | 0 |
ParametricMidtoneSplit | 50 |
ParametricShadows | 0 |
ParametricShadowSplit | 25 |
ProfileDescription | sRGB IEC61966-2.1 |
RedHue | 0 |
RedSaturation | 0 |
ScaleFactor35efl | 1.6 |
SceneCaptureType | Standard |
SerialNumber | 2430703140 |
Shadows | 31 |
ShadowTint | 0 |
SharpenDetail | 25 |
SharpenEdgeMasking | 0 |
SharpenRadius | +1.0 |
Sharpness | 25 |
ShutterSpeed | 1/1000 |
ShutterSpeedValue | 1/1000 |
SplitToningBalance | 0 |
SplitToningHighlightHue | 0 |
SplitToningHighlightSaturation | 0 |
SplitToningShadowHue | 0 |
SplitToningShadowSaturation | 0 |
Tint | +5 |
ToneCurve | 0, 0, 32, 22, 64, 56, 128, 128, 192, 196, 255, 255 |
ToneCurveName | Medium Contrast |
Version | 4.4 |
VignetteAmount | 0 |
WhiteBalance (2) | As Shot |
WhiteBalance | Manual |