Felt | Verdi |
AlreadyApplied | True |
Aperture | 1.8 |
ApertureValue | 1.8 |
Artist | unknown |
BitsPerSample | 8 |
BlueHue | 0 |
BlueSaturation | 0 |
Brightness | +61 |
By-line | unknown |
CameraProfile | ACR 3.6 |
ChromaticAberrationB | +48 |
ChromaticAberrationR | +31 |
CircleOfConfusion | 0.019 mm |
ColorComponents | 3 |
ColorMode | RGB |
ColorSpace (1) | Unknown (-1) |
ColorSpace | Uncalibrated |
ColorTemperature | 2000 |
Contrast | +26 |
ConvertToGrayscale | True |
CopyrightFlag | False |
CreateDate (1) | 2008:09:02 00:17:45+02:00 |
CreateDate | 2008:09:01 21:46:24 |
Creator | unknown |
CreatorTool | Adobe Photoshop CS3 Macintosh |
CustomRendered | Normal |
DateTimeDigitized | 2008:09:01 21:46:24+02:00 |
DateTimeOriginal (1) | 2008:09:01 21:46:24+02:00 |
DateTimeOriginal | 2008:09:01 21:46:24 |
DerivedFrom | |
ExifImageHeight | 1575 |
ExifImageWidth | 2362 |
Exposure | -0.75 |
ExposureCompensation | 0 |
ExposureMode | Manual |
ExposureProgram | Manual |
ExposureTime | 1/80 |
FillLight | 0 |
Firmware | 1.0.5 |
Flash | Off, Did not fire |
FlashCompensation | 0 |
FlashFired | False |
FlashFunction | False |
FlashMode | Off |
FlashRedEyeMode | False |
FlashReturn | No return detection |
FNumber | 1.8 |
FocalLength | 50.0 mm |
FocalLength35efl | 50.0 mm (35 mm equivalent: 80.9 mm) |
Format | image/jpeg |
FOV | 25.1 deg |
GrayMixerAqua | -20 |
GrayMixerBlue | +5 |
GrayMixerGreen | +12 |
GrayMixerMagenta | +7 |
GrayMixerOrange | +40 |
GrayMixerPurple | +14 |
GrayMixerRed | -11 |
GrayMixerYellow | +23 |
GreenHue | 0 |
GreenSaturation | 0 |
HasCrop | False |
HasSettings | True |
HighlightRecovery | 100 |
HyperfocalDistance | 74.81 m |
ICCProfileName | Adobe RGB (1998) |
ImageHeight | 1575 |
ImageNumber | 240 |
ImageSize | 2362x1575 |
ImageWidth | 2362 |
ISO | 1600 |
Lens | EF50mm f/1.4 USM |
LensInfo | 50mm f/? |
LightValue | 4.0 |
LuminanceSmoothing | 26 |
Make | Canon |
MaxApertureValue | 1.4 |
Megapixels | 3.7 |
MeteringMode | Multi-segment |
Model | Canon EOS 400D DIGITAL |
ModifyDate (1) | 2008:09:02 00:17:45+02:00 |
ModifyDate | 2008:09:02 00:17:45 |
Orientation | Horizontal (normal) |
OwnerName | unknown |
ParametricDarks | 0 |
ParametricHighlights | 0 |
ParametricHighlightSplit | 75 |
ParametricLights | 0 |
ParametricMidtoneSplit | 50 |
ParametricShadows | 0 |
ParametricShadowSplit | 25 |
ProfileDescription | Adobe RGB (1998) |
Rating | 0 |
RawFileName | _MG_1679.CR2 |
RedHue | 0 |
RedSaturation | 0 |
ScaleFactor35efl | 1.6 |
SceneCaptureType | Standard |
SerialNumber | 1130638239 |
Shadows | 13 |
ShadowTint | 0 |
Sharpness | 70 |
ShutterSpeed | 1/80 |
ShutterSpeedValue | 1/80 |
SidecarForExtension | CR2 |
Software | Adobe Photoshop CS3 Macintosh |
SplitToningBalance | 0 |
SplitToningHighlightHue | 75 |
SplitToningHighlightSaturation | 15 |
SplitToningShadowHue | 278 |
SplitToningShadowSaturation | 9 |
TimeZoneOffset | 2 2 |
Tint | +150 |
ToneCurve | 0, 0, 32, 16, 64, 50, 128, 128, 192, 202, 255, 255 |
ToneCurveName | Strong Contrast |
URL_List | |
Version | 4.0 |
VignetteAmount | -86 |
VignetteMidpoint | 50 |
WhiteBalance (2) | Custom |
WhiteBalance | Auto |