Felt | Verdi |
AlreadyApplied | True |
Aperture | 11.0 |
ApertureValue | 11.0 |
Artist | Robin Strand |
BitsPerSample | 8 |
BlueHue | 0 |
BlueSaturation | 0 |
Brightness | +50 |
By-line | Robin Strand |
CameraProfile | ACR 4.4 |
CFAPattern | [Red,Green][Green,Blue] |
ChromaticAberrationB | 0 |
ChromaticAberrationR | -3 |
CircleOfConfusion | 0.020 mm |
Clarity | +56 |
ColorComponents | 3 |
ColorMode | RGB |
ColorNoiseReduction | 19 |
ColorSpace | sRGB |
ColorTemperature | 5550 |
Contrast (2) | +25 |
Contrast | Normal |
ConvertToGrayscale | False |
Copyright | Robin Strand NorPhoto AS |
CopyrightFlag | False |
CopyrightNotice | Robin Strand NorPhoto AS |
CreateDate (1) | 2008:09:26 00:08+02:00 |
CreateDate | 2008:09:25 15:31:14 |
Creator | Robin Strand |
CreatorTool | Adobe Photoshop CS3 Windows |
CustomRendered | Normal |
DateTimeDigitized | 2008:09:25 15:31:14.39+02:00 |
DateTimeOriginal (1) | 2008:09:25 15:31:14.39+02:00 |
DateTimeOriginal | 2008:09:25 15:31:14 |
Defringe | 0 |
DigitalZoomRatio | 1 |
ExifImageHeight | 797 |
ExifImageWidth | 1200 |
Exposure | +0.15 |
ExposureCompensation | 0 |
ExposureMode | Auto |
ExposureProgram | Aperture-priority AE |
ExposureTime | 1/60 |
FillLight | 0 |
Flash | No Flash |
FlashFired | False |
FlashFunction | False |
FlashMode | Unknown |
FlashRedEyeMode | False |
FlashReturn | No return detection |
FNumber | 11.0 |
FocalLength | 28.0 mm |
FocalLength35efl | 28.0 mm (35 mm equivalent: 42.0 mm) |
FocalLengthIn35mmFormat | 42 mm |
Format | image/jpeg |
FOV | 46.4 deg |
GainControl | None |
GreenHue | 0 |
GreenSaturation | 0 |
HasCrop | False |
HasSettings | True |
HighlightRecovery | 14 |
HueAdjustmentAqua | 0 |
HueAdjustmentBlue | 0 |
HueAdjustmentGreen | 0 |
HueAdjustmentMagenta | 0 |
HueAdjustmentOrange | 0 |
HueAdjustmentPurple | 0 |
HueAdjustmentRed | 0 |
HueAdjustmentYellow | 0 |
HyperfocalDistance | 3.56 m |
ICCProfileName | sRGB IEC61966-2.1 |
ImageHeight | 797 |
ImageNumber | 11443 |
ImageSize | 1200x797 |
ImageWidth | 1200 |
ISO | 200 |
Keywords | høst, skagastølstindene, turtagrø |
LastKeywordXMP | høst, skagastølstindene, turtagrø |
Lens | 16.0-85.0 mm f/3.5-5.6 |
LensInfo | 16-85mm f/3.5-5.6 |
LightSource | Fine Weather |
LightValue | 11.8 |
LuminanceAdjustmentAqua | 0 |
LuminanceAdjustmentBlue | 0 |
LuminanceAdjustmentGreen | 0 |
LuminanceAdjustmentMagenta | 0 |
LuminanceAdjustmentOrange | 0 |
LuminanceAdjustmentPurple | 0 |
LuminanceAdjustmentRed | 0 |
LuminanceAdjustmentYellow | 0 |
LuminanceSmoothing | 0 |
Make | NIKON CORPORATION |
MaxApertureValue | 4.1 |
Megapixels | 0.956 |
MeteringMode | Multi-segment |
Model | NIKON D300 |
ModifyDate (1) | 2008:09:26 00:08+02:00 |
ModifyDate | 2008:09:26 00:08:00 |
Orientation | Horizontal (normal) |
ParametricDarks | 0 |
ParametricHighlights | 0 |
ParametricHighlightSplit | 75 |
ParametricLights | 0 |
ParametricMidtoneSplit | 50 |
ParametricShadows | 0 |
ParametricShadowSplit | 25 |
PostCropVignetteAmount | 0 |
ProfileDescription | sRGB IEC61966-2.1 |
Rating | 0 |
RawFileName | 300_1124.NEF |
RedHue | 0 |
RedSaturation | 0 |
Rights | Robin Strand NorPhoto AS |
Saturation (2) | +8 |
Saturation | Normal |
SaturationAdjustmentAqua | 0 |
SaturationAdjustmentBlue | 0 |
SaturationAdjustmentGreen | 0 |
SaturationAdjustmentMagenta | 0 |
SaturationAdjustmentOrange | 0 |
SaturationAdjustmentPurple | 0 |
SaturationAdjustmentRed | 0 |
SaturationAdjustmentYellow | 0 |
ScaleFactor35efl | 1.5 |
SceneCaptureType | Standard |
SceneType | Directly photographed |
SensingMethod | One-chip color area |
SerialNumber | 4032929 |
Shadows | 6 |
ShadowTint | 0 |
SharpenDetail | 25 |
SharpenEdgeMasking | 0 |
SharpenRadius | +1.0 |
Sharpness (2) | 5 |
Sharpness | Normal |
ShutterSpeed | 1/60 |
ShutterSpeedValue | 1/60 |
Software | Adobe Photoshop CS3 Windows |
SplitToningBalance | 0 |
SplitToningHighlightHue | 0 |
SplitToningHighlightSaturation | 0 |
SplitToningShadowHue | 0 |
SplitToningShadowSaturation | 0 |
Subject | høst, skagastølstindene, turtagrø |
SubjectDistanceRange | Unknown |
Tint | +4 |
ToneCurve | 0, 0, 45, 34, 63, 54, 128, 128, 192, 202, 255, 255 |
ToneCurveName | Custom |
URL_List | |
UserComment (1) | 䈀椀氀搀攀爀 昀爀愀 攀渀 昀漀琀漀琀甀爀 琀椀氀 搀椀瘀攀爀猀攀 昀樀攀氀氀漀洀爀搀攀爀 椀 匀爀ⴀ一漀爀最攀 猀攀瀀琀 ㈀ 㠀⸀ |
UserComment | Bilder fra en fototur til diverse fjellområder i Sør-Norge sept 2008. |
Version | 4.5 |
Vibrance | +37 |
VignetteAmount | 0 |
WhiteBalance (2) | Custom |
WhiteBalance | Manual |