Felt | Verdi |
AlreadyApplied | True |
Aperture | 2.8 |
ApertureValue | 2.8 |
BitsPerSample | 8 |
BlueHue | 0 |
BlueSaturation | 0 |
Brightness | 0 |
CameraProfile | Embedded |
ChromaticAberrationB | 0 |
ChromaticAberrationR | 0 |
Clarity | 0 |
ColorComponents | 3 |
ColorNoiseReduction | 46 |
ColorSpace | Uncalibrated |
CompressedBitsPerPixel | 8 |
Contrast (1) | 2 |
Contrast | 0 |
ConvertToGrayscale | False |
CopyrightFlag | False |
CreateDate (1) | 2008:08:17 22:22:07+01:00 |
CreateDate | 2008:08:17 00:00:00 |
CreatorTool | Adobe Photoshop CS Windows |
CustomRendered | 0 |
DateTimeDigitized | 2008:08:17 00:00:00+01:00 |
DateTimeOriginal (1) | 2008:08:17 00:00:00+01:00 |
DateTimeOriginal | 2008:08:17 00:00:00 |
Defringe | 0 |
ExifImageHeight | 680 |
ExifImageWidth | 510 |
Exposure | +0.34 |
ExposureCompensation | +0.3 |
ExposureMode | 1 |
ExposureProgram | Aperture-priority AE |
ExposureTime | 1/250 |
FillLight | 55 |
Flash | Off, Did not fire |
FlashFired | False |
FlashFunction | False |
FlashMode | Off |
FlashRedEyeMode | False |
FlashReturn | No return detection |
FNumber | 2.8 |
FocalLength | 51.0 mm |
FocalLength35efl | 51.0 mm |
Format | image/jpeg |
GreenHue | 0 |
GreenSaturation | 0 |
HasCrop | False |
HasSettings | True |
HighlightRecovery | 38 |
HueAdjustmentAqua | 0 |
HueAdjustmentBlue | 0 |
HueAdjustmentGreen | 0 |
HueAdjustmentMagenta | 0 |
HueAdjustmentOrange | 0 |
HueAdjustmentPurple | 0 |
HueAdjustmentRed | 0 |
HueAdjustmentYellow | 0 |
ImageHeight (1) | 3264 |
ImageHeight | 680 |
ImageSize | 510x680 |
ImageWidth (1) | 2448 |
ImageWidth | 510 |
IncrementalTemperature | 0 |
IncrementalTint | +14 |
ISO | 100 |
LightSource | Cloudy |
LightValue | 10.9 |
LuminanceAdjustmentAqua | 0 |
LuminanceAdjustmentBlue | 0 |
LuminanceAdjustmentGreen | 0 |
LuminanceAdjustmentMagenta | 0 |
LuminanceAdjustmentOrange | 0 |
LuminanceAdjustmentPurple | 0 |
LuminanceAdjustmentRed | 0 |
LuminanceAdjustmentYellow | 0 |
LuminanceSmoothing | 40 |
Make | SONY |
MaxApertureValue | 2.0 |
Megapixels | 0.347 |
MeteringMode | Center-weighted average |
Model | DSC-F828 |
ModifyDate (1) | 2008:08:17 22:22:07+01:00 |
ModifyDate | 2008:08:17 22:22:07 |
Orientation | Horizontal (normal) |
ParametricDarks | 0 |
ParametricHighlights | 0 |
ParametricHighlightSplit | 75 |
ParametricLights | 0 |
ParametricMidtoneSplit | 50 |
ParametricShadows | 0 |
ParametricShadowSplit | 25 |
ProfileDescription | Adobe RGB (1998) |
RedHue | 0 |
RedSaturation | 0 |
Saturation (1) | 2 |
Saturation | -36 |
SaturationAdjustmentAqua | 0 |
SaturationAdjustmentBlue | 0 |
SaturationAdjustmentGreen | 0 |
SaturationAdjustmentMagenta | 0 |
SaturationAdjustmentOrange | 0 |
SaturationAdjustmentPurple | 0 |
SaturationAdjustmentRed | 0 |
SaturationAdjustmentYellow | 0 |
SceneCaptureType | 0 |
SceneType | Directly photographed |
Shadows | 35 |
ShadowTint | 0 |
SharpenDetail | 25 |
SharpenEdgeMasking | 0 |
SharpenRadius | +1.0 |
Sharpness (1) | 0 |
Sharpness | 48 |
ShutterSpeed | 1/250 |
ShutterSpeedValue | 1/250 |
Software | Adobe Photoshop CS Windows |
SplitToningBalance | 0 |
SplitToningHighlightHue | 0 |
SplitToningHighlightSaturation | 0 |
SplitToningShadowHue | 56 |
SplitToningShadowSaturation | 7 |
ToneCurve | 0, 0, 255, 255 |
ToneCurveName | Linear |
URL_List | |
Version | 4.4 |
Vibrance | -36 |
VignetteAmount | -100 |
VignetteMidpoint | 43 |
WhiteBalance (1) | 1 |
WhiteBalance | Custom |