Felt | Verdi |
AlreadyApplied | True |
Aperture | 2.8 |
ApertureValue | 2.8 |
Artist | Picasa 3.0 |
BitsPerSample | 8 |
BlueHue | +11 |
BlueSaturation | -21 |
Brightness | +64 |
By-line | Picasa 3.0 |
CameraProfile | ACR 2.4 |
ChromaticAberrationB | 0 |
ChromaticAberrationR | 0 |
CircleOfConfusion | 0.019 mm |
Clarity | 0 |
ColorComponents | 3 |
Contrast | +32 |
ConvertToGrayscale | True |
Creator | Picasa 3.0 |
CreatorTool | Adobe Photoshop Lightroom |
DateTimeOriginal (1) | 2008:10:06 14:53:47+02:00 |
DateTimeOriginal | 2008:10:06 14:53:47 |
Defringe | 0 |
Exposure | 0.00 |
ExposureTime | 1/2500 |
FillLight | 0 |
Flash | Off, Did not fire |
FlashFired | False |
FlashFunction | False |
FlashMode | Off |
FlashRedEyeMode | False |
FlashReturn | No return detection |
FNumber | 2.8 |
FocalLength | 17.0 mm |
FocalLength35efl | 17.0 mm (35 mm equivalent: 27.0 mm) |
FocalLengthIn35mmFormat | 27 mm |
FOV | 67.4 deg |
GrayMixerAqua | +2 |
GrayMixerBlue | +19 |
GrayMixerGreen | 0 |
GrayMixerMagenta | +30 |
GrayMixerOrange | +8 |
GrayMixerPurple | +25 |
GrayMixerRed | +34 |
GrayMixerYellow | -12 |
GreenHue | +16 |
GreenSaturation | +51 |
HasCrop | False |
HasSettings | True |
HighlightRecovery | 0 |
HyperfocalDistance | 5.46 m |
ImageHeight | 3474 |
ImageSize | 2314x3474 |
ImageWidth | 2314 |
IncrementalTemperature | 0 |
IncrementalTint | 0 |
ISO | 400 |
LightValue | 12.3 |
LuminanceSmoothing | 0 |
Make | Canon |
Megapixels | 8.0 |
MeteringMode | Multi-segment |
Model | EOS 350D DIGITAL |
ModifyDate (1) | 2008:10:06 21:14:46+02:00 |
ModifyDate | 2008:10:06 21:14:46 |
ParametricDarks | 0 |
ParametricHighlights | 0 |
ParametricHighlightSplit | 75 |
ParametricLights | -2 |
ParametricMidtoneSplit | 50 |
ParametricShadows | 0 |
ParametricShadowSplit | 25 |
ProfileDescription | Adobe RGB (1998) |
RedHue | +23 |
RedSaturation | +10 |
ScaleFactor35efl | 1.6 |
Shadows | 10 |
ShadowTint | +4 |
SharpenDetail | 25 |
SharpenEdgeMasking | 0 |
SharpenRadius | +1.0 |
Sharpness | 25 |
ShutterSpeed | 1/2500 |
ShutterSpeedValue | 1/2500 |
Software | Picasa 3.0 |
SplitToningBalance | 0 |
SplitToningHighlightHue | 215 |
SplitToningHighlightSaturation | 32 |
SplitToningShadowHue | 240 |
SplitToningShadowSaturation | 29 |
ToneCurve | 0, 0, 255, 255 |
ToneCurveName | Linear |
Version | 1.0 |
VignetteAmount | -100 |
VignetteMidpoint | 40 |
WhiteBalance | As Shot |