Felt | Verdi |
AlreadyApplied | True |
Aperture | 13.0 |
ApertureValue | 13.0 |
Artist | unknown |
BitsPerSample | 8 |
BlueHue | -5 |
BlueSaturation | -10 |
Brightness | 0 |
CameraProfile | Embedded |
ChromaticAberrationB | 0 |
ChromaticAberrationR | 0 |
CircleOfConfusion | 0.019 mm |
Clarity | 100 |
ColorComponents | 3 |
ColorNoiseReduction | 0 |
Contrast | +45 |
ConvertToGrayscale | True |
CreateDate | 2008:05:04 14:34:53 |
Creator | unknown |
CreatorTool | Adobe Photoshop Lightroom |
CropAngle | 0 |
CropBottom | 0.896861 |
CropHeight | 2325 |
CropLeft | 0 |
CropRight | 1 |
CropTop | 0 |
CropUnit | pixels |
CropWidth | 3888 |
CustomRendered | Normal |
DateTimeDigitized | 2008:05:04 14:34:53+02:00 |
DateTimeOriginal (1) | 2008:05:04 14:34:53+02:00 |
DateTimeOriginal | 2008:05:04 14:34:53 |
Defringe | 0 |
Exposure | -0.38 |
ExposureCompensation | 0 |
ExposureMode | Auto |
ExposureProgram | Not Defined |
ExposureTime | 1/200 |
FillLight | 0 |
Firmware | 1.1.0 |
Flash (1) |
Flash (2) | Auto, Fired, Red-eye reduction |
Flash | No Flash |
FlashCompensation | 0 |
FNumber | 13.0 |
FocalLength | 43.0 mm |
FocalLength35efl | 43.0 mm (35 mm equivalent: 69.6 mm) |
FOV | 29.0 deg |
GrayMixerAqua | -20 |
GrayMixerBlue | +48 |
GrayMixerGreen | -25 |
GrayMixerMagenta | +6 |
GrayMixerOrange | -24 |
GrayMixerPurple | +100 |
GrayMixerRed | -12 |
GrayMixerYellow | -38 |
GreenHue | 0 |
GreenSaturation | 0 |
HasCrop | True |
HasSettings | True |
HighlightRecovery | 18 |
HyperfocalDistance | 7.66 m |
ImageHeight | 2325 |
ImageNumber | 32 |
ImageSize | 3888x2325 |
ImageWidth | 3888 |
IncrementalTemperature | 0 |
IncrementalTint | 0 |
ISO | 400 |
Lens | EF-S18-55mm f/3.5-5.6 |
LensInfo | 18-55mm f/? |
LightValue | 13.0 |
LuminanceSmoothing | 0 |
Make | Canon |
MaxApertureValue | 4.5 |
Megapixels | 9.0 |
MeteringMode | Multi-segment |
Model | Canon EOS 400D DIGITAL |
ModifyDate (1) | 2008:10:25 01:43:59+02:00 |
ModifyDate | 2008:10:25 01:53:40 |
OwnerName | unknown |
ParametricDarks | -29 |
ParametricHighlights | +26 |
ParametricHighlightSplit | 75 |
ParametricLights | +14 |
ParametricMidtoneSplit | 50 |
ParametricShadows | -29 |
ParametricShadowSplit | 25 |
ProfileDescription | sRGB IEC61966-2.1 |
RedHue | -12 |
RedSaturation | +100 |
ScaleFactor35efl | 1.6 |
SceneCaptureType | Standard |
SerialNumber | 1581045767 |
Shadows | 13 |
ShadowTint | 0 |
SharpenDetail | 25 |
SharpenEdgeMasking | 0 |
SharpenRadius | +1.0 |
Sharpness | 0 |
ShutterSpeed | 1/200 |
ShutterSpeedValue | 1/200 |
SplitToningBalance | 0 |
SplitToningHighlightHue | 51 |
SplitToningHighlightSaturation | 48 |
SplitToningShadowHue | 283 |
SplitToningShadowSaturation | 18 |
ToneCurve | 0, 0, 255, 255 |
ToneCurveName | Linear |
Version | 4.4.1 |
VignetteAmount | -100 |
VignetteMidpoint | 0 |
WhiteBalance (2) | Custom |
WhiteBalance | Auto |