Felt | Verdi |
AlreadyApplied | True |
Aperture | 5.6 |
ApertureValue | 5.6 |
BitsPerSample | 8 |
BlueHue | -5 |
BlueSaturation | -10 |
Brightness | 0 |
CameraProfile | Embedded |
ChromaticAberrationB | 0 |
ChromaticAberrationR | 0 |
CircleOfConfusion | 0.005 mm |
Clarity | 100 |
ColorComponents | 3 |
ColorNoiseReduction | 0 |
Contrast (2) | +30 |
Contrast | Normal |
ConvertToGrayscale | False |
CreateDate | 2007:04:30 15:30:24 |
CreatorTool | Adobe Photoshop Lightroom |
CustomRendered | Custom |
DateTimeDigitized | 2007:04:30 15:30:24+02:00 |
DateTimeOriginal (1) | 2007:04:30 15:30:24+02:00 |
DateTimeOriginal | 2007:04:30 15:30:24 |
Defringe | 0 |
DigitalZoomRatio | 0 |
Exposure | 0.00 |
ExposureCompensation | 0 |
ExposureMode | Auto |
ExposureProgram | Program AE |
ExposureTime | 1/320 |
FillLight | 0 |
Flash (1) |
Flash (2) | Auto, Did not fire |
Flash | No Flash |
FNumber | 5.6 |
FocalLength | 6.1 mm |
FocalLength35efl | 6.1 mm (35 mm equivalent: 37.0 mm) |
FocalLengthIn35mmFormat | 37 mm |
FOV | 51.9 deg |
GainControl | None |
GreenHue | 0 |
GreenSaturation | 0 |
HasCrop | False |
HasSettings | True |
HighlightRecovery | 7 |
HueAdjustmentAqua | 0 |
HueAdjustmentBlue | 0 |
HueAdjustmentGreen | 0 |
HueAdjustmentMagenta | 0 |
HueAdjustmentOrange | -19 |
HueAdjustmentPurple | 0 |
HueAdjustmentRed | +7 |
HueAdjustmentYellow | +24 |
HyperfocalDistance | 1.34 m |
ImageHeight (1) | 2304 |
ImageHeight | 2408 |
ImageSize | 1806x2408 |
ImageWidth (1) | 1728 |
ImageWidth | 1806 |
IncrementalTemperature | +5 |
IncrementalTint | 0 |
ISO | 64 |
LightSource | Unknown |
LightValue | 13.9 |
LuminanceAdjustmentAqua | 0 |
LuminanceAdjustmentBlue | 0 |
LuminanceAdjustmentGreen | 0 |
LuminanceAdjustmentMagenta | 0 |
LuminanceAdjustmentOrange | 0 |
LuminanceAdjustmentPurple | 0 |
LuminanceAdjustmentRed | 0 |
LuminanceAdjustmentYellow | 0 |
LuminanceSmoothing | 0 |
Make | Panasonic |
MaxApertureValue | 2.8 |
Megapixels | 4.3 |
MeteringMode | Multi-segment |
Model | DMC-LZ1 |
ModifyDate (1) | 2008:10:22 16:54:20+02:00 |
ModifyDate | 2008:10:22 17:05:33 |
ParametricDarks | -20 |
ParametricHighlights | 0 |
ParametricHighlightSplit | 75 |
ParametricLights | +16 |
ParametricMidtoneSplit | 50 |
ParametricShadows | 0 |
ParametricShadowSplit | 25 |
ProfileDescription | sRGB IEC61966-2.1 |
RedHue | -12 |
RedSaturation | -40 |
Saturation (2) | 0 |
Saturation | Normal |
SaturationAdjustmentAqua | 0 |
SaturationAdjustmentBlue | 0 |
SaturationAdjustmentGreen | 0 |
SaturationAdjustmentMagenta | 0 |
SaturationAdjustmentOrange | 0 |
SaturationAdjustmentPurple | 0 |
SaturationAdjustmentRed | 0 |
SaturationAdjustmentYellow | 0 |
ScaleFactor35efl | 6.1 |
SceneCaptureType | Standard |
SceneType | Directly photographed |
SensingMethod | One-chip color area |
Shadows | 2 |
ShadowTint | 0 |
SharpenDetail | 25 |
SharpenEdgeMasking | 0 |
SharpenRadius | +1.0 |
Sharpness (2) | 0 |
Sharpness | Normal |
ShutterSpeed | 1/320 |
ShutterSpeedValue | 1/320 |
Software | GIMP 2.4.6 |
SplitToningBalance | 0 |
SplitToningHighlightHue | 51 |
SplitToningHighlightSaturation | 48 |
SplitToningShadowHue | 283 |
SplitToningShadowSaturation | 13 |
ToneCurve | 0, 0, 255, 255 |
ToneCurveName | Linear |
Version | 4.4.1 |
Vibrance | 0 |
VignetteAmount | -100 |
VignetteMidpoint | 21 |
WhiteBalance (2) | Custom |
WhiteBalance | Auto |