Felt | Verdi |
AlreadyApplied | True |
Aperture | 5.0 |
ApertureValue | 5.0 |
BitsPerSample (1) | 16, 16, 16 |
BitsPerSample (2) | 16 16 16 |
BitsPerSample | 8 |
BlueHue | 0 |
BlueSaturation | 0 |
Brightness | +50 |
CameraProfile | ACR 4.4 |
ChromaticAberrationB | 0 |
ChromaticAberrationR | 0 |
CircleOfConfusion | 0.019 mm |
Clarity | 10 |
ColorComponents | 3 |
ColorMode | RGB |
ColorNoiseReduction | 25 |
ColorSpace | sRGB |
ColorTemperature | 5900 |
Contrast | +45 |
ConvertToGrayscale | False |
CopyrightFlag | False |
CreateDate (1) | 2008:10:27 13:35:36+01:00 |
CreateDate | 2008:10:11 17:46:21 |
CreatorTool | Adobe Photoshop CS3 Windows |
CropAngle | 0.135431 |
CropBottom | 0.994276 |
CropHeight | 2204 |
CropLeft | 0.087551 |
CropRight | 0.661533 |
CropTop | 0.141796 |
CropUnit | pixels |
CropWidth | 2237 |
CustomRendered | Normal |
DateTimeDigitized | 2008:10:11 17:46:21.11+02:00 |
DateTimeOriginal (1) | 2008:10:11 17:46:21.11+02:00 |
DateTimeOriginal | 2008:10:11 17:46:21 |
Defringe | 0 |
ExifImageHeight | 768 |
ExifImageWidth | 779 |
Exposure | +0.38 |
ExposureCompensation | -1 |
ExposureMode | Auto |
ExposureProgram | Aperture-priority AE |
ExposureTime | 1/250 |
FillLight | 17 |
Firmware | 1.0.8 |
Flash | On, Fired |
FlashCompensation | -0.333333333333333 |
FlashFired | True |
FlashFunction | False |
FlashMode | On |
FlashRedEyeMode | False |
FlashReturn | No return detection |
FNumber | 5.0 |
FocalLength | 67.0 mm |
FocalLength35efl | 67.0 mm (35 mm equivalent: 108.5 mm) |
Format | image/jpeg |
FOV | 18.8 deg |
GreenHue | 0 |
GreenSaturation | 0 |
HasCrop | True |
HasSettings | True |
HighlightRecovery | 0 |
HueAdjustmentAqua | 0 |
HueAdjustmentBlue | 0 |
HueAdjustmentGreen | 0 |
HueAdjustmentMagenta | 0 |
HueAdjustmentOrange | 0 |
HueAdjustmentPurple | 0 |
HueAdjustmentRed | 0 |
HueAdjustmentYellow | 0 |
HyperfocalDistance | 48.37 m |
ICCProfileName | sRGB IEC61966-2.1 |
ImageHeight (2) | 2204 |
ImageHeight | 768 |
ImageNumber | 0 |
ImageSize | 779x768 |
ImageWidth (1) | 2237 |
ImageWidth | 779 |
ISO | 200 |
Lens | EF24-105mm f/4L IS USM |
LensInfo | 24-105mm f/? |
LightValue | 11.6 |
LuminanceAdjustmentAqua | 0 |
LuminanceAdjustmentBlue | 0 |
LuminanceAdjustmentGreen | 0 |
LuminanceAdjustmentMagenta | 0 |
LuminanceAdjustmentOrange | 0 |
LuminanceAdjustmentPurple | 0 |
LuminanceAdjustmentRed | 0 |
LuminanceAdjustmentYellow | 0 |
LuminanceSmoothing | 36 |
Make | Canon |
MaxApertureValue | 4.0 |
Megapixels | 0.598 |
MeteringMode | Multi-segment |
Model | Canon EOS 40D |
ModifyDate (1) | 2008:10:27 13:40:55+01:00 |
ModifyDate | 2008:10:27 13:40:55 |
Orientation | Horizontal (normal) |
ParametricDarks | 0 |
ParametricHighlights | 0 |
ParametricHighlightSplit | 75 |
ParametricLights | 0 |
ParametricMidtoneSplit | 50 |
ParametricShadows | 0 |
ParametricShadowSplit | 25 |
PhotometricInterpretation | RGB |
PlanarConfiguration | Chunky |
ProfileDescription | sRGB IEC61966-2.1 |
RedHue | 0 |
RedSaturation | 0 |
SamplesPerPixel | 3 |
Saturation | 0 |
SaturationAdjustmentAqua | 0 |
SaturationAdjustmentBlue | 0 |
SaturationAdjustmentGreen | 0 |
SaturationAdjustmentMagenta | 0 |
SaturationAdjustmentOrange | 0 |
SaturationAdjustmentPurple | 0 |
SaturationAdjustmentRed | 0 |
SaturationAdjustmentYellow | 0 |
ScaleFactor35efl | 1.6 |
SceneCaptureType | Standard |
SerialNumber | 630444448 |
Shadows | 0 |
ShadowTint | 0 |
SharpenDetail | 36 |
SharpenEdgeMasking | 0 |
SharpenRadius | +1.0 |
Sharpness | 50 |
ShutterSpeed | 1/250 |
ShutterSpeedValue | 1/250 |
Software | Adobe Photoshop CS3 Windows |
SplitToningBalance | 0 |
SplitToningHighlightHue | 0 |
SplitToningHighlightSaturation | 0 |
SplitToningShadowHue | 0 |
SplitToningShadowSaturation | 0 |
Tint | -5 |
ToneCurve | 0, 0, 32, 22, 64, 56, 128, 128, 192, 196, 255, 255 |
ToneCurveName | Medium Contrast |
URL_List | |
Version | 4.4.1 |
Vibrance | -5 |
VignetteAmount | 0 |
WhiteBalance (2) | As Shot |
WhiteBalance | Auto |