Felt | Verdi |
2008-08-23T10:01:10+02:00 File L:\stövlarna\20080819\jpg\stövlar_20080819_0171.jpg saved
2008-08-23T18:46:37+02:00 File stövlar_20080819_0171.jpg opened
2008-08-23T18:48:01+02:00 File L:\stövlarna\20080819\jpg\Ny mapp\2.jpg saved
AlreadyApplied | True |
Aperture | 4.5 |
ApertureValue | 4.5 |
Artist | www.photomic.com |
BitsPerSample | 8 |
BlueHue | 0 |
BlueSaturation | 0 |
Brightness | +50 |
By-line | www.photomic.com |
CameraProfile | ACR 2.4 |
ChromaticAberrationB | 0 |
ChromaticAberrationR | 0 |
CircleOfConfusion | 0.030 mm |
Clarity | 0 |
ColorComponents | 3 |
ColorMode | RGB |
ColorNoiseReduction | 100 |
ColorSpace (1) | Unknown (-1) |
ColorSpace | Uncalibrated |
ColorTemperature | 4750 |
Contrast | +25 |
ConvertToGrayscale | False |
Copyright | Tommy Andersson |
CopyrightFlag | False |
CopyrightNotice | Tommy Andersson |
CreateDate (1) | 2008:08:23 18:48:01+02:00 |
CreateDate | 2008:08:19 15:21:50 |
Creator | www.photomic.com, Tommy Andersson |
CreatorTool | Adobe Photoshop CS3 Windows |
CustomRendered | Normal |
DateTimeDigitized | 2008:08:19 15:21:50+02:00 |
DateTimeOriginal (1) | 2008:08:19 15:21:50+02:00 |
DateTimeOriginal | 2008:08:19 15:21:50 |
Defringe | 0 |
ExifImageHeight | 1890 |
ExifImageWidth | 1371 |
Exposure | 0.00 |
ExposureCompensation | 0 |
ExposureMode | Manual |
ExposureProgram | Manual |
ExposureTime | 1/60 |
FillLight | 19 |
Firmware | 1.1.6 |
Flash | Off, Did not fire |
FlashCompensation | 0 |
FlashFired | False |
FlashFunction | False |
FlashMode | Off |
FlashRedEyeMode | False |
FlashReturn | No return detection |
FNumber | 4.5 |
FocalLength | 200.0 mm |
FocalLength35efl | 200.0 mm (35 mm equivalent: 199.7 mm) |
Format | image/jpeg |
FOV | 10.3 deg |
GreenHue | 0 |
GreenSaturation | 0 |
HasCrop | False |
HasSettings | True |
HighlightRecovery | 29 |
HueAdjustmentAqua | 0 |
HueAdjustmentBlue | 0 |
HueAdjustmentGreen | 0 |
HueAdjustmentMagenta | 0 |
HueAdjustmentOrange | 0 |
HueAdjustmentPurple | 0 |
HueAdjustmentRed | 0 |
HueAdjustmentYellow | 0 |
HyperfocalDistance | 295.44 m |
ICCProfileName | Adobe RGB (1998) |
ImageHeight (1) | 6144 |
ImageHeight | 1890 |
ImageNumber | 57722 |
ImageSize | 1371x1890 |
ImageWidth (1) | 4096 |
ImageWidth | 1371 |
ISO | 200 |
Lens | 80.0-200.0 mm |
LensInfo | 80-200mm f/? |
LightValue | 9.2 |
LuminanceAdjustmentAqua | 0 |
LuminanceAdjustmentBlue | 0 |
LuminanceAdjustmentGreen | 0 |
LuminanceAdjustmentMagenta | 0 |
LuminanceAdjustmentOrange | 0 |
LuminanceAdjustmentPurple | 0 |
LuminanceAdjustmentRed | 0 |
LuminanceAdjustmentYellow | 0 |
LuminanceSmoothing | 0 |
Make | Canon |
MaxApertureValue | 2.8 |
Megapixels | 2.6 |
MeteringMode | Multi-segment |
Model | Canon EOS-1Ds Mark II |
ModifyDate (1) | 2008:08:23 18:48:01+02:00 |
ModifyDate | 2008:08:23 18:48:01 |
Orientation | Horizontal (normal) |
OwnerName | www.photomic.com |
ParametricDarks | 0 |
ParametricHighlights | 0 |
ParametricHighlightSplit | 75 |
ParametricLights | 0 |
ParametricMidtoneSplit | 50 |
ParametricShadows | 0 |
ParametricShadowSplit | 25 |
PreservedFileName | WX9G4525.CR2 |
ProfileDescription | Adobe RGB (1998) |
Rating | 0 |
RawFileName | stövlar_20080819_0171.CR2 |
RedHue | 0 |
RedSaturation | 0 |
Rights | Tommy Andersson |
Saturation | 0 |
SaturationAdjustmentAqua | 0 |
SaturationAdjustmentBlue | 0 |
SaturationAdjustmentGreen | 0 |
SaturationAdjustmentMagenta | 0 |
SaturationAdjustmentOrange | 0 |
SaturationAdjustmentPurple | 0 |
SaturationAdjustmentRed | 0 |
SaturationAdjustmentYellow | 0 |
ScaleFactor35efl | 1.0 |
SceneCaptureType | Standard |
SerialNumber | 314380 |
Shadows | 5 |
ShadowTint | 0 |
SharpenDetail | 25 |
SharpenEdgeMasking | 0 |
SharpenRadius | +1.0 |
Sharpness | 25 |
ShutterSpeed | 1/60 |
ShutterSpeedValue | 1/60 |
Software | Adobe Photoshop CS3 Windows |
SplitToningBalance | 0 |
SplitToningHighlightHue | 0 |
SplitToningHighlightSaturation | 0 |
SplitToningShadowHue | 0 |
SplitToningShadowSaturation | 0 |
Tint | +5 |
ToneCurve | 0, 0, 32, 22, 64, 56, 128, 128, 192, 196, 255, 255 |
ToneCurveName | Medium Contrast |
URL_List | |
Version | 4.3.1 |
Vibrance | 0 |
VignetteAmount | 0 |
WhiteBalance (2) | As Shot |
WhiteBalance | Manual |