Felt | Verdi |
AlreadyApplied | True |
Aperture | 7.1 |
ApertureValue | 7.1 |
Artist | unknown |
BitsPerSample | 8 |
BlueHue | 0 |
BlueSaturation | 0 |
Brightness | +40 |
By-line | unknown |
CameraProfile | ACR 3.4 |
ChromaticAberrationB | 0 |
ChromaticAberrationR | 0 |
CircleOfConfusion | 0.019 mm |
ColorComponents | 3 |
ColorMode | RGB |
ColorNoiseReduction | 25 |
ColorSpace (1) | Unknown (-1) |
ColorSpace | Uncalibrated |
ColorTemperature | 4500 |
Contrast | +93 |
ConvertToGrayscale | False |
CopyrightFlag | False |
CreateDate (1) | 2008:07:08 15:00:24+02:00 |
CreateDate | 2008:07:08 15:00:24 |
Creator | unknown |
CreatorTool | Adobe Photoshop CS3 Windows |
CropAngle | 0 |
CropBottom | 0.942105 |
CropLeft | 0.007018 |
CropRight | 0.815789 |
CropTop | 0.055263 |
CustomRendered | Normal |
DateTimeDigitized | 2008:07:08 15:00:24+02:00 |
DateTimeOriginal (1) | 2008:07:08 15:00:24+02:00 |
DateTimeOriginal | 2008:07:08 15:00:24 |
ExifImageHeight | 1000 |
ExifImageWidth | 731 |
Exposure | +0.35 |
ExposureCompensation | 0 |
ExposureMode | Manual |
ExposureProgram | Manual |
ExposureTime | 1/40 |
FillLight | 0 |
Firmware | 1.0.5 |
Flash | Off, Did not fire |
FlashCompensation | 0 |
FlashFired | False |
FlashFunction | False |
FlashMode | Off |
FlashRedEyeMode | False |
FlashReturn | No return detection |
FNumber | 7.1 |
FocalLength | 85.0 mm |
FocalLength35efl | 85.0 mm (35 mm equivalent: 136.1 mm) |
Format | image/jpeg |
FOV | 15.1 deg |
GreenHue | 0 |
GreenSaturation | 0 |
HasCrop | True |
HasSettings | True |
HighlightRecovery | 0 |
HueAdjustmentAqua | 0 |
HueAdjustmentBlue | 0 |
HueAdjustmentGreen | +17 |
HueAdjustmentMagenta | 0 |
HueAdjustmentOrange | 0 |
HueAdjustmentPurple | 0 |
HueAdjustmentRed | 0 |
HueAdjustmentYellow | -4 |
HyperfocalDistance | 54.24 m |
ICCProfileName | Adobe RGB (1998) |
ImageHeight (1) | 2834 |
ImageHeight | 1000 |
ImageNumber | 208 |
ImageSize | 731x1000 |
ImageWidth (1) | 2072 |
ImageWidth | 731 |
ISO | 125 |
Lens | EF-S17-85mm f/4-5.6 IS USM |
LensInfo | 17-85mm f/? |
LightValue | 10.7 |
LuminanceAdjustmentAqua | -28 |
LuminanceAdjustmentBlue | -47 |
LuminanceAdjustmentGreen | +8 |
LuminanceAdjustmentMagenta | -100 |
LuminanceAdjustmentOrange | -27 |
LuminanceAdjustmentPurple | -72 |
LuminanceAdjustmentRed | -45 |
LuminanceAdjustmentYellow | 0 |
LuminanceSmoothing | 0 |
Make | Canon |
MaxApertureValue | 5.6 |
Megapixels | 0.731 |
MeteringMode | Average |
Model | Canon EOS 30D |
ModifyDate (1) | 2008:11:19 21:06:04+01:00 |
ModifyDate | 2008:11:19 21:06:04 |
Orientation | Horizontal (normal) |
OwnerName | unknown |
ParametricDarks | 0 |
ParametricHighlights | 0 |
ParametricHighlightSplit | 75 |
ParametricLights | 0 |
ParametricMidtoneSplit | 50 |
ParametricShadows | 0 |
ParametricShadowSplit | 25 |
ProfileDescription | Adobe RGB (1998) |
RawFileName | _MG_5821.CR2 |
RedHue | 0 |
RedSaturation | 0 |
Saturation | -32 |
SaturationAdjustmentAqua | +3 |
SaturationAdjustmentBlue | -83 |
SaturationAdjustmentGreen | 0 |
SaturationAdjustmentMagenta | -100 |
SaturationAdjustmentOrange | 0 |
SaturationAdjustmentPurple | -86 |
SaturationAdjustmentRed | +18 |
SaturationAdjustmentYellow | 0 |
ScaleFactor35efl | 1.6 |
SceneCaptureType | Standard |
SerialNumber | 1830911741 |
Shadows | 29 |
ShadowTint | 0 |
Sharpness | 25 |
ShutterSpeed | 1/40 |
ShutterSpeedValue | 1/40 |
Software | Adobe Photoshop CS3 Windows |
SplitToningBalance | 0 |
SplitToningHighlightHue | 0 |
SplitToningHighlightSaturation | 0 |
SplitToningShadowHue | 0 |
SplitToningShadowSaturation | 0 |
TimeZoneOffset | 2 1 |
Tint | -11 |
ToneCurve | 0, 0, 32, 22, 64, 56, 128, 128, 192, 196, 255, 255 |
ToneCurveName | Medium Contrast |
URL_List | |
Version | 4.0 |
Vibrance | +63 |
VignetteAmount | 0 |
WhiteBalance (2) | Custom |
WhiteBalance | Auto |