Felt | Verdi |
AlreadyApplied | True |
Aperture | 9.0 |
ApertureValue | 9.0 |
Artist | unknown |
BitsPerSample | 8 |
BlueHue | 0 |
BlueSaturation | 0 |
Brightness | +50 |
By-line | unknown |
CameraProfile | ACR 4.4 |
ChromaticAberrationB | 0 |
ChromaticAberrationR | 0 |
CircleOfConfusion | 0.019 mm |
Clarity | 0 |
ColorComponents | 3 |
ColorNoiseReduction | 25 |
ColorTemperature | 6750 |
Contrast | +25 |
ConvertToGrayscale | False |
CreateDate (1) | 2008:11:26 19:14:24+01:00 |
CreateDate | 2008:11:26 19:14:24 |
Creator | unknown |
CreatorTool | Adobe Photoshop Lightroom |
CropAngle | 0.917049 |
CropBottom | 0.720245 |
CropHeight | 432 |
CropLeft | 0.293801 |
CropRight | 0.995118 |
CropTop | 0.245829 |
CropUnit | pixels |
CropWidth | 1000 |
CustomRendered | Normal |
DateTimeDigitized | 2008:11:26 19:14:24+01:00 |
DateTimeOriginal (1) | 2008:11:26 19:14:24+01:00 |
DateTimeOriginal | 2008:11:26 19:14:24 |
Defringe | 0 |
ExifImageHeight | 432 |
ExifImageWidth | 1000 |
Exposure | 0.00 |
ExposureCompensation | 0 |
ExposureMode | Manual |
ExposureProgram | Manual |
ExposureTime | 1/250 |
FillLight | 0 |
Firmware | 1.1.0 |
Flash | On, Fired |
FlashCompensation | 0 |
FlashFired | True |
FlashFunction | False |
FlashMode | On |
FlashRedEyeMode | False |
FlashReturn | No return detection |
FNumber | 9.0 |
FocalLength | 50.0 mm |
FocalLength35efl | 50.0 mm (35 mm equivalent: 80.1 mm) |
FOV | 25.3 deg |
GreenHue | 0 |
GreenSaturation | 0 |
HasCrop | True |
HasSettings | True |
HighlightRecovery | 0 |
HueAdjustmentAqua | 0 |
HueAdjustmentBlue | 0 |
HueAdjustmentGreen | 0 |
HueAdjustmentMagenta | 0 |
HueAdjustmentOrange | 0 |
HueAdjustmentPurple | 0 |
HueAdjustmentRed | 0 |
HueAdjustmentYellow | 0 |
HyperfocalDistance | 14.81 m |
ImageHeight | 432 |
ImageNumber | 76 |
ImageSize | 1000x432 |
ImageWidth | 1000 |
ISO | 100 |
Keywords | abstrakt, røyk |
Lens | 50.0 mm |
LensInfo | 50mm f/? |
LightValue | 14.3 |
LuminanceAdjustmentAqua | 0 |
LuminanceAdjustmentBlue | 0 |
LuminanceAdjustmentGreen | 0 |
LuminanceAdjustmentMagenta | 0 |
LuminanceAdjustmentOrange | 0 |
LuminanceAdjustmentPurple | 0 |
LuminanceAdjustmentRed | 0 |
LuminanceAdjustmentYellow | 0 |
LuminanceSmoothing | 30 |
Make | Canon |
Megapixels | 0.432 |
MeteringMode | Average |
Model | Canon EOS 20D |
ModifyDate (1) | 2008:11:26 19:37:54+01:00 |
ModifyDate | 2008:11:26 19:37:54 |
OwnerName | unknown |
ParametricDarks | -41 |
ParametricHighlights | 0 |
ParametricHighlightSplit | 75 |
ParametricLights | +62 |
ParametricMidtoneSplit | 50 |
ParametricShadows | -52 |
ParametricShadowSplit | 25 |
PostCropVignetteAmount | 0 |
ProfileDescription | sRGB IEC61966-2.1 |
Rating | 3 |
RedHue | 0 |
RedSaturation | 0 |
Saturation | 0 |
SaturationAdjustmentAqua | 0 |
SaturationAdjustmentBlue | 0 |
SaturationAdjustmentGreen | 0 |
SaturationAdjustmentMagenta | 0 |
SaturationAdjustmentOrange | 0 |
SaturationAdjustmentPurple | 0 |
SaturationAdjustmentRed | 0 |
SaturationAdjustmentYellow | 0 |
ScaleFactor35efl | 1.6 |
SceneCaptureType | Standard |
SerialNumber | 830410176 |
Shadows | 5 |
ShadowTint | 0 |
SharpenDetail | 25 |
SharpenEdgeMasking | 0 |
SharpenRadius | +1.0 |
Sharpness | 25 |
ShutterSpeed | 1/250 |
ShutterSpeedValue | 1/250 |
SplitToningBalance | 0 |
SplitToningHighlightHue | 244 |
SplitToningHighlightSaturation | 100 |
SplitToningShadowHue | 193 |
SplitToningShadowSaturation | 39 |
Subject | abstrakt, røyk |
Tint | +3 |
ToneCurve | 0, 0, 32, 22, 64, 56, 128, 128, 192, 196, 255, 255 |
ToneCurveName | Medium Contrast |
Version | 4.6 |
Vibrance | 0 |
VignetteAmount | 0 |
WhiteBalance (2) | As Shot |
WhiteBalance | Auto |