Felt | Verdi |
AlreadyApplied | True |
Aperture | 3.5 |
ApertureValue | 3.5 |
BitsPerSample | 8 |
BlackClip | 500.000000 |
BlueHue | 0 |
BlueSaturation | 0 |
Brightness | 0 |
CameraProfile | Embedded |
ChromaticAberrationB | 0 |
ChromaticAberrationR | 0 |
Clarity | -100 |
ColorComponents | 1 |
ColorNoiseReduction | 0 |
ColorSaturation | 0 |
Contrast | +48 |
ConvertToGrayscale | False |
CreateDate | 2008:11:30 14:12:11+01:00 |
CreatorTool | Adobe Photoshop Lightroom |
CropAngle | -0.561935 |
CropBottom | 0.845881 |
CropHeight | 2339 |
CropLeft | 0.004211 |
CropRight | 0.839892 |
CropTop | 0.036804 |
CropUnit | pixels |
CropWidth | 3560 |
DateTimeOriginal (1) | 2008:11:30 14:12:11+01:00 |
DateTimeOriginal | 2008:11:30 14:12:11 |
Defringe | 0 |
ExifImageHeight | 2339 |
ExifImageWidth | 3560 |
Exposure | 0.00 |
ExposureTime | 1/30 |
FillLight | 0 |
FNumber | 3.5 |
FocalLength | 18.0 mm |
FocalLength35efl | 18.0 mm |
GreenHue | 0 |
GreenSaturation | 0 |
HasCrop | True |
HasSettings | True |
HighlightRecovery | 0 |
HueAdjustmentAqua | 0 |
HueAdjustmentBlue | 0 |
HueAdjustmentGreen | 0 |
HueAdjustmentMagenta | 0 |
HueAdjustmentOrange | 0 |
HueAdjustmentPurple | 0 |
HueAdjustmentRed | 0 |
HueAdjustmentYellow | 0 |
ImageHeight | 2339 |
ImageSize | 3560x2339 |
ImageWidth | 3560 |
IncrementalTemperature | 0 |
IncrementalTint | 0 |
LuminanceAdjustmentAqua | 0 |
LuminanceAdjustmentBlue | 0 |
LuminanceAdjustmentGreen | 0 |
LuminanceAdjustmentMagenta | 0 |
LuminanceAdjustmentOrange | 0 |
LuminanceAdjustmentPurple | 0 |
LuminanceAdjustmentRed | 0 |
LuminanceAdjustmentYellow | 0 |
LuminanceSmoothing | 0 |
Luminosity | -10 |
Megapixels | 8.3 |
Method | Details Enhancer |
Microcontrast | Low |
Microsmoothing | 30 |
Model | NIKON D300 |
ModifyDate (1) | 2008:11:30 19:17:05+01:00 |
ModifyDate | 2008:11:30 19:17:05 |
ParametricDarks | +1 |
ParametricHighlights | -20 |
ParametricHighlightSplit | 75 |
ParametricLights | +37 |
ParametricMidtoneSplit | 50 |
ParametricShadows | -32 |
ParametricShadowSplit | 25 |
PostCropVignetteAmount | -40 |
PostCropVignetteFeather | 83 |
PostCropVignetteMidpoint | 40 |
PostCropVignetteRoundness | 0 |
ProfileDescription | sRGB IEC61966-2.1 |
RedHue | 0 |
RedSaturation | 0 |
Saturation | 0 |
SaturationAdjustmentAqua | 0 |
SaturationAdjustmentBlue | 0 |
SaturationAdjustmentGreen | 0 |
SaturationAdjustmentMagenta | 0 |
SaturationAdjustmentOrange | 0 |
SaturationAdjustmentPurple | 0 |
SaturationAdjustmentRed | 0 |
SaturationAdjustmentYellow | 0 |
Shadows | 0 |
ShadowTint | 0 |
SharpenDetail | 95 |
SharpenEdgeMasking | 0 |
SharpenRadius | +0.9 |
Sharpness | 55 |
ShutterSpeed | 1/30 |
ShutterSpeedValue | 1/30 |
Smoothing | Low |
SplitToningBalance | 0 |
SplitToningHighlightHue | 0 |
SplitToningHighlightSaturation | 0 |
SplitToningShadowHue | 0 |
SplitToningShadowSaturation | 0 |
Strength | 85 |
ToneCurve | 0, 0, 255, 255 |
ToneCurveName | Linear |
Version (1) | 2.4 |
Version | 4.5 |
Vibrance | 0 |
VignetteAmount | -100 |
VignetteMidpoint | 33 |
WhiteBalance | As Shot |
WhiteClip | 500.000000 |