Felt | Verdi |
AlreadyApplied | True |
Aperture | 6.7 |
ApertureValue | 6.7 |
BitsPerSample | 8 |
BlueHue | 0 |
BlueSaturation | -31 |
Brightness | +55 |
CameraProfile | ACR 2.4 |
CFAPattern | [Blue,Green][Green,Red] |
ChromaticAberrationB | -4 |
ChromaticAberrationR | -6 |
CircleOfConfusion | 0.020 mm |
ColorComponents | 3 |
ColorMode | RGB |
ColorNoiseReduction | 29 |
ColorSpace (1) | Unknown (-1) |
ColorSpace | Uncalibrated |
ColorTemperature | 6850 |
Contrast (1) | +31 |
Contrast | Normal |
ConvertToGrayscale | False |
CopyrightFlag | False |
CreateDate (1) | 2008:09:09 17:33:02Z |
CreateDate | 2008:01:05 14:35:14 |
CreatorTool | Adobe Photoshop CS3 Windows |
CustomRendered | Normal |
DateTimeDigitized | 2008:01:05 14:35:14.80Z |
DateTimeOriginal (1) | 2008:01:05 14:35:14.80Z |
DateTimeOriginal | 2008:01:05 14:35:14 |
DerivedFrom | |
DigitalZoomRatio | 1 |
ExifImageHeight (1) | 1519 |
ExifImageHeight | 675 |
ExifImageWidth (1) | 2250 |
ExifImageWidth | 1000 |
Exposure | +0.20 |
ExposureCompensation | 0 |
ExposureMode | Manual |
ExposureProgram | Manual |
ExposureTime | 1/6 |
FillLight | 92 |
Flash | No Flash |
FlashFired | False |
FlashFunction | False |
FlashMode | Unknown |
FlashRedEyeMode | False |
FlashReturn | No return detection |
FNumber | 6.7 |
FocalLength | 58.0 mm |
FocalLength35efl | 58.0 mm (35 mm equivalent: 87.0 mm) |
FocalLengthIn35mmFormat | 87 mm |
Format | image/jpeg |
FOV | 23.4 deg |
GainControl | None |
GreenHue | 0 |
GreenSaturation | 0 |
HasCrop | False |
HasSettings | True |
HighlightRecovery | 32 |
HueAdjustmentAqua | +43 |
HueAdjustmentBlue | -8 |
HueAdjustmentGreen | +2 |
HueAdjustmentMagenta | 0 |
HueAdjustmentOrange | +33 |
HueAdjustmentPurple | -53 |
HueAdjustmentRed | -5 |
HueAdjustmentYellow | +1 |
HyperfocalDistance | 25.07 m |
ICCProfileName | Adobe RGB (1998) |
ImageHeight | 675 |
ImageNumber | 8192 |
ImageSize | 1000x675 |
ImageWidth | 1000 |
ISO | 200 |
Lens | 28.0-200.0 mm f/3.5-5.6 |
LensInfo | 28-200mm f/3.5-5.6 |
LightSource | Cloudy |
LightValue | 7.1 |
LuminanceAdjustmentAqua | 0 |
LuminanceAdjustmentBlue | 0 |
LuminanceAdjustmentGreen | +2 |
LuminanceAdjustmentMagenta | 0 |
LuminanceAdjustmentOrange | -2 |
LuminanceAdjustmentPurple | 0 |
LuminanceAdjustmentRed | -3 |
LuminanceAdjustmentYellow | 0 |
LuminanceSmoothing | 21 |
Make | NIKON CORPORATION |
MaxApertureValue | 4.4 |
Megapixels | 0.675 |
MeteringMode | Multi-segment |
Model | NIKON D70 |
ModifyDate (1) | 2008:09:09 17:33:02Z |
ModifyDate | 2008:12:21 23:07:20 |
Orientation | Horizontal (normal) |
ParametricDarks | +8 |
ParametricHighlights | +22 |
ParametricHighlightSplit | 75 |
ParametricLights | -16 |
ParametricMidtoneSplit | 50 |
ParametricShadows | +25 |
ParametricShadowSplit | 25 |
Rating | 0 |
RawFileName | DSC_3733_1.dng |
RedHue | -2 |
RedSaturation | 0 |
Saturation (1) | -52 |
Saturation | Normal |
SaturationAdjustmentAqua | +45 |
SaturationAdjustmentBlue | -2 |
SaturationAdjustmentGreen | 0 |
SaturationAdjustmentMagenta | +2 |
SaturationAdjustmentOrange | +3 |
SaturationAdjustmentPurple | 0 |
SaturationAdjustmentRed | 0 |
SaturationAdjustmentYellow | +58 |
ScaleFactor35efl | 1.5 |
SceneCaptureType | Standard |
SceneType | Directly photographed |
SensingMethod | One-chip color area |
Shadows | 28 |
ShadowTint | 0 |
Sharpness (1) | 47 |
Sharpness | Normal |
ShutterSpeed | 1/6 |
ShutterSpeedValue | 1/6 |
Software | Adobe Photoshop 7.0 |
SplitToningBalance | 0 |
SplitToningHighlightHue | 0 |
SplitToningHighlightSaturation | 0 |
SplitToningShadowHue | 0 |
SplitToningShadowSaturation | 1 |
SubjectDistanceRange | Unknown |
TimeZoneOffset | 0 0 |
Tint | -9 |
ToneCurve | 0, 0, 36, 14, 77, 63, 112, 130, 186, 207, 255, 255 |
ToneCurveName | Custom |
URL_List | |
Version | 4.0 |
Vibrance | +16 |
VignetteAmount | -7 |
VignetteMidpoint | 46 |
WhiteBalance (1) | Custom |
WhiteBalance | Manual |